Workbook

Sheet Simul Opérateur
F2: Outil de simulation pour opérateurs / Simulatietool voor operatoren
F5: Quel rôle linguistique? / Welk is uw taalrol ?
F7: {=IFERROR(_xlfn.IFS($G$5="FR","Indiquer le nb d'ETP demandé comme votre valeur cible :",$G$5="NL","Geef het aantal VTE aan dat u als uw streefwaarde wenst :"),"Indiquez d'abord votre rôle linguistique / Eerst uw taalrol invoeren aub")} -> Indiquez d'abord votre rôle linguistique / Eerst uw taalrol invoeren aub | H7: {=IFERROR(_xlfn.IFS($G$5="FR",IF(G7<4,"Vous devez demander minimum 4 ETP !",IF(G7>6,"Vous ne pouvez pas demander plus que 6 ETP","")),$G$5="NL",IF(G7<4,"U moet minimum 4 VTE aanvragen!",IF(G7>6,"U mag niet meer dan 6 VTE aanvragen",""))),"")}
E10: =IF(G5="","",IF($G$5="FR","Attention : les opérateurs doivent obligatoirement introduire une proposition pour le financement de minimum 4 à maximum 6 ETP. ","Opgelet: de operatoren zijn verplicht een voorstel in te dienen voor de financiering van minimaal 4 en maximaal 6 VTE. ")) | K10: #VALUE!
E11: =IF(G5="","",IF($G$5="FR","Seuls les ETP affectés directement à l’action seront éligibles pour le financement, avec une affectation au minimum de 30 % d’un equivalent temps plein.", "Enkel de VTE’s die rechtstreeks aan de actie worden toegewezen, komen in aanmerking voor financiering, met een minimale toewijzing van 30% van een voltijdsequivalent."))
F15: {=_xlfn.IFS($G$5="FR","Libellé de l'indicateur",$G$5="NL","Benaming van de indicator",$G$5="","")} | G15: {=_xlfn.IFS($G$5="FR","Coût unitaire",$G$5="NL","Eenheids-kost",$G$5="","")} | H15: {=_xlfn.IFS($G$5="FR","Valeur cible par ETP",$G$5="NL","Streefwaarde per VTE",$G$5="","")} | I15: {=_xlfn.IFS($G$5="FR","Valeur cible par ETP avec "&TEXT($G$24*100,"##")&" % de déperdition",$G$5="NL","Streefwaarde per VTE met "&TEXT($G$24*100,"##")&" % uitval",$G$5="","")} | J15: =IF(G5="NL","Berekening",IF(G5="FR","Formule","")) | K15: {=_xlfn.IFS($G$5="FR","Montant maximal de la subvention demandé par l'opérateur",$G$5="NL","Maximaal aangevraagde subsidiebedrag door de operator",$G$5="","")}
F16: {=_xlfn.IFS($G$5="FR","1. Analyse de la demande et outillage",$G$5="NL","1. Analyse van de vraag en ter beschikking stellen van tools",$G$5="","")} | G16: =IF(F16="","",Input!B2) | H16: =IF(G16="","",Input!C2) | I16: =+H16 | J16: =IF(F16="","",IF($G$5="NL",(TEXT($G$7,"#,00")&" VTE x ("&TEXT(G16,"###,00 €")&" x "&TEXT(H16,"###")&")"),(TEXT($G$7,"#,00")&" ETP x ("&TEXT(G16,"###,00 €")&" x "&TEXT(H16,"###")&")"))) | K16: =IF(F16="","",$G$7*G16*H16)
F17: {=_xlfn.IFS($G$5="FR","2. Recherche d'emploi, de formation ou de stage",$G$5="NL","2. Zoektocht naar werk, opleiding of stage",$G$5="","")} | G17: =IF(F17="","",Input!B3) | H17: =IF(G17="","",Input!C3) | I17: =IF(G24="",TEXT(H17,"###"),(+(100%-G24)*H17)) | J17: =IF(F17="","",IF($G$5="NL",(TEXT($G$7,"#,00")&" VTE x ("&TEXT(G17,"###,00 €")&" x "&TEXT(H17,"###")&" x "&TEXT(H24,"0,00")&")"),(TEXT($G$7,"#0,00")&" ETP x ("&TEXT(G17,"###,00 €")&" x "&TEXT(H17,"###")&" x "&TEXT($H$24,"0,00")&")"))) | K17: =IF(F17="","",IF(G25="",0,$G$7*G17*G25))
F18: {=_xlfn.IFS($G$5="FR","3. Détermination Projet Professionnel",$G$5="NL","3. Bepaling van het beroepsproject",$G$5="","")} | G18: =IF(F18="","",Input!B4) | H18: =IF(G18="","",Input!C4) | I18: =+H18 | J18: =IF(F18="","",IF($G$5="NL",(TEXT($G$7,"#,00")&" VTE x ("&TEXT(G18,"###,00 €")&" x "&TEXT(H18,"###")&")"),(TEXT($G$7,"#,00")&" ETP x ("&TEXT(G18,"###,00 €")&" x "&TEXT(H18,"###")&")"))) | K18: =IF(F18="","",$G$7*G18*H18)
F19: {=_xlfn.IFS($G$5="FR","4. Réalisation et téléchargement d'un CV dans MyActiris",$G$5="NL","4. Opstellen en uploaden van een CV in MyActiris",$G$5="","")} | G19: =IF(F19="","",Input!B5) | H19: =IF(G19="","",Input!C5) | I19: =+H19 | J19: =IF(F19="","",IF($G$5="NL",(TEXT($G$7,"#,00")&" VTE x ("&TEXT(G19,"###,00 €")&" x "&TEXT(H19,"###")&")"),(TEXT($G$7,"#,00")&" ETP x ("&TEXT(G19,"###,00 €")&" x "&TEXT(H19,"###")&")"))) | K19: =IF(F19="","",$G$7*G19*H19)
F20: {=_xlfn.IFS($G$5="FR","5. Réalisation et téléchargement d'une lettre de motivation dans MyActiris",$G$5="NL","5. Opstellen en uploaden van een motivatiebrief in MyActiris",$G$5="","")} | G20: =IF(F20="","",Input!B6) | H20: =IF(G20="","",Input!C6) | I20: =+H20 | J20: =IF(F20="","",IF($G$5="NL",(TEXT($G$7,"#,00")&" VTE x ("&TEXT(G20,"###,00 €")&" x "&TEXT(H20,"###")&")"),(TEXT($G$7,"#,00")&" ETP x ("&TEXT(G20,"###,00 €")&" x "&TEXT(H20,"###")&")"))) | K20: =IF(F20="","",$G$7*G20*H20)
J21: {=IFERROR(_xlfn.IFS($G$5="FR","Le montant maximal pour "&TEXT($G$7,"#.###,00")&" ETP est de : ",$G$5="NL","Het maximale bedrag voor "&TEXT($G$7,"#.###,00")&" VTE bedraagt :"),"")} | K21: =SUM(K16:K20) -> 0
F24: {=IFERROR(_xlfn.IFS($G$5="FR","Note: Taux de déperdition dans la phase 2 est estimé à :",$G$5="NL","Opmerking : Uitvalpercentage in fase 2 is geraamd op :"),"")} | G24: =IF(F24="","",10%) | H24: =IF(G24="","",100%-G24)
F25: =IF(G5="NL","De streefwaarde/VTE voor fase 2 wordt :",IF(G5="FR","La valeur cible / ETP devient :","")) | G25: =IF(F25="","",H17*(100%-G24))
F27: {=IFERROR(_xlfn.IFS(G5="NL","Door de hierboven omkaderde tabel als afbeelding te kopiëren en in uw kandidaatsdossier op te nemen, beperkt u het risico op fouten !",G5="FR","En copiant le tableau encadré ci-dessus sous forme d’image et en l’intégrant à votre dossier de candidature, vous réduisez le risque d’erreurs !"),"")}

Sheet Input
A1: CU Selon Cahier des charges | B1: € | C1: nb
A2: CU1 | B2: 324.73 | C2: 105
A3: CU2 | B3: 492.95 | C3: 105
A4: CU3 | B4: 312.39 | C4: 24
A5: CU4 | B5: 109.34 | C5: 30
A6: CU5 | B6: 109.34 | C6: 20
