Workbook
Name _Hlk102562282: 'Opérations FSE+'!#REF!
Name _Hlk102562291: 'Opérations FSE+'!#REF!

Sheet Récapitulation opérations FSE+
A1: Date de production : | C1: 45730
A3: Nom de l'opération | B3: Objectif de l’opération et les réalisations escomptées ou effectives | C3: Date de début de l'opération | D3: Date d’achèvement prévue ou réelle de l’opération | E3: Fonds | F3: Objectif spécifique concerné | G3: Taux de cofinancement par l’Union | H3: Indicateur d’emplacement ou la géolocalisation de l’opération et du pays concernés | I3: Type d’intervention dans le cas de l’opération réalisée conformément à l’article 73, paragraphe 2, point g).
A4: Service Youth Guarantee | B4: =VLOOKUP(Tableau2[[#This Row],[Nom de l''opération]],Info!C:I,2,FALSE) -> Offrir aux jeunes dès leur inscription chez Actiris un kit de base, un stage ou une première expérience professionnelle de qualité afin de faciliter leur intégration rapide et durable sur le marché de l’emploi Les actions soutenues visent à outiller les jeunes dès leur inscription chez Actiris afin qu’ils puissent se positionner sur le marché de l’emploi bruxellois ou elles visent l’embauche grâce à l’acquisition d’une première expérience professionnelle formative. Dans le cadre du kit de base, entre autres les actions suivants peuvent intervenir dans le parcours des jeunes demandeurs d’emploi: • la participation à un atelier kit de base express (qui contient entre autres une aide au niveau du CV, une préparation d’entretien d’embauche (trucs et astuces), l'utilisation de MyAtiris, le matching automatique des réseaux sociaux etc.); • la passation de tests langues et la délivrance de chèques langues et Technologies de l'Information et de la Communication (TIC); • un premier entretien d’orientation; • une visite de l’espace numérique. | C4: 2022 | D4: 2027 | E4: =VLOOKUP(Tableau2[[#This Row],[Nom de l''opération]],Info!C:I,3,FALSE) -> FSE+ | F4: =VLOOKUP(Tableau2[[#This Row],[Nom de l''opération]],Info!C:I,4,FALSE) -> ESO4.1. Améliorer l’accès à l’emploi et aux mesures d’activation pour tous les demandeurs d’emploi, notamment des jeunes, en particulier par la mise en œuvre de la garantie pour la jeunesse, pour les chômeurs de longue durée et des groupes défavorisés sur le marché du travail, et pour les personnes inactives, ainsi que par la promotion de l’emploi indépendant et de l’économie sociale; | G4: =VLOOKUP(Tableau2[[#This Row],[Nom de l''opération]],Info!C:I,5,FALSE) -> 0.4 | H4: =VLOOKUP(Tableau2[[#This Row],[Nom de l''opération]],Info!C:I,6,FALSE) -> BRU | I4: =VLOOKUP(Tableau2[[#This Row],[Nom de l''opération]],Info!C:I,7,FALSE) -> 136. Soutien spécifique à l’emploi des jeunes et à l’intégration socio-économique des jeunes
A5: Conventions Premier Emploi | B5: =VLOOKUP(Tableau2[[#This Row],[Nom de l''opération]],Info!C:I,2,FALSE) -> Dans le cadre d’un « emploi formatif jeunes », l’obtention d’un stage ou une première expérience professionnelle, les actions suivantes peuvent être mises en place sur base d’une méthodologie de transition positive et concrète vers l’emploi: • premier entretien individuel; • évaluation et valorisation des compétences techniques et comportementales acquises; • élaboration d’un plan d’accompagnement; • préparation des jeunes aux entretiens; • coachings dans un objectif d’orientation; • développement de l’apprentissage concret de l’utilisation du CV et des soft skills comme la confiance en soi, la communication, l’autonomie; • l’analyse de la qualité de critères tels que l’horaire, le descriptif des tâches prévues, l’encadrement ou encore la couverture assurancielle du stagiaire; • la présélection en recherchant les candidats potentiels parmi la base de données des CE et en invitant les jeunes CE; • proposer une offre d’emploi ou de stage correspondant à ses compétences et/ou à son projet professionnel des entretiens de coaching personnalisés; • un entretien de bilan des acquis du stage; • assurer un suivi, une médiation voire une clôture du stage. Dans le cadre d’un emploi formatif aux jeunes qui facilite l’accès à un premier emploi combiné à un projet de formation, le volet administratif consiste à trouver les organismes prêts à engager des jeunes pour une durée renouvelable, établir les conventions et rembourser le salaire du jeune engagé. | C5: 2023 | D5: 2027 | E5: =VLOOKUP(Tableau2[[#This Row],[Nom de l''opération]],Info!C:I,3,FALSE) -> FSE+ | F5: =VLOOKUP(Tableau2[[#This Row],[Nom de l''opération]],Info!C:I,4,FALSE) -> ESO4.1. Améliorer l’accès à l’emploi et aux mesures d’activation pour tous les demandeurs d’emploi, notamment des jeunes, en particulier par la mise en œuvre de la garantie pour la jeunesse, pour les chômeurs de longue durée et des groupes défavorisés sur le marché du travail, et pour les personnes inactives, ainsi que par la promotion de l’emploi indépendant et de l’économie sociale; | G5: =VLOOKUP(Tableau2[[#This Row],[Nom de l''opération]],Info!C:I,5,FALSE) -> 0.4 | H5: =VLOOKUP(Tableau2[[#This Row],[Nom de l''opération]],Info!C:I,6,FALSE) -> BRU | I5: =VLOOKUP(Tableau2[[#This Row],[Nom de l''opération]],Info!C:I,7,FALSE) -> 136. Soutien spécifique à l’emploi des jeunes et à l’intégration socio-économique des jeunes
A6: Service Link | B6: =VLOOKUP(Tableau2[[#This Row],[Nom de l''opération]],Info!C:I,2,FALSE) -> Accompagner individuellement vers l’emploi les demandeurs d’emploi ayant bénéficié d’une expérience formative, d’un stage ou d’un emploi Il est important d’accompagner un chercheur d’emploi rapidement vers l’emploi après avoir bénéficié d’une expérience formative, d’un stage ou d’un emploi pour qu’il puisse (ré-)intégrer le marché de l’emploi de manière durable. Plus le temps passe, plus la probabilité d’obtenir un emploi diminue. L’ensemble des actions visent le rapprochement du marché de l’emploi et l’intégration durable sur le marché de l’emploi. La méthodologie de ces actions s’axe sur le chercheur d’emploi (CE) dans son individualité. L’accompagnement offert est personnalisé en fonction du parcours d’emploi et de formation. Le profil et les besoins du chercheur d’emploi sont le point de départ pour l’amener vers les offres d’emploi qui lui correspondent (et dans la mesure du possible vers les métiers en pénurie, les métiers porteurs, les métiers d’avenir dont les métiers liés aux enjeux climatiques) jusqu’à ce qu’il réintègre de manière durable le marché de l’emploi. Cet accompagnement peut prendre plusieurs étapes en fonction des besoins identifiés et sous forme des activités collectives et/ou individualisées: • un premier entretien de bilan individuel pour identifier les besoins et définir l’accompagnement en fonction de la situation personnelle et professionnelle; • la détermination d’un projet professionnel; • un travail de mobilisation et de développement de confiance en vue notamment de favoriser l’engagement dans une dynamique de changement vers l’emploi; • l’acquisition des compétences linguistiques, des outils, méthodes et démarches de recherche d’emploi efficace; • le matching entre le profil des chercheurs d’emploi et l'offre d'emploi, de stage, de formation qualifiante et, le cas échéant, ciblés sur les métiers porteurs, métiers en pénurie, métiers d’avenir, métiers liés aux enjeux climatiques récoltés auprès des employeurs; • un soutien et suivi individuel durant la recherche de formation, la recherche d’emploi et le maintien à l’emploi; | C6: 2022 | D6: 2027 | E6: =VLOOKUP(Tableau2[[#This Row],[Nom de l''opération]],Info!C:I,3,FALSE) -> FSE+ | F6: =VLOOKUP(Tableau2[[#This Row],[Nom de l''opération]],Info!C:I,4,FALSE) -> ESO4.1. Améliorer l’accès à l’emploi et aux mesures d’activation pour tous les demandeurs d’emploi, notamment des jeunes, en particulier par la mise en œuvre de la garantie pour la jeunesse, pour les chômeurs de longue durée et des groupes défavorisés sur le marché du travail, et pour les personnes inactives, ainsi que par la promotion de l’emploi indépendant et de l’économie sociale; | G6: =VLOOKUP(Tableau2[[#This Row],[Nom de l''opération]],Info!C:I,5,FALSE) -> 0.4 | H6: =VLOOKUP(Tableau2[[#This Row],[Nom de l''opération]],Info!C:I,6,FALSE) -> BRU | I6: =VLOOKUP(Tableau2[[#This Row],[Nom de l''opération]],Info!C:I,7,FALSE) -> 134. Mesures visant à améliorer l’accès à l’emploi
A7: Service GRAE | B7: =VLOOKUP(Tableau2[[#This Row],[Nom de l''opération]],Info!C:I,2,FALSE) -> Accompagner individuellement vers l’emploi les chercheurs d’emploi inoccupés (de longue durée) Concernant les chercheurs d’emploi de longue durée il faut mettre en place des actions individualisées pour vaincre les obstacles sociaux, psychologiques et professionnels. L’ensemble des actions visent le rapprochement du marché de l’emploi et l’intégration durable sur le marché de l’emploi. La méthodologie de ces actions s’axe sur le chercheur d’emploi (CE) dans son individualité. L’accompagnement offert est personnalisé en fonction du parcours d’emploi et de formation. Le profil et les besoins du chercheur d’emploi sont le point de départ pour l’amener vers les offres d’emploi qui lui correspondent (et dans la mesure du possible vers les métiers en pénurie, les métiers porteurs, les métiers d’avenir dont les métiers liés aux enjeux climatiques) jusqu’à ce qu’il réintègre de manière durable le marché de l’emploi. Cet accompagnement peut prendre plusieurs étapes en fonction des besoins identifiés et sous forme des activités collectives et/ou individualisées: • un premier entretien de bilan individuel pour identifier les besoins et définir l’accompagnement en fonction de la situation personnelle et professionnelle; • la détermination d’un projet professionnel; • un travail de mobilisation et de développement de confiance en vue notamment de favoriser l’engagement dans une dynamique de changement vers l’emploi; • l’acquisition des compétences linguistiques, des outils, méthodes et démarches de recherche d’emploi efficace; • le matching entre le profil des chercheurs d’emploi et l'offre d'emploi, de stage, de formation qualifiante et, le cas échéant, ciblés sur les métiers porteurs, métiers en pénurie, métiers d’avenir, métiers liés aux enjeux climatiques récoltés auprès des employeurs; • un soutien et suivi individuel durant la recherche de formation, la recherche d’emploi et le maintien à l’emploi; | C7: 2023 | D7: 2027 | E7: =VLOOKUP(Tableau2[[#This Row],[Nom de l''opération]],Info!C:I,3,FALSE) -> FSE+ | F7: =VLOOKUP(Tableau2[[#This Row],[Nom de l''opération]],Info!C:I,4,FALSE) -> ESO4.1. Améliorer l’accès à l’emploi et aux mesures d’activation pour tous les demandeurs d’emploi, notamment des jeunes, en particulier par la mise en œuvre de la garantie pour la jeunesse, pour les chômeurs de longue durée et des groupes défavorisés sur le marché du travail, et pour les personnes inactives, ainsi que par la promotion de l’emploi indépendant et de l’économie sociale; | G7: =VLOOKUP(Tableau2[[#This Row],[Nom de l''opération]],Info!C:I,5,FALSE) -> 0.4 | H7: =VLOOKUP(Tableau2[[#This Row],[Nom de l''opération]],Info!C:I,6,FALSE) -> BRU | I7: =VLOOKUP(Tableau2[[#This Row],[Nom de l''opération]],Info!C:I,7,FALSE) -> 135. Mesures visant à promouvoir l’accès des chômeurs de longue durée à l’emploi
A8: Accompagnement de jeunes NEET | B8: =VLOOKUP(Tableau2[[#This Row],[Nom de l''opération]],Info!C:I,2,FALSE) -> Accompagner les jeunes chercheurs d’emploi inoccupés, en priorité les jeunes chercheurs d’emploi peu qualifiés et éloignés du marché de l’emploi Dans le cadre de cette action, des méthodes issues du terrain sont appliquées dont l’objectif est d’atteindre un public de jeunes très éloignés du marché, de les remobiliser, de les rapprocher des institutions afin qu'ils renouent le contact et la confiance avec elles. Dans le cadre de la lutte contre le chômage des jeunes, le soutien proposé sera adapté aux réalités de vie de chaque jeune chercheur d’emploi. Le soutien s'appuie donc sur une méthodologie où le jeune est au centre plutôt que d'imposer une méthodologie issue d’un service public de l’emploi (SPE). Les actions soutenues concernent entre autres: • renouer le contact et la confiance entre le jeune en décrochage et les institutions; • élaborer un plan professionnel; • prospecter l’offre d'emploi, de stage, de formation etc.; • accompagner de manière individuelle et personnalisée et orienter vers un emploi, un stage, une formation ou une reprise; • créer des opportunités de stage ou d'emploi pour le jeune en s'appuyant sur le réseau d'employeurs; • accompagner le jeune durant l’emploi, le stage, la formation ou les études; • fournir un suivi « après orientation » afin de contribuer à la pérennité de la solution pour le jeune. | C8: 2022 | D8: 2027 | E8: =VLOOKUP(Tableau2[[#This Row],[Nom de l''opération]],Info!C:I,3,FALSE) -> FSE+ | F8: =VLOOKUP(Tableau2[[#This Row],[Nom de l''opération]],Info!C:I,4,FALSE) -> ESO4.1. Améliorer l’accès à l’emploi et aux mesures d’activation pour tous les demandeurs d’emploi, notamment des jeunes, en particulier par la mise en œuvre de la garantie pour la jeunesse, pour les chômeurs de longue durée et des groupes défavorisés sur le marché du travail, et pour les personnes inactives, ainsi que par la promotion de l’emploi indépendant et de l’économie sociale; | G8: =VLOOKUP(Tableau2[[#This Row],[Nom de l''opération]],Info!C:I,5,FALSE) -> 0.4 | H8: =VLOOKUP(Tableau2[[#This Row],[Nom de l''opération]],Info!C:I,6,FALSE) -> BRU | I8: =VLOOKUP(Tableau2[[#This Row],[Nom de l''opération]],Info!C:I,7,FALSE) -> 136. Soutien spécifique à l’emploi des jeunes et à l’intégration socio-économique des jeunes
A9: Crèches/ Structures d'Accueil | B9: =VLOOKUP(Tableau2[[#This Row],[Nom de l''opération]],Info!C:I,2,FALSE) -> Soutenir les capacités d’accueil des enfants de 0 à 3 ans de chercheurs d’emploi en formation afin de promouvoir l’inclusion sociale des jeunes enfants, et de contrer les obstacles indirects à la formation de parents qui ne peuvent pas avoir accès à une place d’accueil pour leur(s) enfant(s) en bas âge Un nombre élevé de ménages bruxellois vivent dans une situation difficile et encore plus les familles monoparentales. Les inégalités sociales sont marquées et se répercutent dans différents domaines de la vie telle que l’accès à l’accueil de la petite enfance, l’enseignement, le travail, la santé et le logement. Les familles les plus vulnérables cumulent les problématiques. L’accueil de la petite enfance est un levier reconnu dans le cadre de la lutte contre la précarité des femmes et l’exclusion des familles et favorisent l'inclusion active. En effet, l’accueil des enfants permet aux familles de mener des activités éducatives et récréatives et de donner le temps aux parents de mener des actions de la vie quotidienne (recherche logement, suivi médical , …) Le milieu d’accueil est aussi un endroit où les parents peuvent poser toute une série de questions et rencontrer d’autres parents et ainsi se créer un réseau social. Les actions soutenues peuvent être comme ci-dessous: o accueillir et informer les parents; o inscrire les familles qui accèdent aux places d’accueil et transférer les informations aux structures d’accueil; o assurer le relais des informations entre les parents et les structures d’accueil; o assurer un contact permanent avec les responsables des structures d’accueil afin d’adapter l’offre et la demande; o assurer le suivi des familles en lien avec les structures d’accueil; o veiller à l’accueil épanouissant pour l’enfant et sécurisant pour les parents. | C9: 2022 | D9: 2027 | E9: =VLOOKUP(Tableau2[[#This Row],[Nom de l''opération]],Info!C:I,3,FALSE) -> FSE+ | F9: =VLOOKUP(Tableau2[[#This Row],[Nom de l''opération]],Info!C:I,4,FALSE) -> ESO4.8. Favoriser l’inclusion active afin de promouvoir l’égalité des chances, la non-discrimination et la participation active, et améliorer l’employabilité, en particulier pour les groupes défavorisés | G9: =VLOOKUP(Tableau2[[#This Row],[Nom de l''opération]],Info!C:I,5,FALSE) -> 0.4 | H9: =VLOOKUP(Tableau2[[#This Row],[Nom de l''opération]],Info!C:I,6,FALSE) -> BRU | I9: =VLOOKUP(Tableau2[[#This Row],[Nom de l''opération]],Info!C:I,7,FALSE) -> 148. Soutien à l'éducation et à l'accueil de la petite enfance (hormis les infrastructures)
A10: CPAS Job-coaches | B10: =VLOOKUP(Tableau2[[#This Row],[Nom de l''opération]],Info!C:I,2,FALSE) -> Accompagner vers l’inclusion socio-professionnelle les personnes bénéficiant de l’aide sociale des CPAS Les bénéficiaires de l’aide sociale des CPAS sont considérés comme fragilisés par une situation sociale et économique complexe. Ces personnes doivent donc pouvoir bénéficier d’un accompagnement rapproché, global et holistique de qualité qui d’une part, intègre un volet social et un volet insertion professionnelle et d’autre part, a pour objectif principal de les sortir de la précarité et de les réintégrer de manière durable sur le marché de l’emploi. Durant ce parcours d’insertion socio-professionnelle qui se veut non linéaire, les actions d’accompagnement proposées et mises en œuvre avec le bénéficiaire de l’aide sociale du CPAS prennent en compte l'ensemble des difficultés vécues par le bénéficiaire dans sa vie quotidienne (dettes, logement, santé, situation familiale, etc.). Les actions s’appuient sur des méthodologies de travail social et des outils/référentiels ISP des CPAS permettant de travailler conjointement avec le bénéficiaire sur sa remobilisation, ses attentes, ses projets et son insertion socioprofessionnelle. Le nouveau cadre de Partenariat avec les CPAS intègre deux axes d’accompagnement pour les publics-cibles. Durant son parcours, les actions suivantes peuvent être mises en œuvre, entre autres: • des entretiens intégrant une méthodologie d’écoute et d’analyse psycho-sociale (définition d’un projet socio-professionnel) ; • valorisation des acquis de l’expérience ; • acquisition et validation des compétences ; • développement de compétences linguistiques et numériques ; • développement de compétences transversales ou « soft skills » (savoirs-être en vigueur dans le monde professionnel) ; • développement de compétences techniques ; • aide dans l’élaboration d’un CV et d’une lettre de motivation ; • actions pour se familiariser avec les outils et les techniques de recherche d’emploi ; • d’autres actions adaptées aux besoins individuels dans le but de le rapprocher du marché de l’emploi et/ou d’aboutir à une solution (emploi, stage en entreprise, validation des compétences, formation professionnelle ou reprises d’études) ; • actions visant la mise en emploi d’insertion par le CPAS en collaboration avec des partenaires, outre le fait qu’il s’agit d’une forme d’aide sociale visant la régularisation des droits sociaux, il s’agit ici d’offrir au bénéficiaire la possibilité d’expérimenter un emploi avec un contrat tout en bénéficiant d’un accompagnement spécifique, d’un Plan d’Acquisition de Compétences et de la possibilité de faire une formation qualifiante ; • Actions visant l’accompagnement rapproché du bénéficiaire en fin d’emploi d’insertion (Art60§7) afin qu’il puisse maintenir ses droits sociaux et tendre vers un emploi durable et de qualité. | C10: 2022 | D10: 2027 | E10: =VLOOKUP(Tableau2[[#This Row],[Nom de l''opération]],Info!C:I,3,FALSE) -> FSE+ | F10: =VLOOKUP(Tableau2[[#This Row],[Nom de l''opération]],Info!C:I,4,FALSE) -> ESO4.8. Favoriser l’inclusion active afin de promouvoir l’égalité des chances, la non-discrimination et la participation active, et améliorer l’employabilité, en particulier pour les groupes défavorisés | G10: =VLOOKUP(Tableau2[[#This Row],[Nom de l''opération]],Info!C:I,5,FALSE) -> 0.4 | H10: =VLOOKUP(Tableau2[[#This Row],[Nom de l''opération]],Info!C:I,6,FALSE) -> BRU | I10: =VLOOKUP(Tableau2[[#This Row],[Nom de l''opération]],Info!C:I,7,FALSE) -> 143. Mesures visant à promouvoir l'équilibre entre vie professionnelle et vie privée, y compris l'accès aux services de garde des enfants et d'aide aux personnes dépendantes
A11: JEEP | B11: =VLOOKUP(Tableau2[[#This Row],[Nom de l''opération]],Info!C:I,2,FALSE) -> Sensibiliser et informer les jeunes de moins de 30 ans à l’école sur le marché du travail afin de faciliter l’entrée dans la vie active. Cela passe également par une immersion dans la réalité de l’entreprise notamment, par le biais du job étudiant Les besoins en matière de transition identifiés se focalisent sur les difficultés liées à l’orientation du jeune durant son parcours scolaire, la crainte que les étudiants expriment vis-à-vis du monde du travail et le fossé qui existe entre le monde du travail, l’enseignement secondaire et l’enseignement supérieur. Les actions soutenues préparent les jeunes à la transition entre l’école et la vie active au travers, entre autres, d’un programme de sensibilisation et un programme d’information (workshops auprès des écoles), des séances de présentation et de sensibilisation, un accompagnement dans la construction et maturation de leur projet de vie scolaire et professionnelle et une mise en situation / une immersion dans la réalité d’une entreprise par le biais du job étudiant. | C11: 2022 | D11: 2027 | E11: =VLOOKUP(Tableau2[[#This Row],[Nom de l''opération]],Info!C:I,3,FALSE) -> FSE+ | F11: =VLOOKUP(Tableau2[[#This Row],[Nom de l''opération]],Info!C:I,4,FALSE) -> ESO4.1. Améliorer l’accès à l’emploi et aux mesures d’activation pour tous les demandeurs d’emploi, notamment des jeunes, en particulier par la mise en œuvre de la garantie pour la jeunesse, pour les chômeurs de longue durée et des groupes défavorisés sur le marché du travail, et pour les personnes inactives, ainsi que par la promotion de l’emploi indépendant et de l’économie sociale; | G11: =VLOOKUP(Tableau2[[#This Row],[Nom de l''opération]],Info!C:I,5,FALSE) -> 0.4 | H11: =VLOOKUP(Tableau2[[#This Row],[Nom de l''opération]],Info!C:I,6,FALSE) -> BRU | I11: =VLOOKUP(Tableau2[[#This Row],[Nom de l''opération]],Info!C:I,7,FALSE) -> 136. Soutien spécifique à l’emploi des jeunes et à l’intégration socio-économique des jeunes
A12: JUMP | B12: =VLOOKUP(Tableau2[[#This Row],[Nom de l''opération]],Info!C:I,2,FALSE) -> Sensibiliser et informer les jeunes de moins de 30 ans à l’école sur le marché du travail afin de faciliter l’entrée dans la vie active. Cela passe également par une immersion dans la réalité de l’entreprise notamment, par le biais du job étudiant Les besoins en matière de transition identifiés se focalisent sur les difficultés liées à l’orientation du jeune durant son parcours scolaire, la crainte que les étudiants expriment vis-à-vis du monde du travail et le fossé qui existe entre le monde du travail, l’enseignement secondaire et l’enseignement supérieur. Les actions soutenues préparent les jeunes à la transition entre l’école et la vie active au travers, entre autres, d’un programme de sensibilisation et un programme d’information (workshops auprès des écoles), des séances de présentation et de sensibilisation, un accompagnement dans la construction et maturation de leur projet de vie scolaire et professionnelle et une mise en situation / une immersion dans la réalité d’une entreprise par le biais du job étudiant. | C12: 2022 | D12: 2027 | E12: =VLOOKUP(Tableau2[[#This Row],[Nom de l''opération]],Info!C:I,3,FALSE) -> FSE+ | F12: =VLOOKUP(Tableau2[[#This Row],[Nom de l''opération]],Info!C:I,4,FALSE) -> ESO4.1. Améliorer l’accès à l’emploi et aux mesures d’activation pour tous les demandeurs d’emploi, notamment des jeunes, en particulier par la mise en œuvre de la garantie pour la jeunesse, pour les chômeurs de longue durée et des groupes défavorisés sur le marché du travail, et pour les personnes inactives, ainsi que par la promotion de l’emploi indépendant et de l’économie sociale; | G12: =VLOOKUP(Tableau2[[#This Row],[Nom de l''opération]],Info!C:I,5,FALSE) -> 0.4 | H12: =VLOOKUP(Tableau2[[#This Row],[Nom de l''opération]],Info!C:I,6,FALSE) -> BRU | I12: =VLOOKUP(Tableau2[[#This Row],[Nom de l''opération]],Info!C:I,7,FALSE) -> 136. Soutien spécifique à l’emploi des jeunes et à l’intégration socio-économique des jeunes
A13: Youth Mentoring | B13: =VLOOKUP(Tableau2[[#This Row],[Nom de l''opération]],Info!C:I,2,FALSE) -> Offrir le mentorat comme méthode d’accompagnement innovante de certains groupes de jeunes chercheurs d’emploi dans leurs parcours d’intégration professionnelle Le mentorat est une nouvelle forme de coaching dispensé par une personne expérimentée à une personne inexpérimentée. Il s’agit d’un outil d’adaptation et d’agilité au service des individus. Le mentorat propose des espaces de partage et l’échanges favorisant la créativité et l’innovation. Un mentor est une personne expérimentée (professionnellement encore active ou pas) qui accompagne bénévolement un CE de manière individuelle et intensive pour lui faire bénéficier de son soutien, conseils et réseau. Les mentors sont mobilisés via la communication générale ((presse, site web, réseaux sociaux, affiches, vidéos, etc.) ou via des séances d’information à destination des collaborateurs des entreprises ou organisations. Les futurs mentors suivent une formation afin de s’assurer d’un socle commun de compétences en vue de l’accompagnement. Sur base des informations collectées (choix du secteur, type de projet professionnel, personnalité, etc.), les duos mentor-mentee sont formés et une première rencontre est organisée. Le mentor, grâce à son profil, son expérience et son réseau, accompagne le jeune dans la définition de son projet professionnel, dans l’identification de ses compétences et des codes du monde professionnel. La relation ne devrait pas être à sens unique et le mentee peut apporter également au mentor de nouvelles pistes de réflexion et d’innovation. Le mentorat vise donc à tester la construction d'une relation de coaching entre un mentor expérimenté vers un jeune chercheur d’emploi pour partager, échanger et progresser ensemble. Il sera évalué dans quelle mesure cette relation a contribué à la mise à l’emploi d’un jeune chercheur d’emploi. L’accompagnement est basé sur une méthodologie spécifique qui consiste - pour la phase d'orientation - entre autres aux séances d’information collectives et workshops en collaboration avec des entreprises, à un screening/entretien individuel, des actions onboarding, une formation durant laquelle le participant développe ses compétences, attitudes et aptitudes, il découvre ses talents et passions et choisit un projet de rêve et le concrétise en se mettant dans la peau d’un entrepreneur. La phase mentorat prévoit des échanges individuels et collectifs entre le mentee et entre le(s) mentor(s). A la fin du parcours, chaque jeune disposera d'un plan d’action réalisable. L’innovation réside en le renforcement du rôle de l’entreprise dans l’ensemble du parcours. En effet, le monde de l’entreprise intervient au long du programme, à divers moments: • actions collectives axées autour du monde de l’entreprise: les chercheurs d’emploi sont accompagnés individuellement par leur mentor et participent à des actions collectives qui leur permettront de se rapprocher du monde de l’entreprise; • co-construction d’actions de connexion avec le monde de l’entreprise: sur base d’une méthodologie ludique axée sur l’intelligence collective, le projet invitera les jeunes à inventer, choisir, construire et organiser une initiative de connexion avec le monde de l’entreprise; • rencontres inspirantes avec des CEO’s: les chercheurs d’emploi rencontrent le CEO d’une entreprise et participent ensemble à la résolution d’un challenge. S’agissant d’innovation sociale et d’un essaie d'une nouvelle méthodologie, une évaluation de la méthodologie et de la mise-en-oeuvre du projet est prévue pour laquelle les modalités et les critères d’évaluation seront définis et présentés aux opérateurs. L’évaluation permettra une éventuelle modification de la méthodologie et une évolution du cadre du projet afin de répondre au mieux aux besoins des (jeunes) chercheurs d’emploi. Les conclusions et leçons tirées seront prises en compte dans le cadre d'une possible généralisation de ce projet. | C13: 2023 | D13: 2027 | E13: =VLOOKUP(Tableau2[[#This Row],[Nom de l''opération]],Info!C:I,3,FALSE) -> FSE+ | F13: =VLOOKUP(Tableau2[[#This Row],[Nom de l''opération]],Info!C:I,4,FALSE) -> ESO4.1. Améliorer l’accès à l’emploi et aux mesures d’activation pour tous les demandeurs d’emploi, notamment des jeunes, en particulier par la mise en œuvre de la garantie pour la jeunesse, pour les chômeurs de longue durée et des groupes défavorisés sur le marché du travail, et pour les personnes inactives, ainsi que par la promotion de l’emploi indépendant et de l’économie sociale; | G13: =VLOOKUP(Tableau2[[#This Row],[Nom de l''opération]],Info!C:I,5,FALSE) -> 0.4 | H13: =VLOOKUP(Tableau2[[#This Row],[Nom de l''opération]],Info!C:I,6,FALSE) -> BRU | I13: =VLOOKUP(Tableau2[[#This Row],[Nom de l''opération]],Info!C:I,7,FALSE) -> 136. Soutien spécifique à l’emploi des jeunes et à l’intégration socio-économique des jeunes
A14: One Stop Shop (BAPA) | B14: =VLOOKUP(Tableau2[[#This Row],[Nom de l''opération]],Info!C:I,2,FALSE) -> Offrir un parcours vers l’emploi adapté aux primo-arrivants et aux personnes étrangères via un One stop shop Le public primo arrivant (étranger majeur UE et hors UE, de moins de 65 ans, qui séjourne légalement en Belgique depuis – de 5 ans, qui est inscrit au registre national d'une commune de la RBC) et les personnes étrangères souffrent davantage de fragilité liée à la fois à la pénibilité du parcours migratoire, à la perte de repères dans le pays d’accueil, à la complexité des démarches à entreprendre et à la barrière de la langue. Un ensemble de services offerts par les Bureaux d'accueil pour les primo-arrivants (BAPA) sont rassemblés en un seul endroit (one stop shop) et sont adaptés aux besoins des personnes inscrites dans un parcours d’accueil des structures bruxelloises, ayant une volonté et une capacité d’insertion professionnelle. Ces services seront accessibles pour les publics-cibles des Bureaux d'accueil qui nécessitent des sevices personnalisés et intégrés et dont le Service Public d’Emploi ne peut approcher les spécifités. Des risques spécifiques sont identifiés si ces publics ne sont pas accompagnés directement par les Bureaux d’accueil. Les services offerts contribuent à promouvoir l’inclusion. Le one-stop-shop offre un endroit où les personnes qui passent par un parcours similaire peuvent se rencontrer et ainsi se créer ou reconstruire un réseau social et apprendre les codes sociaux. Le one-stop-shop soutient de manière plus large les efforts dans le domaine de l'intégration en articulant le parcours d’accueil (ateliers de confiance, cours de culture et de langues,..) et la recherche d’emploi. Chaque personne est soutenue de manière rapide et individuelle accompagnée par un coach tout au long du parcours vers l’emploi dans le but d’éviter la segmentation de l’offre et de diminuer la complexité du paysage institutionnel et administratif en matière d’emploi. Notamment les actions suivantes sont soutenues: • élaboration d’un un roadmap pour mettre en place la trajectoire socioprofessionnelle choisie • réorientation vers plusieurs possibilités permettant de mettre son projet en œuvre grâce à l’expertise des acteurs du terrain rassemblés en un seul lieu: o l’autocréation d’emploi:  séances d’information collectives multilingues;  séances d’accompagnement entrepreneurial multilingues;  traduction et adaptation de supports utiles aux entrepreneurs;  organisation d’une table ronde autour de l’auto création d’emploi rassemblant les principales structures concernées. o la recherche d’emploi:  support pour la rédaction d’un CV  la préparation à un entretien ainsi qu’un module sur les spécificités culturelles liées à l’emploi  l’accompagnement et suivi par un coach o la recherche d’un stage, bénévolat ou formation: aide à la recherche d’un stage, d’un lieu où faire du bénévolat ou d’une formation. | C14: 2023 | D14: 2027 | E14: =VLOOKUP(Tableau2[[#This Row],[Nom de l''opération]],Info!C:I,3,FALSE) -> FSE+ | F14: =VLOOKUP(Tableau2[[#This Row],[Nom de l''opération]],Info!C:I,4,FALSE) -> ESO4.8. Favoriser l’inclusion active afin de promouvoir l’égalité des chances, la non-discrimination et la participation active, et améliorer l’employabilité, en particulier pour les groupes défavorisés | G14: =VLOOKUP(Tableau2[[#This Row],[Nom de l''opération]],Info!C:I,5,FALSE) -> 0.4 | H14: =VLOOKUP(Tableau2[[#This Row],[Nom de l''opération]],Info!C:I,6,FALSE) -> BRU | I14: =VLOOKUP(Tableau2[[#This Row],[Nom de l''opération]],Info!C:I,7,FALSE) -> 157. Mesures pour l’intégration sociale des ressortissants de pays tiers
A15: Xpérience Europe | B15: =VLOOKUP(Tableau2[[#This Row],[Nom de l''opération]],Info!C:I,2,FALSE) -> Aim, Learn, Master, Achieve (ALMA) – Faciliter l’intégration des jeunes chercheurs d’emploi via une expérience en entreprise à l’étranger Le dispositif ALMA est un instrument innovant visant l'inclusion active des NEETs grâce à une expérience de travail dans un autre pays européen. Le projet se décline en 3 phases: 1. Une préparation intensive et sur-mesure (phrase préparatoire); 2. Une expérience professionnelle supervisée accompagnée d'un mentorat pendant une période de 2 à 6 mois dans un autre pays de l’UE (phase de mobilité); 3. Un soutien du jeune lors de son retour à Bruxelles pour l’aider à s'orienter et (ré)intégrer le marché de l’emploi (phase de suivi). ALMA offrira aux jeunes chercheurs d’emploi une expérience professionnelle et apprentissage dans une organisation publique ou privée du pays d'accueil, leur permettant de développer des compétences linguistiques, techniques ou relationnelles, mais surtout de renforcer leur autonomie, leur ouverture d’esprit et leur capacité d’adaptation à un nouvel environnement. Les participants seront accompagnés à chaque étape du dispositif, tant à Bruxelles qu’à l’étranger, notamment grâce à des organismes d’encadrement sur place, dont le rôle est d’encadrer les participants durant la période de mobilité, mais aussi d’organiser le logement et de faciliter l’intégration. Les jeunes sont accompagnés en petit groupes, présentant une variété de profils NEETs, pour renforcer l’apprentissage mutuel, se soutenir entre participants et réduire les risques de décrochage. | C15: 2023 | D15: 2024 | E15: =VLOOKUP(Tableau2[[#This Row],[Nom de l''opération]],Info!C:I,3,FALSE) -> FSE+ | F15: =VLOOKUP(Tableau2[[#This Row],[Nom de l''opération]],Info!C:I,4,FALSE) -> ESO4.1. Améliorer l’accès à l’emploi et aux mesures d’activation pour tous les demandeurs d’emploi, notamment des jeunes, en particulier par la mise en œuvre de la garantie pour la jeunesse, pour les chômeurs de longue durée et des groupes défavorisés sur le marché du travail, et pour les personnes inactives, ainsi que par la promotion de l’emploi indépendant et de l’économie sociale; | G15: =VLOOKUP(Tableau2[[#This Row],[Nom de l''opération]],Info!C:I,5,FALSE) -> 0.4 | H15: =VLOOKUP(Tableau2[[#This Row],[Nom de l''opération]],Info!C:I,6,FALSE) -> BRU | I15: =VLOOKUP(Tableau2[[#This Row],[Nom de l''opération]],Info!C:I,7,FALSE) -> 136. Soutien spécifique à l’emploi des jeunes et à l’intégration socio-économique des jeunes
... A19: Select Actiris | B19: =VLOOKUP(Tableau2[[#This Row],[Nom de l''opération]],Info!C:I,2,FALSE) -> La prospection, la récolte et l’analyse des postes de travail et de stage auprès des employeurs et guider et soutenir les employeurs dans leur recherche de candidats en les informant des nombreuses aides à l’emploi dont ils peuvent bénéficier. | C19: 2022 | D19: 2027 | E19: =VLOOKUP(Tableau2[[#This Row],[Nom de l''opération]],Info!C:I,3,FALSE) -> FSE+ | F19: =VLOOKUP(Tableau2[[#This Row],[Nom de l''opération]],Info!C:I,4,FALSE) -> ESO4.1. Améliorer l’accès à l’emploi et aux mesures d’activation pour tous les demandeurs d’emploi, notamment des jeunes, en particulier par la mise en œuvre de la garantie pour la jeunesse, pour les chômeurs de longue durée et des groupes défavorisés sur le marché du travail, et pour les personnes inactives, ainsi que par la promotion de l’emploi indépendant et de l’économie sociale; | G19: =VLOOKUP(Tableau2[[#This Row],[Nom de l''opération]],Info!C:I,5,FALSE) -> 0.4 | H19: =VLOOKUP(Tableau2[[#This Row],[Nom de l''opération]],Info!C:I,6,FALSE) -> BRU | I19: =VLOOKUP(Tableau2[[#This Row],[Nom de l''opération]],Info!C:I,7,FALSE) -> 134. Mesures visant à améliorer l’accès à l’emploi

Sheet Opérations FSE+
C1: Liste des opérations FSE+ 2021-2027, Région de Bruxelles-Capitale, Belgique | H1: Date de mise à jour : 05/08/2026
A2: Code unique | B2: Nom de l'opérateur | C2: Nom de l'opération | D2: Objectif de l’opération et les réalisations escomptées ou effectives | E2: Date de début de l'opération | F2: Date d’achèvement de l’opération | G2: Cout total de l'opération | H2: Fonds | I2: Objectif spécifique concerné | J2: Taux de cofinancement par l’Union | K2: Type d’intervention dans le cas de l’opération réalisée (conformément à l’article 73, paragraphe 2, point g). | L2: Indicateur d’emplacement ou la géolocalisation de l’opération et du pays concernés
A3: P21.27/4.1.1/INT/LINK | B3: =VLOOKUP(Tableau1[[#This Row],[Code unique]],Info!A:C,2,FALSE) -> Actiris | C3: =VLOOKUP(Tableau1[[#This Row],[Code unique]],Info!A:C,3,FALSE) -> Service Link | D3: =VLOOKUP(Tableau1[[#This Row],[Code unique]],Info!A:I,4,FALSE) -> Accompagner individuellement vers l’emploi les demandeurs d’emploi ayant bénéficié d’une expérience formative, d’un stage ou d’un emploi Il est important d’accompagner un chercheur d’emploi rapidement vers l’emploi après avoir bénéficié d’une expérience formative, d’un stage ou d’un emploi pour qu’il puisse (ré-)intégrer le marché de l’emploi de manière durable. Plus le temps passe, plus la probabilité d’obtenir un emploi diminue. L’ensemble des actions visent le rapprochement du marché de l’emploi et l’intégration durable sur le marché de l’emploi. La méthodologie de ces actions s’axe sur le chercheur d’emploi (CE) dans son individualité. L’accompagnement offert est personnalisé en fonction du parcours d’emploi et de formation. Le profil et les besoins du chercheur d’emploi sont le point de départ pour l’amener vers les offres d’emploi qui lui correspondent (et dans la mesure du possible vers les métiers en pénurie, les métiers porteurs, les métiers d’avenir dont les métiers liés aux enjeux climatiques) jusqu’à ce qu’il réintègre de manière durable le marché de l’emploi. Cet accompagnement peut prendre plusieurs étapes en fonction des besoins identifiés et sous forme des activités collectives et/ou individualisées: • un premier entretien de bilan individuel pour identifier les besoins et définir l’accompagnement en fonction de la situation personnelle et professionnelle; • la détermination d’un projet professionnel; • un travail de mobilisation et de développement de confiance en vue notamment de favoriser l’engagement dans une dynamique de changement vers l’emploi; • l’acquisition des compétences linguistiques, des outils, méthodes et démarches de recherche d’emploi efficace; • le matching entre le profil des chercheurs d’emploi et l'offre d'emploi, de stage, de formation qualifiante et, le cas échéant, ciblés sur les métiers porteurs, métiers en pénurie, métiers d’avenir, métiers liés aux enjeux climatiques récoltés auprès des employeurs; • un soutien et suivi individuel durant la recherche de formation, la recherche d’emploi et le maintien à l’emploi; | E3: 44562 | F3: 47118 | G3: 5513032 | H3: =VLOOKUP(Tableau1[[#This Row],[Code unique]],Info!A:I,5,FALSE) -> FSE+ | I3: =VLOOKUP(Tableau1[[#This Row],[Code unique]],Info!A:I,6,FALSE) -> ESO4.1. Améliorer l’accès à l’emploi et aux mesures d’activation pour tous les demandeurs d’emploi, notamment des jeunes, en particulier par la mise en œuvre de la garantie pour la jeunesse, pour les chômeurs de longue durée et des groupes défavorisés sur le marché du travail, et pour les personnes inactives, ainsi que par la promotion de l’emploi indépendant et de l’économie sociale; | J3: =VLOOKUP(Tableau1[[#This Row],[Code unique]],Info!A:I,7,FALSE) -> 0.4 | K3: =VLOOKUP(Tableau1[[#This Row],[Code unique]],Info!A:I,9,FALSE) -> 134. Mesures visant à améliorer l’accès à l’emploi | L3: =VLOOKUP(Tableau1[[#This Row],[Code unique]],Info!A:I,8,FALSE) -> BRU
A4: P21.27/4.1.1/INT/SELECT | B4: =VLOOKUP(Tableau1[[#This Row],[Code unique]],Info!A:C,2,FALSE) -> Actiris | C4: =VLOOKUP(Tableau1[[#This Row],[Code unique]],Info!A:C,3,FALSE) -> Select Actiris | D4: =VLOOKUP(Tableau1[[#This Row],[Code unique]],Info!A:I,4,FALSE) -> La prospection, la récolte et l’analyse des postes de travail et de stage auprès des employeurs et guider et soutenir les employeurs dans leur recherche de candidats en les informant des nombreuses aides à l’emploi dont ils peuvent bénéficier. | E4: 44562 | F4: 47118 | G4: 18123133 | H4: =VLOOKUP(Tableau1[[#This Row],[Code unique]],Info!A:I,5,FALSE) -> FSE+ | I4: =VLOOKUP(Tableau1[[#This Row],[Code unique]],Info!A:I,6,FALSE) -> ESO4.1. Améliorer l’accès à l’emploi et aux mesures d’activation pour tous les demandeurs d’emploi, notamment des jeunes, en particulier par la mise en œuvre de la garantie pour la jeunesse, pour les chômeurs de longue durée et des groupes défavorisés sur le marché du travail, et pour les personnes inactives, ainsi que par la promotion de l’emploi indépendant et de l’économie sociale; | J4: =VLOOKUP(Tableau1[[#This Row],[Code unique]],Info!A:I,7,FALSE) -> 0.4 | K4: =VLOOKUP(Tableau1[[#This Row],[Code unique]],Info!A:I,9,FALSE) -> 134. Mesures visant à améliorer l’accès à l’emploi | L4: =VLOOKUP(Tableau1[[#This Row],[Code unique]],Info!A:I,8,FALSE) -> BRU
A5: P21.27/4.1.1/INT/GRAE | B5: =VLOOKUP(Tableau1[[#This Row],[Code unique]],Info!A:C,2,FALSE) -> Actiris | C5: =VLOOKUP(Tableau1[[#This Row],[Code unique]],Info!A:C,3,FALSE) -> Service GRAE | D5: =VLOOKUP(Tableau1[[#This Row],[Code unique]],Info!A:I,4,FALSE) -> Accompagner individuellement vers l’emploi les chercheurs d’emploi inoccupés (de longue durée) Concernant les chercheurs d’emploi de longue durée il faut mettre en place des actions individualisées pour vaincre les obstacles sociaux, psychologiques et professionnels. L’ensemble des actions visent le rapprochement du marché de l’emploi et l’intégration durable sur le marché de l’emploi. La méthodologie de ces actions s’axe sur le chercheur d’emploi (CE) dans son individualité. L’accompagnement offert est personnalisé en fonction du parcours d’emploi et de formation. Le profil et les besoins du chercheur d’emploi sont le point de départ pour l’amener vers les offres d’emploi qui lui correspondent (et dans la mesure du possible vers les métiers en pénurie, les métiers porteurs, les métiers d’avenir dont les métiers liés aux enjeux climatiques) jusqu’à ce qu’il réintègre de manière durable le marché de l’emploi. Cet accompagnement peut prendre plusieurs étapes en fonction des besoins identifiés et sous forme des activités collectives et/ou individualisées: • un premier entretien de bilan individuel pour identifier les besoins et définir l’accompagnement en fonction de la situation personnelle et professionnelle; • la détermination d’un projet professionnel; • un travail de mobilisation et de développement de confiance en vue notamment de favoriser l’engagement dans une dynamique de changement vers l’emploi; • l’acquisition des compétences linguistiques, des outils, méthodes et démarches de recherche d’emploi efficace; • le matching entre le profil des chercheurs d’emploi et l'offre d'emploi, de stage, de formation qualifiante et, le cas échéant, ciblés sur les métiers porteurs, métiers en pénurie, métiers d’avenir, métiers liés aux enjeux climatiques récoltés auprès des employeurs; • un soutien et suivi individuel durant la recherche de formation, la recherche d’emploi et le maintien à l’emploi; | E5: 44927 | F5: 47118 | G5: 8245597 | H5: =VLOOKUP(Tableau1[[#This Row],[Code unique]],Info!A:I,5,FALSE) -> FSE+ | I5: =VLOOKUP(Tableau1[[#This Row],[Code unique]],Info!A:I,6,FALSE) -> ESO4.1. Améliorer l’accès à l’emploi et aux mesures d’activation pour tous les demandeurs d’emploi, notamment des jeunes, en particulier par la mise en œuvre de la garantie pour la jeunesse, pour les chômeurs de longue durée et des groupes défavorisés sur le marché du travail, et pour les personnes inactives, ainsi que par la promotion de l’emploi indépendant et de l’économie sociale; | J5: =VLOOKUP(Tableau1[[#This Row],[Code unique]],Info!A:I,7,FALSE) -> 0.4 | K5: =VLOOKUP(Tableau1[[#This Row],[Code unique]],Info!A:I,9,FALSE) -> 135. Mesures visant à promouvoir l’accès des chômeurs de longue durée à l’emploi | L5: =VLOOKUP(Tableau1[[#This Row],[Code unique]],Info!A:I,8,FALSE) -> BRU
A6: P21.27/4.1.1/INT/POOLH | B6: =VLOOKUP(Tableau1[[#This Row],[Code unique]],Info!A:C,2,FALSE) -> Actiris | C6: =VLOOKUP(Tableau1[[#This Row],[Code unique]],Info!A:C,3,FALSE) -> Service Handicap et Emploi | D6: =VLOOKUP(Tableau1[[#This Row],[Code unique]],Info!A:I,4,FALSE) -> Matching entre chercheurs d’emploi en situation de handicap reconnu et employeurs privés et publics Ce matching s’inscrit dans un parcours intégré pour des chercheurs d’emploi en situation de handicap et vise à effectuer le pont entre les chercheurs d’emploi en situation de handicap et le marché de l’emploi, à savoir les « employeurs du secteur ordinaire » avec comme objectif final la mise à l’emploi durable (minimum 6 mois) d’une personne en situation d’handicap. Dans ce cadre, notamment les actions suivantes peuvent être soutenues: • la sensibilisation des employeurs du marché du travail ordinaire; • l’information et l’aide aux employeurs dans leurs démarches pour engager des chercheurs d’emploi en situation de handicap; • l’élaboration avec les employeurs et la diffusion d’offres d’emploi spécifiques, très complètes et inclusives, provisoirement réservées à un public en situation de handicap reconnu; • le suivi à tous les stades du recrutement après le matching réalisé par Actiris entre le chercheur d’emploi et l’employeur; • la mise en relation des chercheurs d’emploi/employeurs avec le réseau spécialisé pour une mise à l’emploi réussie et pérenne. | E6: 44927 | F6: 47118 | G6: 1405090 | H6: =VLOOKUP(Tableau1[[#This Row],[Code unique]],Info!A:I,5,FALSE) -> FSE+ | I6: =VLOOKUP(Tableau1[[#This Row],[Code unique]],Info!A:I,6,FALSE) -> ESO4.1. Améliorer l’accès à l’emploi et aux mesures d’activation pour tous les demandeurs d’emploi, notamment des jeunes, en particulier par la mise en œuvre de la garantie pour la jeunesse, pour les chômeurs de longue durée et des groupes défavorisés sur le marché du travail, et pour les personnes inactives, ainsi que par la promotion de l’emploi indépendant et de l’économie sociale; | J6: =VLOOKUP(Tableau1[[#This Row],[Code unique]],Info!A:I,7,FALSE) -> 0.4 | K6: =VLOOKUP(Tableau1[[#This Row],[Code unique]],Info!A:I,9,FALSE) -> 134. Mesures visant à améliorer l’accès à l’emploi | L6: =VLOOKUP(Tableau1[[#This Row],[Code unique]],Info!A:I,8,FALSE) -> BRU
A7: P21.27/4.1.1/ACE/ILES | B7: =VLOOKUP(Tableau1[[#This Row],[Code unique]],Info!A:C,2,FALSE) -> Iles | C7: =VLOOKUP(Tableau1[[#This Row],[Code unique]],Info!A:C,3,FALSE) -> Accompagnement à la création de son emploi (ACE) | D7: =VLOOKUP(Tableau1[[#This Row],[Code unique]],Info!A:I,4,FALSE) -> Offrir aux chercheurs d’emploi la solution de création son emploi par le biais d’un accompagnement et d'un coaching personnalisé tout au long de la création de son propre emploi et les accompagner à acquérir les compétences nécessaires (techniques, génériques, numériques et linguistiques) tout en soutenant la concrétisation du projet entrepreneurial Cette action soutient le chercheur d’emploi dans la création de son propre emploi que ce soit dans le cadre d’une activité indépendante ou comme salarié dans l’entreprise ou l’asbl créée. Les actions d’accompagnement à la création de son emploi sont réalisées dans le cadre d’un parcours global, structuré et individualisé, composé de différentes phases : 1. Accueil et information sur les perspectives et les exigences de la création de son propre emploi 2.Analyse du projet / Diagnostic 3.Accompagnement comprenant entre autres: • la concrétisation du projet • l’élaboration d’un dossier de projet qui peut contenir le business plan, le plan financier et un plan d’action structuré de développement du projet, etc.; • la mise en œuvre du plan d’action pour le lancement de l’activité (par exemple la recherche de prêts, les démarches pour l’installation, l'appui logistique, etc); • le renforcement des compétences entrepreneuriales • le suivi post-création (ou l’entrée en coopérative d’activités) Le chercheur d’emploi doit pouvoir bénéficier des différentes phases. La durée maximale pour un accompagnement complet est de deux ans. | E7: 45292 | F7: 46752 | G7: 912000 | H7: =VLOOKUP(Tableau1[[#This Row],[Code unique]],Info!A:I,5,FALSE) -> FSE+ | I7: =VLOOKUP(Tableau1[[#This Row],[Code unique]],Info!A:I,6,FALSE) -> ESO4.1. Améliorer l’accès à l’emploi et aux mesures d’activation pour tous les demandeurs d’emploi, notamment des jeunes, en particulier par la mise en œuvre de la garantie pour la jeunesse, pour les chômeurs de longue durée et des groupes défavorisés sur le marché du travail, et pour les personnes inactives, ainsi que par la promotion de l’emploi indépendant et de l’économie sociale; | J7: =VLOOKUP(Tableau1[[#This Row],[Code unique]],Info!A:I,7,FALSE) -> 0.4 | K7: =VLOOKUP(Tableau1[[#This Row],[Code unique]],Info!A:I,9,FALSE) -> 137. Soutien au travail indépendant et à la création d’entreprises | L7: =VLOOKUP(Tableau1[[#This Row],[Code unique]],Info!A:I,8,FALSE) -> BRU
A8: P21.27/4.1.1/ACE/CRED | B8: =VLOOKUP(Tableau1[[#This Row],[Code unique]],Info!A:C,2,FALSE) -> Crédal | C8: =VLOOKUP(Tableau1[[#This Row],[Code unique]],Info!A:C,3,FALSE) -> Accompagnement à la création de son emploi (ACE) | D8: =VLOOKUP(Tableau1[[#This Row],[Code unique]],Info!A:I,4,FALSE) -> Offrir aux chercheurs d’emploi la solution de création son emploi par le biais d’un accompagnement et d'un coaching personnalisé tout au long de la création de son propre emploi et les accompagner à acquérir les compétences nécessaires (techniques, génériques, numériques et linguistiques) tout en soutenant la concrétisation du projet entrepreneurial Cette action soutient le chercheur d’emploi dans la création de son propre emploi que ce soit dans le cadre d’une activité indépendante ou comme salarié dans l’entreprise ou l’asbl créée. Les actions d’accompagnement à la création de son emploi sont réalisées dans le cadre d’un parcours global, structuré et individualisé, composé de différentes phases : 1. Accueil et information sur les perspectives et les exigences de la création de son propre emploi 2.Analyse du projet / Diagnostic 3.Accompagnement comprenant entre autres: • la concrétisation du projet • l’élaboration d’un dossier de projet qui peut contenir le business plan, le plan financier et un plan d’action structuré de développement du projet, etc.; • la mise en œuvre du plan d’action pour le lancement de l’activité (par exemple la recherche de prêts, les démarches pour l’installation, l'appui logistique, etc); • le renforcement des compétences entrepreneuriales • le suivi post-création (ou l’entrée en coopérative d’activités) Le chercheur d’emploi doit pouvoir bénéficier des différentes phases. La durée maximale pour un accompagnement complet est de deux ans. | E8: 45292 | F8: 46752 | G8: 912000 | H8: =VLOOKUP(Tableau1[[#This Row],[Code unique]],Info!A:I,5,FALSE) -> FSE+ | I8: =VLOOKUP(Tableau1[[#This Row],[Code unique]],Info!A:I,6,FALSE) -> ESO4.1. Améliorer l’accès à l’emploi et aux mesures d’activation pour tous les demandeurs d’emploi, notamment des jeunes, en particulier par la mise en œuvre de la garantie pour la jeunesse, pour les chômeurs de longue durée et des groupes défavorisés sur le marché du travail, et pour les personnes inactives, ainsi que par la promotion de l’emploi indépendant et de l’économie sociale; | J8: =VLOOKUP(Tableau1[[#This Row],[Code unique]],Info!A:I,7,FALSE) -> 0.4 | K8: =VLOOKUP(Tableau1[[#This Row],[Code unique]],Info!A:I,9,FALSE) -> 137. Soutien au travail indépendant et à la création d’entreprises | L8: =VLOOKUP(Tableau1[[#This Row],[Code unique]],Info!A:I,8,FALSE) -> BRU
A9: P21.27/4.1.1/ACE/FLTM | B9: =VLOOKUP(Tableau1[[#This Row],[Code unique]],Info!A:C,2,FALSE) -> Fais-le toi-même | C9: =VLOOKUP(Tableau1[[#This Row],[Code unique]],Info!A:C,3,FALSE) -> Accompagnement à la création de son emploi (ACE) | D9: =VLOOKUP(Tableau1[[#This Row],[Code unique]],Info!A:I,4,FALSE) -> Offrir aux chercheurs d’emploi la solution de création son emploi par le biais d’un accompagnement et d'un coaching personnalisé tout au long de la création de son propre emploi et les accompagner à acquérir les compétences nécessaires (techniques, génériques, numériques et linguistiques) tout en soutenant la concrétisation du projet entrepreneurial Cette action soutient le chercheur d’emploi dans la création de son propre emploi que ce soit dans le cadre d’une activité indépendante ou comme salarié dans l’entreprise ou l’asbl créée. Les actions d’accompagnement à la création de son emploi sont réalisées dans le cadre d’un parcours global, structuré et individualisé, composé de différentes phases : 1. Accueil et information sur les perspectives et les exigences de la création de son propre emploi 2.Analyse du projet / Diagnostic 3.Accompagnement comprenant entre autres: • la concrétisation du projet • l’élaboration d’un dossier de projet qui peut contenir le business plan, le plan financier et un plan d’action structuré de développement du projet, etc.; • la mise en œuvre du plan d’action pour le lancement de l’activité (par exemple la recherche de prêts, les démarches pour l’installation, l'appui logistique, etc); • le renforcement des compétences entrepreneuriales • le suivi post-création (ou l’entrée en coopérative d’activités) Le chercheur d’emploi doit pouvoir bénéficier des différentes phases. La durée maximale pour un accompagnement complet est de deux ans. | E9: 45292 | F9: 46752 | G9: 456000 | H9: =VLOOKUP(Tableau1[[#This Row],[Code unique]],Info!A:I,5,FALSE) -> FSE+ | I9: =VLOOKUP(Tableau1[[#This Row],[Code unique]],Info!A:I,6,FALSE) -> ESO4.1. Améliorer l’accès à l’emploi et aux mesures d’activation pour tous les demandeurs d’emploi, notamment des jeunes, en particulier par la mise en œuvre de la garantie pour la jeunesse, pour les chômeurs de longue durée et des groupes défavorisés sur le marché du travail, et pour les personnes inactives, ainsi que par la promotion de l’emploi indépendant et de l’économie sociale; | J9: =VLOOKUP(Tableau1[[#This Row],[Code unique]],Info!A:I,7,FALSE) -> 0.4 | K9: =VLOOKUP(Tableau1[[#This Row],[Code unique]],Info!A:I,9,FALSE) -> 137. Soutien au travail indépendant et à la création d’entreprises | L9: =VLOOKUP(Tableau1[[#This Row],[Code unique]],Info!A:I,8,FALSE) -> BRU
A10: P21.27/4.1.1/ACE/JYS | B10: =VLOOKUP(Tableau1[[#This Row],[Code unique]],Info!A:C,2,FALSE) -> JobYourself | C10: =VLOOKUP(Tableau1[[#This Row],[Code unique]],Info!A:C,3,FALSE) -> Accompagnement à la création de son emploi (ACE) | D10: =VLOOKUP(Tableau1[[#This Row],[Code unique]],Info!A:I,4,FALSE) -> Offrir aux chercheurs d’emploi la solution de création son emploi par le biais d’un accompagnement et d'un coaching personnalisé tout au long de la création de son propre emploi et les accompagner à acquérir les compétences nécessaires (techniques, génériques, numériques et linguistiques) tout en soutenant la concrétisation du projet entrepreneurial Cette action soutient le chercheur d’emploi dans la création de son propre emploi que ce soit dans le cadre d’une activité indépendante ou comme salarié dans l’entreprise ou l’asbl créée. Les actions d’accompagnement à la création de son emploi sont réalisées dans le cadre d’un parcours global, structuré et individualisé, composé de différentes phases : 1. Accueil et information sur les perspectives et les exigences de la création de son propre emploi 2.Analyse du projet / Diagnostic 3.Accompagnement comprenant entre autres: • la concrétisation du projet • l’élaboration d’un dossier de projet qui peut contenir le business plan, le plan financier et un plan d’action structuré de développement du projet, etc.; • la mise en œuvre du plan d’action pour le lancement de l’activité (par exemple la recherche de prêts, les démarches pour l’installation, l'appui logistique, etc); • le renforcement des compétences entrepreneuriales • le suivi post-création (ou l’entrée en coopérative d’activités) Le chercheur d’emploi doit pouvoir bénéficier des différentes phases. La durée maximale pour un accompagnement complet est de deux ans. | E10: 45292 | F10: 46752 | G10: 927200 | H10: =VLOOKUP(Tableau1[[#This Row],[Code unique]],Info!A:I,5,FALSE) -> FSE+ | I10: =VLOOKUP(Tableau1[[#This Row],[Code unique]],Info!A:I,6,FALSE) -> ESO4.1. Améliorer l’accès à l’emploi et aux mesures d’activation pour tous les demandeurs d’emploi, notamment des jeunes, en particulier par la mise en œuvre de la garantie pour la jeunesse, pour les chômeurs de longue durée et des groupes défavorisés sur le marché du travail, et pour les personnes inactives, ainsi que par la promotion de l’emploi indépendant et de l’économie sociale; | J10: =VLOOKUP(Tableau1[[#This Row],[Code unique]],Info!A:I,7,FALSE) -> 0.4 | K10: =VLOOKUP(Tableau1[[#This Row],[Code unique]],Info!A:I,9,FALSE) -> 137. Soutien au travail indépendant et à la création d’entreprises | L10: =VLOOKUP(Tableau1[[#This Row],[Code unique]],Info!A:I,8,FALSE) -> BRU
