Workbook
Name _Hlk102562282: 'ESF+ acties'!#REF!
Name _Hlk102562291: 'ESF+ acties'!#REF!

Sheet Récapitulation opérations FSE+
A1: Date de production : | C1: 45730
A3: Nom de l'opération | B3: Objectif de l’opération et les réalisations escomptées ou effectives | C3: Date de début de l'opération | D3: Date d’achèvement prévue ou réelle de l’opération | E3: Fonds | F3: Objectif spécifique concerné | G3: Taux de cofinancement par l’Union | H3: Indicateur d’emplacement ou la géolocalisation de l’opération et du pays concernés | I3: Type d’intervention dans le cas de l’opération réalisée conformément à l’article 73, paragraphe 2, point g).
A4: Service Youth Guarantee | B4: =VLOOKUP(Tableau2[[#This Row],[Nom de l''opération]],Info!C:I,2,FALSE) -> #N/A | C4: 2022 | D4: 2027 | E4: =VLOOKUP(Tableau2[[#This Row],[Nom de l''opération]],Info!C:I,3,FALSE) -> #N/A | F4: =VLOOKUP(Tableau2[[#This Row],[Nom de l''opération]],Info!C:I,4,FALSE) -> #N/A | G4: =VLOOKUP(Tableau2[[#This Row],[Nom de l''opération]],Info!C:I,5,FALSE) -> #N/A | H4: =VLOOKUP(Tableau2[[#This Row],[Nom de l''opération]],Info!C:I,6,FALSE) -> #N/A | I4: =VLOOKUP(Tableau2[[#This Row],[Nom de l''opération]],Info!C:I,7,FALSE) -> #N/A
A5: Conventions Premier Emploi | B5: =VLOOKUP(Tableau2[[#This Row],[Nom de l''opération]],Info!C:I,2,FALSE) -> #N/A | C5: 2023 | D5: 2027 | E5: =VLOOKUP(Tableau2[[#This Row],[Nom de l''opération]],Info!C:I,3,FALSE) -> #N/A | F5: =VLOOKUP(Tableau2[[#This Row],[Nom de l''opération]],Info!C:I,4,FALSE) -> #N/A | G5: =VLOOKUP(Tableau2[[#This Row],[Nom de l''opération]],Info!C:I,5,FALSE) -> #N/A | H5: =VLOOKUP(Tableau2[[#This Row],[Nom de l''opération]],Info!C:I,6,FALSE) -> #N/A | I5: =VLOOKUP(Tableau2[[#This Row],[Nom de l''opération]],Info!C:I,7,FALSE) -> #N/A
A6: Service Link | B6: =VLOOKUP(Tableau2[[#This Row],[Nom de l''opération]],Info!C:I,2,FALSE) -> Werkzoekenden die een opleiding, stage of baan hebben genoten op individuele basis begeleiden naar werk. Het is belangrijk om werkzoekenden na een opleiding, stage of baan snel naar werk te begeleiden, zodat ze duurzaam kunnen (her)intreden op de arbeidsmarkt. Hoe meer tijd er verstrijkt, hoe kleiner de kans op een baan. Het doel van al deze acties is om mensen dichter bij de arbeidsmarkt te brengen en hen te helpen zich duurzaam te integreren in de arbeidsmarkt. De methodologie van deze acties is gericht op de individuele werkzoekende. De geboden ondersteuning is afgestemd op het werkgelegenheids- en opleidingstraject van de individuele werkzoekende. Het profiel en de behoeften van de werkzoekende vormen het uitgangspunt om hem of haar te begeleiden naar geschikte vacatures (en voor zover mogelijk naar knepuntberoepen, groeiberoepen en beroepen van de toekomst, waaronder beroepen die verband houden met klimaatproblemen) totdat hij of zij weer op de arbeidsmarkt terugkeert op de lange termijn. Deze ondersteuning kan in verschillende fasen plaatsvinden, afhankelijk van de vastgestelde behoeften en in de vorm van groeps- en/of geïndividualiseerde activiteiten: - een eerste individueel beoordelingsgesprek om de behoeften vast te stellen en de ondersteuning te definiëren in het licht van de persoonlijke en professionele situatie; - bepaling van een carrièreplan; - activiteiten om mensen te mobiliseren en hun vertrouwen te vergroten, met name om hen aan te moedigen een veranderingsproces in de richting van werk te beginnen; - verwerving van taalvaardigheden, instrumenten, methoden en benaderingen voor het effectief zoeken naar werk; - afstemming van het profiel van de werkzoekende op vacatures, stages, opleidingen die tot kwalificaties leiden en, waar nodig, gericht op veelbelovende beroepen, beroepen met een tekort, beroepen van de toekomst, beroepen die verband houden met door werkgevers geïdentificeerde kwesties op het gebied van klimaatverandering; - individuele ondersteuning en monitoring tijdens het zoeken naar een opleiding, het zoeken naar een baan en het behouden van een baan; | C6: 2022 | D6: 2027 | E6: =VLOOKUP(Tableau2[[#This Row],[Nom de l''opération]],Info!C:I,3,FALSE) -> ESF+ | F6: =VLOOKUP(Tableau2[[#This Row],[Nom de l''opération]],Info!C:I,4,FALSE) -> ESO4.1. Verbeteren van de toegang tot werk en activeringsmaatregelen voor alle werkzoekenden, met name jongeren, vooral door de jongerengarantie uit te voeren, voor langdurig werklozen en voor kansarme groepen op de arbeidsmarkt, en voor inactieven, en door zelfstandig ondernemerschap en de sociale economie te bevorderen; (ESF+) | G6: =VLOOKUP(Tableau2[[#This Row],[Nom de l''opération]],Info!C:I,5,FALSE) -> 0.4 | H6: =VLOOKUP(Tableau2[[#This Row],[Nom de l''opération]],Info!C:I,6,FALSE) -> BRU | I6: =VLOOKUP(Tableau2[[#This Row],[Nom de l''opération]],Info!C:I,7,FALSE) -> 134. Maatregelen voor betere toegang tot de arbeidsmarkt
A7: Service GRAE | B7: =VLOOKUP(Tableau2[[#This Row],[Nom de l''opération]],Info!C:I,2,FALSE) -> #N/A | C7: 2023 | D7: 2027 | E7: =VLOOKUP(Tableau2[[#This Row],[Nom de l''opération]],Info!C:I,3,FALSE) -> #N/A | F7: =VLOOKUP(Tableau2[[#This Row],[Nom de l''opération]],Info!C:I,4,FALSE) -> #N/A | G7: =VLOOKUP(Tableau2[[#This Row],[Nom de l''opération]],Info!C:I,5,FALSE) -> #N/A | H7: =VLOOKUP(Tableau2[[#This Row],[Nom de l''opération]],Info!C:I,6,FALSE) -> #N/A | I7: =VLOOKUP(Tableau2[[#This Row],[Nom de l''opération]],Info!C:I,7,FALSE) -> #N/A
A8: Accompagnement de jeunes NEET | B8: =VLOOKUP(Tableau2[[#This Row],[Nom de l''opération]],Info!C:I,2,FALSE) -> #N/A | C8: 2022 | D8: 2027 | E8: =VLOOKUP(Tableau2[[#This Row],[Nom de l''opération]],Info!C:I,3,FALSE) -> #N/A | F8: =VLOOKUP(Tableau2[[#This Row],[Nom de l''opération]],Info!C:I,4,FALSE) -> #N/A | G8: =VLOOKUP(Tableau2[[#This Row],[Nom de l''opération]],Info!C:I,5,FALSE) -> #N/A | H8: =VLOOKUP(Tableau2[[#This Row],[Nom de l''opération]],Info!C:I,6,FALSE) -> #N/A | I8: =VLOOKUP(Tableau2[[#This Row],[Nom de l''opération]],Info!C:I,7,FALSE) -> #N/A
A9: Crèches/ Structures d'Accueil | B9: =VLOOKUP(Tableau2[[#This Row],[Nom de l''opération]],Info!C:I,2,FALSE) -> #N/A | C9: 2022 | D9: 2027 | E9: =VLOOKUP(Tableau2[[#This Row],[Nom de l''opération]],Info!C:I,3,FALSE) -> #N/A | F9: =VLOOKUP(Tableau2[[#This Row],[Nom de l''opération]],Info!C:I,4,FALSE) -> #N/A | G9: =VLOOKUP(Tableau2[[#This Row],[Nom de l''opération]],Info!C:I,5,FALSE) -> #N/A | H9: =VLOOKUP(Tableau2[[#This Row],[Nom de l''opération]],Info!C:I,6,FALSE) -> #N/A | I9: =VLOOKUP(Tableau2[[#This Row],[Nom de l''opération]],Info!C:I,7,FALSE) -> #N/A
A10: CPAS Job-coaches | B10: =VLOOKUP(Tableau2[[#This Row],[Nom de l''opération]],Info!C:I,2,FALSE) -> #N/A | C10: 2022 | D10: 2027 | E10: =VLOOKUP(Tableau2[[#This Row],[Nom de l''opération]],Info!C:I,3,FALSE) -> #N/A | F10: =VLOOKUP(Tableau2[[#This Row],[Nom de l''opération]],Info!C:I,4,FALSE) -> #N/A | G10: =VLOOKUP(Tableau2[[#This Row],[Nom de l''opération]],Info!C:I,5,FALSE) -> #N/A | H10: =VLOOKUP(Tableau2[[#This Row],[Nom de l''opération]],Info!C:I,6,FALSE) -> #N/A | I10: =VLOOKUP(Tableau2[[#This Row],[Nom de l''opération]],Info!C:I,7,FALSE) -> #N/A
A11: JEEP | B11: =VLOOKUP(Tableau2[[#This Row],[Nom de l''opération]],Info!C:I,2,FALSE) -> Jongeren onder de 30 jaar op school bewust maken en informeren over de arbeidsmarkt om hun intrede in het beroepsleven te vergemakkelijken. Dit houdt ook in dat ze worden ondergedompeld in de realiteit van het bedrijfsleven, met name door middel van studentenbanen. De vastgestelde overgangsbehoeften richten zich op de moeilijkheden in verband met de begeleiding van jongeren tijdens hun schoolcarrière, de angst die leerlingen uiten over de wereld van het werk en de kloof die bestaat tussen de wereld van het werk, het middelbaar onderwijs en het hoger onderwijs. De ondersteunde acties bereiden jongeren voor op de overgang tussen school en werk door middel van, onder andere, een bewustmakingsprogramma en een informatieprogramma (workshops op scholen), presentatie- en bewustmakingssessies, ondersteuning bij het opstellen en uitwerken van hun educatief en professioneel levensproject en een praktische ervaring/ervaring in de realiteit van een bedrijf door middel van de studentenjob. | C11: 2022 | D11: 2027 | E11: =VLOOKUP(Tableau2[[#This Row],[Nom de l''opération]],Info!C:I,3,FALSE) -> ESF+ | F11: =VLOOKUP(Tableau2[[#This Row],[Nom de l''opération]],Info!C:I,4,FALSE) -> ESO4.1. Verbeteren van de toegang tot werk en activeringsmaatregelen voor alle werkzoekenden, met name jongeren, vooral door de jongerengarantie uit te voeren, voor langdurig werklozen en voor kansarme groepen op de arbeidsmarkt, en voor inactieven, en door zelfstandig ondernemerschap en de sociale economie te bevorderen; (ESF+) | G11: =VLOOKUP(Tableau2[[#This Row],[Nom de l''opération]],Info!C:I,5,FALSE) -> 0.4 | H11: =VLOOKUP(Tableau2[[#This Row],[Nom de l''opération]],Info!C:I,6,FALSE) -> BRU | I11: =VLOOKUP(Tableau2[[#This Row],[Nom de l''opération]],Info!C:I,7,FALSE) -> 136. Specifieke ondersteuning van werkgelegenheid bij jongeren en sociaal-economische integratie van jongeren
A12: JUMP | B12: =VLOOKUP(Tableau2[[#This Row],[Nom de l''opération]],Info!C:I,2,FALSE) -> Jongeren onder de 30 jaar op school bewust maken en informeren over de arbeidsmarkt om hun intrede in het beroepsleven te vergemakkelijken. Dit houdt ook in dat ze worden ondergedompeld in de realiteit van het bedrijfsleven, met name door middel van studentenbanen. De vastgestelde overgangsbehoeften richten zich op de moeilijkheden in verband met de begeleiding van jongeren tijdens hun schoolcarrière, de angst die leerlingen uiten over de wereld van het werk en de kloof die bestaat tussen de wereld van het werk, het middelbaar onderwijs en het hoger onderwijs. De ondersteunde acties bereiden jongeren voor op de overgang tussen school en werk door middel van, onder andere, een bewustmakingsprogramma en een informatieprogramma (workshops op scholen), presentatie- en bewustmakingssessies, ondersteuning bij het opstellen en uitwerken van hun educatief en professioneel levensproject en een praktische ervaring/ervaring in de realiteit van een bedrijf door middel van de studentenjob. | C12: 2022 | D12: 2027 | E12: =VLOOKUP(Tableau2[[#This Row],[Nom de l''opération]],Info!C:I,3,FALSE) -> ESF+ | F12: =VLOOKUP(Tableau2[[#This Row],[Nom de l''opération]],Info!C:I,4,FALSE) -> ESO4.1. Verbeteren van de toegang tot werk en activeringsmaatregelen voor alle werkzoekenden, met name jongeren, vooral door de jongerengarantie uit te voeren, voor langdurig werklozen en voor kansarme groepen op de arbeidsmarkt, en voor inactieven, en door zelfstandig ondernemerschap en de sociale economie te bevorderen; (ESF+) | G12: =VLOOKUP(Tableau2[[#This Row],[Nom de l''opération]],Info!C:I,5,FALSE) -> 0.4 | H12: =VLOOKUP(Tableau2[[#This Row],[Nom de l''opération]],Info!C:I,6,FALSE) -> BRU | I12: =VLOOKUP(Tableau2[[#This Row],[Nom de l''opération]],Info!C:I,7,FALSE) -> 136. Specifieke ondersteuning van werkgelegenheid bij jongeren en sociaal-economische integratie van jongeren
A13: Youth Mentoring | B13: =VLOOKUP(Tableau2[[#This Row],[Nom de l''opération]],Info!C:I,2,FALSE) -> Mentoring aanbieden als een innovatieve methode om bepaalde groepen jonge werkzoekenden te ondersteunen in hun professionele integratieproces Mentoring is een nieuwe vorm van coaching door een ervaren persoon aan een onervaren persoon. Het is een hulpmiddel voor aanpassing en wendbaarheid ten dienste van individuen. Mentoring biedt mogelijkheden voor uitwisseling en moedigt creativiteit en innovatie aan. Een mentor is een ervaren persoon (al dan niet nog werkzaam in het beroepsleven) die op vrijwillige basis intensieve één-op-één ondersteuning biedt aan een werkzoekende, zodat deze kan profiteren van zijn steun, advies en netwerk. Mentoren worden gemobiliseerd via algemene communicatie (pers, website, sociale netwerken, posters, video's, enz.) of via informatiesessies voor werknemers van bedrijven of organisaties. Toekomstige mentoren krijgen training om ervoor te zorgen dat ze beschikken over een gemeenschappelijke set vaardigheden voor mentorschap. Op basis van de verzamelde informatie (keuze van sector, type carrièreplan, persoonlijkheid, enz. De mentor, dankzij zijn of haar profiel, ervaring en netwerk, helpt de jongere bij het definiëren van zijn of haar carrièreplan, het identificeren van zijn of haar vaardigheden en de codes van de professionele wereld. De relatie moet geen eenrichtingsverkeer zijn, en de mentee kan de mentor ook nieuwe wegen bieden voor reflectie en innovatie. Het doel van het mentorprogramma is daarom het testen van de opbouw van een coachingrelatie tussen een ervaren mentor en een jonge werkzoekende, met als doel samen te delen, uit te wisselen en vooruitgang te boeken. De mate waarin deze relatie heeft bijgedragen aan het aan het werk krijgen van een jonge werkzoekende zal worden beoordeeld. De begeleiding is gebaseerd op een specifieke methodologie die - voor de oriëntatiefase - onder andere bestaat uit collectieve informatiesessies en workshops in samenwerking met bedrijven, individuele screening/interviews, inwerkacties, trainingen waarbij de deelnemer zijn vaardigheden, attitudes en bekwaamheden ontwikkelt, zijn talenten en passies ontdekt en een droomproject kiest en in de praktijk brengt door in de huid van een ondernemer te kruipen. De mentorfase omvat individuele en groepsuitwisselingen tussen de leerling en de mentor(s). Aan het einde van het programma heeft elke jongere een haalbaar actieplan. De innovatie ligt in het versterken van de rol van het bedrijfsleven in het hele programma. Het bedrijfsleven wordt op verschillende punten bij het programma betrokken: - collectieve acties gericht op het bedrijfsleven: werkzoekenden worden individueel ondersteund door hun mentor en nemen deel aan collectieve acties die hen dichter bij het bedrijfsleven brengen; - co-constructie van acties om aansluiting te vinden bij het bedrijfsleven: met behulp van een ludieke methodologie gebaseerd op collectieve intelligentie nodigt het project jongeren uit om een initiatief te bedenken, te kiezen, te bouwen en te organiseren om aansluiting te vinden bij het bedrijfsleven; - inspirerende ontmoetingen met CEO's: werkzoekenden ontmoeten de CEO van een bedrijf en werken samen om een uitdaging op te lossen. Aangezien dit een sociale innovatie en een test van een nieuwe methodologie is, is er een evaluatie van de methodologie en de uitvoering van het project gepland, waarvoor de evaluatiemethoden en -criteria zullen worden gedefinieerd en voorgelegd aan de operatoren. Op basis van de evaluatie kunnen eventuele wijzigingen worden aangebracht in de methodologie en het projectkader om zo goed mogelijk tegemoet te komen aan de behoeften van (jonge) werkzoekenden. De conclusies en geleerde lessen zullen in aanmerking worden genomen als onderdeel van een mogelijke veralgemening van dit project. | C13: 2023 | D13: 2027 | E13: =VLOOKUP(Tableau2[[#This Row],[Nom de l''opération]],Info!C:I,3,FALSE) -> ESF+ | F13: =VLOOKUP(Tableau2[[#This Row],[Nom de l''opération]],Info!C:I,4,FALSE) -> ESO4.1. Verbeteren van de toegang tot werk en activeringsmaatregelen voor alle werkzoekenden, met name jongeren, vooral door de jongerengarantie uit te voeren, voor langdurig werklozen en voor kansarme groepen op de arbeidsmarkt, en voor inactieven, en door zelfstandig ondernemerschap en de sociale economie te bevorderen; (ESF+) | G13: =VLOOKUP(Tableau2[[#This Row],[Nom de l''opération]],Info!C:I,5,FALSE) -> 0.4 | H13: =VLOOKUP(Tableau2[[#This Row],[Nom de l''opération]],Info!C:I,6,FALSE) -> BRU | I13: =VLOOKUP(Tableau2[[#This Row],[Nom de l''opération]],Info!C:I,7,FALSE) -> 136. Specifieke ondersteuning van werkgelegenheid bij jongeren en sociaal-economische integratie van jongeren
A14: One Stop Shop (BAPA) | B14: =VLOOKUP(Tableau2[[#This Row],[Nom de l''opération]],Info!C:I,2,FALSE) -> #N/A | C14: 2023 | D14: 2027 | E14: =VLOOKUP(Tableau2[[#This Row],[Nom de l''opération]],Info!C:I,3,FALSE) -> #N/A | F14: =VLOOKUP(Tableau2[[#This Row],[Nom de l''opération]],Info!C:I,4,FALSE) -> #N/A | G14: =VLOOKUP(Tableau2[[#This Row],[Nom de l''opération]],Info!C:I,5,FALSE) -> #N/A | H14: =VLOOKUP(Tableau2[[#This Row],[Nom de l''opération]],Info!C:I,6,FALSE) -> #N/A | I14: =VLOOKUP(Tableau2[[#This Row],[Nom de l''opération]],Info!C:I,7,FALSE) -> #N/A
A15: Xpérience Europe | B15: =VLOOKUP(Tableau2[[#This Row],[Nom de l''opération]],Info!C:I,2,FALSE) -> #N/A | C15: 2023 | D15: 2024 | E15: =VLOOKUP(Tableau2[[#This Row],[Nom de l''opération]],Info!C:I,3,FALSE) -> #N/A | F15: =VLOOKUP(Tableau2[[#This Row],[Nom de l''opération]],Info!C:I,4,FALSE) -> #N/A | G15: =VLOOKUP(Tableau2[[#This Row],[Nom de l''opération]],Info!C:I,5,FALSE) -> #N/A | H15: =VLOOKUP(Tableau2[[#This Row],[Nom de l''opération]],Info!C:I,6,FALSE) -> #N/A | I15: =VLOOKUP(Tableau2[[#This Row],[Nom de l''opération]],Info!C:I,7,FALSE) -> #N/A
... A19: Select Actiris | B19: =VLOOKUP(Tableau2[[#This Row],[Nom de l''opération]],Info!C:I,2,FALSE) -> Het werven, verzamelen en analyseren van vacatures en stageaanbiedingen van werkgevers en het begeleiden en ondersteunen van werkgevers bij het zoeken naar kandidaten door hen te informeren over de vele beschikbare werkgelegenheidsmiddelen. | C19: 2022 | D19: 2027 | E19: =VLOOKUP(Tableau2[[#This Row],[Nom de l''opération]],Info!C:I,3,FALSE) -> ESF+ | F19: =VLOOKUP(Tableau2[[#This Row],[Nom de l''opération]],Info!C:I,4,FALSE) -> ESO4.1. Verbeteren van de toegang tot werk en activeringsmaatregelen voor alle werkzoekenden, met name jongeren, vooral door de jongerengarantie uit te voeren, voor langdurig werklozen en voor kansarme groepen op de arbeidsmarkt, en voor inactieven, en door zelfstandig ondernemerschap en de sociale economie te bevorderen; (ESF+) | G19: =VLOOKUP(Tableau2[[#This Row],[Nom de l''opération]],Info!C:I,5,FALSE) -> 0.4 | H19: =VLOOKUP(Tableau2[[#This Row],[Nom de l''opération]],Info!C:I,6,FALSE) -> BRU | I19: =VLOOKUP(Tableau2[[#This Row],[Nom de l''opération]],Info!C:I,7,FALSE) -> 134. Maatregelen voor betere toegang tot de arbeidsmarkt

Sheet ESF+ acties
C1: Actielijst ESF+ 2021-2027, Brussels Hoodfstedelijk Gewest, België | G1: Bijgewerkt op 05/08/2026
A2: Unieke code | B2: Naam van de operator | C2: Naam van de actie | D2: Doel en verwachte of feitelijke resultaten van de concrete actie | E2: Startdatum van de concrete actie | F2: Einddatum van de concrete actie | G2: Totale kosten van de concrete actie | H2: Fonds | I2: Specifieke doelstelling | J2: Medefinancieringspercentage van de Unie | K2: Interventietype voor de concrete actie (overeenkomstig artikel 73, lid 2, punt g) | L2: Plaatsbepaling of geolocatie voor het land en de concrete actie
A3: P21.27/4.1.1/INT/LINK | B3: =VLOOKUP(Tableau1[[#This Row],[Unieke code]],Info!A:B,2,FALSE) -> Actiris | C3: =VLOOKUP(Tableau1[[#This Row],[Unieke code]],Info!A:C,3,FALSE) -> Dienst Link | D3: =VLOOKUP(Tableau1[[#This Row],[Unieke code]],Info!A:I,4,FALSE) -> Werkzoekenden die een opleiding, stage of baan hebben genoten op individuele basis begeleiden naar werk. Het is belangrijk om werkzoekenden na een opleiding, stage of baan snel naar werk te begeleiden, zodat ze duurzaam kunnen (her)intreden op de arbeidsmarkt. Hoe meer tijd er verstrijkt, hoe kleiner de kans op een baan. Het doel van al deze acties is om mensen dichter bij de arbeidsmarkt te brengen en hen te helpen zich duurzaam te integreren in de arbeidsmarkt. De methodologie van deze acties is gericht op de individuele werkzoekende. De geboden ondersteuning is afgestemd op het werkgelegenheids- en opleidingstraject van de individuele werkzoekende. Het profiel en de behoeften van de werkzoekende vormen het uitgangspunt om hem of haar te begeleiden naar geschikte vacatures (en voor zover mogelijk naar knepuntberoepen, groeiberoepen en beroepen van de toekomst, waaronder beroepen die verband houden met klimaatproblemen) totdat hij of zij weer op de arbeidsmarkt terugkeert op de lange termijn. Deze ondersteuning kan in verschillende fasen plaatsvinden, afhankelijk van de vastgestelde behoeften en in de vorm van groeps- en/of geïndividualiseerde activiteiten: - een eerste individueel beoordelingsgesprek om de behoeften vast te stellen en de ondersteuning te definiëren in het licht van de persoonlijke en professionele situatie; - bepaling van een carrièreplan; - activiteiten om mensen te mobiliseren en hun vertrouwen te vergroten, met name om hen aan te moedigen een veranderingsproces in de richting van werk te beginnen; - verwerving van taalvaardigheden, instrumenten, methoden en benaderingen voor het effectief zoeken naar werk; - afstemming van het profiel van de werkzoekende op vacatures, stages, opleidingen die tot kwalificaties leiden en, waar nodig, gericht op veelbelovende beroepen, beroepen met een tekort, beroepen van de toekomst, beroepen die verband houden met door werkgevers geïdentificeerde kwesties op het gebied van klimaatverandering; - individuele ondersteuning en monitoring tijdens het zoeken naar een opleiding, het zoeken naar een baan en het behouden van een baan; | E3: 44562 | F3: 47118 | G3: 5513032 | H3: =VLOOKUP(Tableau1[[#This Row],[Unieke code]],Info!A:I,5,FALSE) -> ESF+ | I3: =VLOOKUP(Tableau1[[#This Row],[Unieke code]],Info!A:I,6,FALSE) -> ESO4.1. Verbeteren van de toegang tot werk en activeringsmaatregelen voor alle werkzoekenden, met name jongeren, vooral door de jongerengarantie uit te voeren, voor langdurig werklozen en voor kansarme groepen op de arbeidsmarkt, en voor inactieven, en door zelfstandig ondernemerschap en de sociale economie te bevorderen; (ESF+) | J3: =VLOOKUP(Tableau1[[#This Row],[Unieke code]],Info!A:I,7,FALSE) -> 0.4 | K3: =VLOOKUP(Tableau1[[#This Row],[Unieke code]],Info!A:I,9,FALSE) -> 134. Maatregelen voor betere toegang tot de arbeidsmarkt | L3: =VLOOKUP(Tableau1[[#This Row],[Unieke code]],Info!A:I,8,FALSE) -> BRU
A4: P21.27/4.1.1/INT/SELECT | B4: =VLOOKUP(Tableau1[[#This Row],[Unieke code]],Info!A:B,2,FALSE) -> Actiris | C4: =VLOOKUP(Tableau1[[#This Row],[Unieke code]],Info!A:C,3,FALSE) -> Select Actiris | D4: =VLOOKUP(Tableau1[[#This Row],[Unieke code]],Info!A:I,4,FALSE) -> Het werven, verzamelen en analyseren van vacatures en stageaanbiedingen van werkgevers en het begeleiden en ondersteunen van werkgevers bij het zoeken naar kandidaten door hen te informeren over de vele beschikbare werkgelegenheidsmiddelen. | E4: 44562 | F4: 47118 | G4: 18123133 | H4: =VLOOKUP(Tableau1[[#This Row],[Unieke code]],Info!A:I,5,FALSE) -> ESF+ | I4: =VLOOKUP(Tableau1[[#This Row],[Unieke code]],Info!A:I,6,FALSE) -> ESO4.1. Verbeteren van de toegang tot werk en activeringsmaatregelen voor alle werkzoekenden, met name jongeren, vooral door de jongerengarantie uit te voeren, voor langdurig werklozen en voor kansarme groepen op de arbeidsmarkt, en voor inactieven, en door zelfstandig ondernemerschap en de sociale economie te bevorderen; (ESF+) | J4: =VLOOKUP(Tableau1[[#This Row],[Unieke code]],Info!A:I,7,FALSE) -> 0.4 | K4: =VLOOKUP(Tableau1[[#This Row],[Unieke code]],Info!A:I,9,FALSE) -> 134. Maatregelen voor betere toegang tot de arbeidsmarkt | L4: =VLOOKUP(Tableau1[[#This Row],[Unieke code]],Info!A:I,8,FALSE) -> BRU
A5: P21.27/4.1.1/INT/GRAE | B5: =VLOOKUP(Tableau1[[#This Row],[Unieke code]],Info!A:B,2,FALSE) -> Actiris | C5: =VLOOKUP(Tableau1[[#This Row],[Unieke code]],Info!A:C,3,FALSE) -> Dienst BAZW | D5: =VLOOKUP(Tableau1[[#This Row],[Unieke code]],Info!A:I,4,FALSE) -> Werkloze (langdurig) werkzoekenden op individuele basis aan het werk helpen Voor langdurig werkzoekenden moeten geïndividualiseerde maatregelen worden genomen om sociale, psychologische en professionele obstakels te overwinnen. Het doel van al deze acties is om mensen dichter bij de arbeidsmarkt te brengen en hen te helpen bij hun integratie op de arbeidsmarkt op de lange termijn. De methodologie van deze acties is gericht op de individuele werkzoekende. De aangeboden ondersteuning is afgestemd op het werkgelegenheids- en opleidingstraject van de persoon in kwestie. Het profiel en de behoeften van de werkzoekende vormen het uitgangspunt om hem of haar te begeleiden naar geschikte vacatures (en voor zover mogelijk naar knelpuntberoepen, groeiberoepen en beroepen van de toekomst, waaronder beroepen die verband houden met klimaatproblemen) totdat hij of zij weer op de arbeidsmarkt komt op de lange termijn. Deze ondersteuning kan in verschillende fasen plaatsvinden, afhankelijk van de vastgestelde behoeften en in de vorm van groeps- en/of geïndividualiseerde activiteiten: o een eerste individueel beoordelingsgesprek om de behoeften vast te stellen en de ondersteuning te definiëren in het licht van de persoonlijke en professionele situatie; o bepaling van een carrièreplan; o activiteiten om mensen te mobiliseren en hun vertrouwen te vergroten, met name om hen aan te moedigen een veranderingsproces in de richting van werk te beginnen; o verwerving van taalvaardigheden, instrumenten, methoden en benaderingen voor het effectief zoeken naar werk; o afstemming van het profiel van de werkzoekende op vacatures, stages, opleidingen die tot kwalificaties leiden en, waar nodig, gericht op veelbelovende beroepen, beroepen met een tekort, beroepen van de toekomst, beroepen die verband houden met door werkgevers geïdentificeerde kwesties op het gebied van klimaatverandering; o individuele ondersteuning en monitoring tijdens het zoeken naar een opleiding, het zoeken naar een baan en het behouden van een baan; | E5: 44927 | F5: 47118 | G5: 8245597 | H5: =VLOOKUP(Tableau1[[#This Row],[Unieke code]],Info!A:I,5,FALSE) -> ESF+ | I5: =VLOOKUP(Tableau1[[#This Row],[Unieke code]],Info!A:I,6,FALSE) -> ESO4.1. Verbeteren van de toegang tot werk en activeringsmaatregelen voor alle werkzoekenden, met name jongeren, vooral door de jongerengarantie uit te voeren, voor langdurig werklozen en voor kansarme groepen op de arbeidsmarkt, en voor inactieven, en door zelfstandig ondernemerschap en de sociale economie te bevorderen; (ESF+) | J5: =VLOOKUP(Tableau1[[#This Row],[Unieke code]],Info!A:I,7,FALSE) -> 0.4 | K5: =VLOOKUP(Tableau1[[#This Row],[Unieke code]],Info!A:I,9,FALSE) -> 135. Maatregelen voor betere toegang tot de arbeidsmarkt voor langdurig werklozen | L5: =VLOOKUP(Tableau1[[#This Row],[Unieke code]],Info!A:I,8,FALSE) -> BRU
A6: P21.27/4.1.1/INT/POOLH | B6: =VLOOKUP(Tableau1[[#This Row],[Unieke code]],Info!A:B,2,FALSE) -> Actiris | C6: =VLOOKUP(Tableau1[[#This Row],[Unieke code]],Info!A:C,3,FALSE) -> Dienst Handicap en Werk | D6: =VLOOKUP(Tableau1[[#This Row],[Unieke code]],Info!A:I,4,FALSE) -> Matching tussen werkzoekenden met een erkende handicap en werkgevers uit de private en publieke sector Deze matching maakt deel uit van een geïntegreerd traject voor werkzoekenden met een handicap en is bedoeld om de kloof tussen werkzoekenden met een handicap en de arbeidsmarkt, d.w.z. “reguliere werkgevers”, te overbruggen, met als uiteindelijke doel een persoon met een handicap langdurig aan het werk te krijgen (minimaal 6 maanden). In deze context kunnen met name de volgende acties worden ondersteund: • bewustmaking van werkgevers op de reguliere arbeidsmarkt; • het verstrekken van informatie en hulp aan werkgevers bij hun inspanningen om werkzoekenden met een handicap in dienst te nemen; • samenwerken met werkgevers om specifieke, alomvattende en inclusieve jobaanbiedingen op te stellen en te verspreiden, tijdelijk gereserveerd voor mensen met een erkende handicap; • Follow-up in alle stadia van de aanwerving nadat Actiris de werkzoekende aan de werkgever heeft gekoppeld; • werkzoekenden/werkgevers in contact brengen met het gespecialiseerde netwerk om een succesvolle tewerkstelling op lange termijn te verzekeren. | E6: 44927 | F6: 47118 | G6: 1405090 | H6: =VLOOKUP(Tableau1[[#This Row],[Unieke code]],Info!A:I,5,FALSE) -> ESF+ | I6: =VLOOKUP(Tableau1[[#This Row],[Unieke code]],Info!A:I,6,FALSE) -> ESO4.1. Verbeteren van de toegang tot werk en activeringsmaatregelen voor alle werkzoekenden, met name jongeren, vooral door de jongerengarantie uit te voeren, voor langdurig werklozen en voor kansarme groepen op de arbeidsmarkt, en voor inactieven, en door zelfstandig ondernemerschap en de sociale economie te bevorderen; (ESF+) | J6: =VLOOKUP(Tableau1[[#This Row],[Unieke code]],Info!A:I,7,FALSE) -> 0.4 | K6: =VLOOKUP(Tableau1[[#This Row],[Unieke code]],Info!A:I,9,FALSE) -> 134. Maatregelen voor betere toegang tot de arbeidsmarkt | L6: =VLOOKUP(Tableau1[[#This Row],[Unieke code]],Info!A:I,8,FALSE) -> BRU
A7: P21.27/4.1.1/ACE/ILES | B7: =VLOOKUP(Tableau1[[#This Row],[Unieke code]],Info!A:B,2,FALSE) -> Iles | C7: =VLOOKUP(Tableau1[[#This Row],[Unieke code]],Info!A:C,3,FALSE) -> Begeleiding bij de creatie van een eigentewerkstelling | D7: =VLOOKUP(Tableau1[[#This Row],[Unieke code]],Info!A:I,4,FALSE) -> Werkzoekenden de oplossing bieden om hun eigen baan te creëren door middel van gepersonaliseerde ondersteuning en coaching tijdens het hele proces van het creëren van hun eigen baan en door hen te helpen de nodige vaardigheden te verwerven (technisch, generiek, digitaal en taalkundig) terwijl de realisatie van het ondernemersproject wordt ondersteund. Deze actie ondersteunt werkzoekenden bij het creëren van hun eigen baan, hetzij als zelfstandige, hetzij als werknemer in het bedrijf of de non-profitorganisatie dat wordt opgericht. Ondersteuning bij het creëren van een baan wordt geboden als onderdeel van een algemeen, gestructureerd en geïndividualiseerd programma, bestaande uit verschillende fasen: 1. Ontvangst en informatie over de vooruitzichten en vereisten voor het creëren van een eigen baan 2. analyse van het project/diagnose 3. begeleiding, inclusief • in praktijk brengen van het project • opstellen van een projectdossier, dat een ondernemingsplan, een financieel plan en een gestructureerd actieplan voor de ontwikkeling van het project kan bevatten, enz; • uitvoering van het actieplan om het bedrijf te lanceren (bijv. het vinden van leningen, het opzetten van procedures, logistieke ondersteuning, enz;) • versterken van ondernemersvaardigheden • Follow-up na de oprichting (of toetreding tot een bedrijfscoöperatie). Werkzoekenden moeten kunnen profiteren van alle verschillende fasen. De maximale duur voor volledige ondersteuning is twee jaar. | E7: 45292 | F7: 46752 | G7: 912000 | H7: =VLOOKUP(Tableau1[[#This Row],[Unieke code]],Info!A:I,5,FALSE) -> ESF+ | I7: =VLOOKUP(Tableau1[[#This Row],[Unieke code]],Info!A:I,6,FALSE) -> ESO4.1. Verbeteren van de toegang tot werk en activeringsmaatregelen voor alle werkzoekenden, met name jongeren, vooral door de jongerengarantie uit te voeren, voor langdurig werklozen en voor kansarme groepen op de arbeidsmarkt, en voor inactieven, en door zelfstandig ondernemerschap en de sociale economie te bevorderen; (ESF+) | J7: =VLOOKUP(Tableau1[[#This Row],[Unieke code]],Info!A:I,7,FALSE) -> 0.4 | K7: =VLOOKUP(Tableau1[[#This Row],[Unieke code]],Info!A:I,9,FALSE) -> 137. Steun voor zelfstandigen en startende ondernemingen | L7: =VLOOKUP(Tableau1[[#This Row],[Unieke code]],Info!A:I,8,FALSE) -> BRU
A8: P21.27/4.1.1/ACE/CRED | B8: =VLOOKUP(Tableau1[[#This Row],[Unieke code]],Info!A:B,2,FALSE) -> Crédal | C8: =VLOOKUP(Tableau1[[#This Row],[Unieke code]],Info!A:C,3,FALSE) -> Begeleiding bij de creatie van een eigentewerkstelling | D8: =VLOOKUP(Tableau1[[#This Row],[Unieke code]],Info!A:I,4,FALSE) -> Werkzoekenden de oplossing bieden om hun eigen baan te creëren door middel van gepersonaliseerde ondersteuning en coaching tijdens het hele proces van het creëren van hun eigen baan en door hen te helpen de nodige vaardigheden te verwerven (technisch, generiek, digitaal en taalkundig) terwijl de realisatie van het ondernemersproject wordt ondersteund. Deze actie ondersteunt werkzoekenden bij het creëren van hun eigen baan, hetzij als zelfstandige, hetzij als werknemer in het bedrijf of de non-profitorganisatie dat wordt opgericht. Ondersteuning bij het creëren van een baan wordt geboden als onderdeel van een algemeen, gestructureerd en geïndividualiseerd programma, bestaande uit verschillende fasen: 1. Ontvangst en informatie over de vooruitzichten en vereisten voor het creëren van een eigen baan 2. analyse van het project/diagnose 3. begeleiding, inclusief • in praktijk brengen van het project • opstellen van een projectdossier, dat een ondernemingsplan, een financieel plan en een gestructureerd actieplan voor de ontwikkeling van het project kan bevatten, enz; • uitvoering van het actieplan om het bedrijf te lanceren (bijv. het vinden van leningen, het opzetten van procedures, logistieke ondersteuning, enz;) • versterken van ondernemersvaardigheden • Follow-up na de oprichting (of toetreding tot een bedrijfscoöperatie). Werkzoekenden moeten kunnen profiteren van alle verschillende fasen. De maximale duur voor volledige ondersteuning is twee jaar. | E8: 45292 | F8: 46752 | G8: 912000 | H8: =VLOOKUP(Tableau1[[#This Row],[Unieke code]],Info!A:I,5,FALSE) -> ESF+ | I8: =VLOOKUP(Tableau1[[#This Row],[Unieke code]],Info!A:I,6,FALSE) -> ESO4.1. Verbeteren van de toegang tot werk en activeringsmaatregelen voor alle werkzoekenden, met name jongeren, vooral door de jongerengarantie uit te voeren, voor langdurig werklozen en voor kansarme groepen op de arbeidsmarkt, en voor inactieven, en door zelfstandig ondernemerschap en de sociale economie te bevorderen; (ESF+) | J8: =VLOOKUP(Tableau1[[#This Row],[Unieke code]],Info!A:I,7,FALSE) -> 0.4 | K8: =VLOOKUP(Tableau1[[#This Row],[Unieke code]],Info!A:I,9,FALSE) -> 137. Steun voor zelfstandigen en startende ondernemingen | L8: =VLOOKUP(Tableau1[[#This Row],[Unieke code]],Info!A:I,8,FALSE) -> BRU
A9: P21.27/4.1.1/ACE/FLTM | B9: =VLOOKUP(Tableau1[[#This Row],[Unieke code]],Info!A:B,2,FALSE) -> Fais-le toi-même | C9: =VLOOKUP(Tableau1[[#This Row],[Unieke code]],Info!A:C,3,FALSE) -> Begeleiding bij de creatie van een eigentewerkstelling | D9: =VLOOKUP(Tableau1[[#This Row],[Unieke code]],Info!A:I,4,FALSE) -> Werkzoekenden de oplossing bieden om hun eigen baan te creëren door middel van gepersonaliseerde ondersteuning en coaching tijdens het hele proces van het creëren van hun eigen baan en door hen te helpen de nodige vaardigheden te verwerven (technisch, generiek, digitaal en taalkundig) terwijl de realisatie van het ondernemersproject wordt ondersteund. Deze actie ondersteunt werkzoekenden bij het creëren van hun eigen baan, hetzij als zelfstandige, hetzij als werknemer in het bedrijf of de non-profitorganisatie dat wordt opgericht. Ondersteuning bij het creëren van een baan wordt geboden als onderdeel van een algemeen, gestructureerd en geïndividualiseerd programma, bestaande uit verschillende fasen: 1. Ontvangst en informatie over de vooruitzichten en vereisten voor het creëren van een eigen baan 2. analyse van het project/diagnose 3. begeleiding, inclusief • in praktijk brengen van het project • opstellen van een projectdossier, dat een ondernemingsplan, een financieel plan en een gestructureerd actieplan voor de ontwikkeling van het project kan bevatten, enz; • uitvoering van het actieplan om het bedrijf te lanceren (bijv. het vinden van leningen, het opzetten van procedures, logistieke ondersteuning, enz;) • versterken van ondernemersvaardigheden • Follow-up na de oprichting (of toetreding tot een bedrijfscoöperatie). Werkzoekenden moeten kunnen profiteren van alle verschillende fasen. De maximale duur voor volledige ondersteuning is twee jaar. | E9: 45292 | F9: 46752 | G9: 456000 | H9: =VLOOKUP(Tableau1[[#This Row],[Unieke code]],Info!A:I,5,FALSE) -> ESF+ | I9: =VLOOKUP(Tableau1[[#This Row],[Unieke code]],Info!A:I,6,FALSE) -> ESO4.1. Verbeteren van de toegang tot werk en activeringsmaatregelen voor alle werkzoekenden, met name jongeren, vooral door de jongerengarantie uit te voeren, voor langdurig werklozen en voor kansarme groepen op de arbeidsmarkt, en voor inactieven, en door zelfstandig ondernemerschap en de sociale economie te bevorderen; (ESF+) | J9: =VLOOKUP(Tableau1[[#This Row],[Unieke code]],Info!A:I,7,FALSE) -> 0.4 | K9: =VLOOKUP(Tableau1[[#This Row],[Unieke code]],Info!A:I,9,FALSE) -> 137. Steun voor zelfstandigen en startende ondernemingen | L9: =VLOOKUP(Tableau1[[#This Row],[Unieke code]],Info!A:I,8,FALSE) -> BRU
A10: P21.27/4.1.1/ACE/JYS | B10: =VLOOKUP(Tableau1[[#This Row],[Unieke code]],Info!A:B,2,FALSE) -> JobYourself | C10: =VLOOKUP(Tableau1[[#This Row],[Unieke code]],Info!A:C,3,FALSE) -> Begeleiding bij de creatie van een eigentewerkstelling | D10: =VLOOKUP(Tableau1[[#This Row],[Unieke code]],Info!A:I,4,FALSE) -> Werkzoekenden de oplossing bieden om hun eigen baan te creëren door middel van gepersonaliseerde ondersteuning en coaching tijdens het hele proces van het creëren van hun eigen baan en door hen te helpen de nodige vaardigheden te verwerven (technisch, generiek, digitaal en taalkundig) terwijl de realisatie van het ondernemersproject wordt ondersteund. Deze actie ondersteunt werkzoekenden bij het creëren van hun eigen baan, hetzij als zelfstandige, hetzij als werknemer in het bedrijf of de non-profitorganisatie dat wordt opgericht. Ondersteuning bij het creëren van een baan wordt geboden als onderdeel van een algemeen, gestructureerd en geïndividualiseerd programma, bestaande uit verschillende fasen: 1. Ontvangst en informatie over de vooruitzichten en vereisten voor het creëren van een eigen baan 2. analyse van het project/diagnose 3. begeleiding, inclusief • in praktijk brengen van het project • opstellen van een projectdossier, dat een ondernemingsplan, een financieel plan en een gestructureerd actieplan voor de ontwikkeling van het project kan bevatten, enz; • uitvoering van het actieplan om het bedrijf te lanceren (bijv. het vinden van leningen, het opzetten van procedures, logistieke ondersteuning, enz;) • versterken van ondernemersvaardigheden • Follow-up na de oprichting (of toetreding tot een bedrijfscoöperatie). Werkzoekenden moeten kunnen profiteren van alle verschillende fasen. De maximale duur voor volledige ondersteuning is twee jaar. | E10: 45292 | F10: 46752 | G10: 927200 | H10: =VLOOKUP(Tableau1[[#This Row],[Unieke code]],Info!A:I,5,FALSE) -> ESF+ | I10: =VLOOKUP(Tableau1[[#This Row],[Unieke code]],Info!A:I,6,FALSE) -> ESO4.1. Verbeteren van de toegang tot werk en activeringsmaatregelen voor alle werkzoekenden, met name jongeren, vooral door de jongerengarantie uit te voeren, voor langdurig werklozen en voor kansarme groepen op de arbeidsmarkt, en voor inactieven, en door zelfstandig ondernemerschap en de sociale economie te bevorderen; (ESF+) | J10: =VLOOKUP(Tableau1[[#This Row],[Unieke code]],Info!A:I,7,FALSE) -> 0.4 | K10: =VLOOKUP(Tableau1[[#This Row],[Unieke code]],Info!A:I,9,FALSE) -> 137. Steun voor zelfstandigen en startende ondernemingen | L10: =VLOOKUP(Tableau1[[#This Row],[Unieke code]],Info!A:I,8,FALSE) -> BRU
A11: P21.27/4.1.1/ACE/MICR | B11: =VLOOKUP(Tableau1[[#This Row],[Unieke code]],Info!A:B,2,FALSE) -> MicroStart | C11: =VLOOKUP(Tableau1[[#This Row],[Unieke code]],Info!A:C,3,FALSE) -> Begeleiding bij de creatie van een eigentewerkstelling | D11: =VLOOKUP(Tableau1[[#This Row],[Unieke code]],Info!A:I,4,FALSE) -> Werkzoekenden de oplossing bieden om hun eigen baan te creëren door middel van gepersonaliseerde ondersteuning en coaching tijdens het hele proces van het creëren van hun eigen baan en door hen te helpen de nodige vaardigheden te verwerven (technisch, generiek, digitaal en taalkundig) terwijl de realisatie van het ondernemersproject wordt ondersteund. Deze actie ondersteunt werkzoekenden bij het creëren van hun eigen baan, hetzij als zelfstandige, hetzij als werknemer in het bedrijf of de non-profitorganisatie dat wordt opgericht. Ondersteuning bij het creëren van een baan wordt geboden als onderdeel van een algemeen, gestructureerd en geïndividualiseerd programma, bestaande uit verschillende fasen: 1. Ontvangst en informatie over de vooruitzichten en vereisten voor het creëren van een eigen baan 2. analyse van het project/diagnose 3. begeleiding, inclusief • in praktijk brengen van het project • opstellen van een projectdossier, dat een ondernemingsplan, een financieel plan en een gestructureerd actieplan voor de ontwikkeling van het project kan bevatten, enz; • uitvoering van het actieplan om het bedrijf te lanceren (bijv. het vinden van leningen, het opzetten van procedures, logistieke ondersteuning, enz;) • versterken van ondernemersvaardigheden • Follow-up na de oprichting (of toetreding tot een bedrijfscoöperatie). Werkzoekenden moeten kunnen profiteren van alle verschillende fasen. De maximale duur voor volledige ondersteuning is twee jaar. | E11: 45292 | F11: 46752 | G11: 684000 | H11: =VLOOKUP(Tableau1[[#This Row],[Unieke code]],Info!A:I,5,FALSE) -> ESF+ | I11: =VLOOKUP(Tableau1[[#This Row],[Unieke code]],Info!A:I,6,FALSE) -> ESO4.1. Verbeteren van de toegang tot werk en activeringsmaatregelen voor alle werkzoekenden, met name jongeren, vooral door de jongerengarantie uit te voeren, voor langdurig werklozen en voor kansarme groepen op de arbeidsmarkt, en voor inactieven, en door zelfstandig ondernemerschap en de sociale economie te bevorderen; (ESF+) | J11: =VLOOKUP(Tableau1[[#This Row],[Unieke code]],Info!A:I,7,FALSE) -> 0.4 | K11: =VLOOKUP(Tableau1[[#This Row],[Unieke code]],Info!A:I,9,FALSE) -> 137. Steun voor zelfstandigen en startende ondernemingen | L11: =VLOOKUP(Tableau1[[#This Row],[Unieke code]],Info!A:I,8,FALSE) -> BRU
A12: P21.27/4.1.1/ACE/REFR | B12: =VLOOKUP(Tableau1[[#This Row],[Unieke code]],Info!A:B,2,FALSE) -> Refresh | C12: =VLOOKUP(Tableau1[[#This Row],[Unieke code]],Info!A:C,3,FALSE) -> Begeleiding bij de creatie van een eigentewerkstelling | D12: =VLOOKUP(Tableau1[[#This Row],[Unieke code]],Info!A:I,4,FALSE) -> Werkzoekenden de oplossing bieden om hun eigen baan te creëren door middel van gepersonaliseerde ondersteuning en coaching tijdens het hele proces van het creëren van hun eigen baan en door hen te helpen de nodige vaardigheden te verwerven (technisch, generiek, digitaal en taalkundig) terwijl de realisatie van het ondernemersproject wordt ondersteund. Deze actie ondersteunt werkzoekenden bij het creëren van hun eigen baan, hetzij als zelfstandige, hetzij als werknemer in het bedrijf of de non-profitorganisatie dat wordt opgericht. Ondersteuning bij het creëren van een baan wordt geboden als onderdeel van een algemeen, gestructureerd en geïndividualiseerd programma, bestaande uit verschillende fasen: 1. Ontvangst en informatie over de vooruitzichten en vereisten voor het creëren van een eigen baan 2. analyse van het project/diagnose 3. begeleiding, inclusief • in praktijk brengen van het project • opstellen van een projectdossier, dat een ondernemingsplan, een financieel plan en een gestructureerd actieplan voor de ontwikkeling van het project kan bevatten, enz; • uitvoering van het actieplan om het bedrijf te lanceren (bijv. het vinden van leningen, het opzetten van procedures, logistieke ondersteuning, enz;) • versterken van ondernemersvaardigheden • Follow-up na de oprichting (of toetreding tot een bedrijfscoöperatie). Werkzoekenden moeten kunnen profiteren van alle verschillende fasen. De maximale duur voor volledige ondersteuning is twee jaar. | E12: 45292 | F12: 46752 | G12: 514360 | H12: =VLOOKUP(Tableau1[[#This Row],[Unieke code]],Info!A:I,5,FALSE) -> ESF+ | I12: =VLOOKUP(Tableau1[[#This Row],[Unieke code]],Info!A:I,6,FALSE) -> ESO4.1. Verbeteren van de toegang tot werk en activeringsmaatregelen voor alle werkzoekenden, met name jongeren, vooral door de jongerengarantie uit te voeren, voor langdurig werklozen en voor kansarme groepen op de arbeidsmarkt, en voor inactieven, en door zelfstandig ondernemerschap en de sociale economie te bevorderen; (ESF+) | J12: =VLOOKUP(Tableau1[[#This Row],[Unieke code]],Info!A:I,7,FALSE) -> 0.4 | K12: =VLOOKUP(Tableau1[[#This Row],[Unieke code]],Info!A:I,9,FALSE) -> 137. Steun voor zelfstandigen en startende ondernemingen | L12: =VLOOKUP(Tableau1[[#This Row],[Unieke code]],Info!A:I,8,FALSE) -> BRU
A14: P21.27/4.1.2/NEETS/DBROEJ/VNNS | B14: =VLOOKUP(Tableau1[[#This Row],[Unieke code]],Info!A:B,2,FALSE) -> De Brusselse Organisatie voor de Emancipatie van Jongeren | C14: =VLOOKUP(Tableau1[[#This Row],[Unieke code]],Info!A:C,3,FALSE) -> Begeleiding NEETS-jongeren | D14: =VLOOKUP(Tableau1[[#This Row],[Unieke code]],Info!A:I,4,FALSE) -> Begeleiding van jonge werkloze werkzoekenden, met prioriteit voor laaggeschoolde jonge werkzoekenden met een grote afstand tot de arbeidsmarkt. Deze actie past in de praktijk ontwikkelde methoden toe, met als doel jongeren te bereiken die ver van de arbeidsmarkt af staan, hen weer aan het werk te krijgen en hen dichter bij de instellingen te brengen, zodat zij het contact en het vertrouwen met hen kunnen vernieuwen. In het kader van de strijd tegen jeugdwerkloosheid wordt de geboden ondersteuning afgestemd op de levensomstandigheden van elke jonge werkzoekende. De ondersteuning is daarom gebaseerd op een methodologie waarin de jongere centraal staat, in plaats van een methodologie van de openbare dienst voor arbeidsvoorziening op te leggen. De ondersteunde acties omvatten : • het herstellen van contact en vertrouwen tussen jongeren die de arbeidsmarkt hebben verlaten en de instellingen; • opstellen van een carrièreplan • prospectie naar banen, stages, opleidingen, enz; • het bieden van individuele, persoonlijke ondersteuning en begeleiding op weg naar een baan, stage, opleiding of terugkeer naar het onderwijs; • stagemogelijkheden of banen creëren voor de jongere door gebruik te maken van het netwerk van werkgevers; • de jongere ondersteunen tijdens de baan, stage, opleiding of studie; • zorgen voor “post-begeleiding” follow-up om de levensvatbaarheid van de oplossing voor de jongere op de lange termijn te helpen garanderen. | E14: 44562 | F14: 45291 | G14: 339498 | H14: =VLOOKUP(Tableau1[[#This Row],[Unieke code]],Info!A:I,5,FALSE) -> ESF+ | I14: =VLOOKUP(Tableau1[[#This Row],[Unieke code]],Info!A:I,6,FALSE) -> ESO4.1. Verbeteren van de toegang tot werk en activeringsmaatregelen voor alle werkzoekenden, met name jongeren, vooral door de jongerengarantie uit te voeren, voor langdurig werklozen en voor kansarme groepen op de arbeidsmarkt, en voor inactieven, en door zelfstandig ondernemerschap en de sociale economie te bevorderen; (ESF+) | J14: =VLOOKUP(Tableau1[[#This Row],[Unieke code]],Info!A:I,7,FALSE) -> 0.4 | K14: =VLOOKUP(Tableau1[[#This Row],[Unieke code]],Info!A:I,9,FALSE) -> 136. Specifieke ondersteuning van werkgelegenheid bij jongeren en sociaal-economische integratie van jongeren | L14: =VLOOKUP(Tableau1[[#This Row],[Unieke code]],Info!A:I,8,FALSE) -> BRU
A15: P21.27/4.1.2/NEETS/PLS/100 | B15: =VLOOKUP(Tableau1[[#This Row],[Unieke code]],Info!A:B,2,FALSE) -> POUR LA SOLIDARITÉ | C15: =VLOOKUP(Tableau1[[#This Row],[Unieke code]],Info!A:C,3,FALSE) -> Begeleiding NEETS-jongeren | D15: =VLOOKUP(Tableau1[[#This Row],[Unieke code]],Info!A:I,4,FALSE) -> Begeleiding van jonge werkloze werkzoekenden, met prioriteit voor laaggeschoolde jonge werkzoekenden met een grote afstand tot de arbeidsmarkt. Deze actie past in de praktijk ontwikkelde methoden toe, met als doel jongeren te bereiken die ver van de arbeidsmarkt af staan, hen weer aan het werk te krijgen en hen dichter bij de instellingen te brengen, zodat zij het contact en het vertrouwen met hen kunnen vernieuwen. In het kader van de strijd tegen jeugdwerkloosheid wordt de geboden ondersteuning afgestemd op de levensomstandigheden van elke jonge werkzoekende. De ondersteuning is daarom gebaseerd op een methodologie waarin de jongere centraal staat, in plaats van een methodologie van de openbare dienst voor arbeidsvoorziening op te leggen. De ondersteunde acties omvatten : • het herstellen van contact en vertrouwen tussen jongeren die de arbeidsmarkt hebben verlaten en de instellingen; • opstellen van een carrièreplan • prospectie naar banen, stages, opleidingen, enz; • het bieden van individuele, persoonlijke ondersteuning en begeleiding op weg naar een baan, stage, opleiding of terugkeer naar het onderwijs; • stagemogelijkheden of banen creëren voor de jongere door gebruik te maken van het netwerk van werkgevers; • de jongere ondersteunen tijdens de baan, stage, opleiding of studie; • zorgen voor “post-begeleiding” follow-up om de levensvatbaarheid van de oplossing voor de jongere op de lange termijn te helpen garanderen. | E15: 44562 | F15: 45291 | G15: 290580 | H15: =VLOOKUP(Tableau1[[#This Row],[Unieke code]],Info!A:I,5,FALSE) -> ESF+ | I15: =VLOOKUP(Tableau1[[#This Row],[Unieke code]],Info!A:I,6,FALSE) -> ESO4.1. Verbeteren van de toegang tot werk en activeringsmaatregelen voor alle werkzoekenden, met name jongeren, vooral door de jongerengarantie uit te voeren, voor langdurig werklozen en voor kansarme groepen op de arbeidsmarkt, en voor inactieven, en door zelfstandig ondernemerschap en de sociale economie te bevorderen; (ESF+) | J15: =VLOOKUP(Tableau1[[#This Row],[Unieke code]],Info!A:I,7,FALSE) -> 0.4 | K15: =VLOOKUP(Tableau1[[#This Row],[Unieke code]],Info!A:I,9,FALSE) -> 136. Specifieke ondersteuning van werkgelegenheid bij jongeren en sociaal-economische integratie van jongeren | L15: =VLOOKUP(Tableau1[[#This Row],[Unieke code]],Info!A:I,8,FALSE) -> BRU
... A68: P21.27/4.8.4/OSS/VIA | B68: =VLOOKUP(Tableau1[[#This Row],[Unieke code]],Info!A:B,2,FALSE) -> BAPA Via | C68: =VLOOKUP(Tableau1[[#This Row],[Unieke code]],Info!A:C,3,FALSE) -> One Stop Shop | D68: =VLOOKUP(Tableau1[[#This Row],[Unieke code]],Info!A:I,4,FALSE) -> Nieuwkomers en vreemdelingen een aangepast traject naar werk aanbieden via één loket Nieuwkomers (vreemdelingen van EU- of niet-EU-leeftijd, jonger dan 65 jaar, die minder dan 5 jaar legaal in België verblijven en ingeschreven zijn in het rijksregister van een BHG-gemeente) en vreemdelingen zijn kwetsbaarder door de moeilijkheid om te migreren, het verlies van referentiepunten in het gastland, de complexiteit van de te doorlopen procedures en de taalbarrière. Een reeks diensten die worden aangeboden door de onthaalbureaus voor nieuwkomers worden samengebracht op één locatie (one-stop-shop) en zijn afgestemd op de behoeften van mensen die zijn ingeschreven in een Brussels opvangprogramma en die de arbeidsmarkt willen en kunnen betreden. Deze diensten zullen toegankelijk zijn voor de doelgroepen van de onthaalbureaus, die gepersonaliseerde en geïntegreerde diensten nodig hebben en aan wier specifieke behoeften de openbare dienst voor arbeidsvoorziening niet kan voldoen. Er zijn specifieke risico's geïdentificeerd als deze doelgroepen niet rechtstreeks door de onthaalbureaus worden ondersteund. De aangeboden diensten helpen inclusie te bevorderen. Het ene loket biedt een plaats waar mensen die een gelijkaardig traject doorlopen elkaar kunnen ontmoeten en een sociaal netwerk kunnen creëren of opnieuw opbouwen en sociale codes kunnen leren. Het ene loket biedt bredere ondersteuning voor integratie-inspanningen door het onthaalproces (workshops om vertrouwen op te bouwen, culturele en taalcursussen, enz. Elke persoon krijgt snelle en individuele ondersteuning van een coach tijdens zijn traject naar werk, met als doel de segmentatie van het aanbod te vermijden en de complexiteit van het institutionele en administratieve landschap op het vlak van tewerkstelling te verminderen. Met name de volgende acties worden ondersteund - opstellen van een stappenplan voor de uitvoering van het gekozen sociaal-professionele traject - heroriëntatie op verschillende mogelijkheden om het project uit te voeren, dankzij de expertise van lokale spelers die op één plek zijn samengebracht: o zelf werkgelegenheid creëren: • meertalige informatiesessies in groep; • meertalige ondersteuningssessies voor ondernemers; • vertaling en aanpassing van materiaal dat nuttig is voor ondernemers; • organisatie van een rondetafelconferentie over het scheppen van werkgelegenheid door de belangrijkste betrokken structuren. • Zoeken naar een baan: • ondersteuning bij het schrijven van een CV • voorbereiding op een sollicitatiegesprek en een module over de specifieke culturele kenmerken van werkgelegenheid. • ondersteuning en follow-up door een coach • het vinden van een stage, vrijwilligerswerk of opleiding: hulp bij het vinden van een stage, een plek om vrijwilligerswerk te doen of een opleiding. | E68: 44562 | F68: 46752 | G68: 1382753 | H68: =VLOOKUP(Tableau1[[#This Row],[Unieke code]],Info!A:I,5,FALSE) -> ESF+ | I68: =VLOOKUP(Tableau1[[#This Row],[Unieke code]],Info!A:I,6,FALSE) -> ESO4.8. Bevorderen van actieve inclusie met het oog op gelijke kansen, non-discriminatie en actieve participatie, en verbeteren van de inzetbaarheid op de arbeidsmarkt, met name voor kansarme groepen (ESF+) | J68: =VLOOKUP(Tableau1[[#This Row],[Unieke code]],Info!A:I,7,FALSE) -> 0.4 | K68: =VLOOKUP(Tableau1[[#This Row],[Unieke code]],Info!A:I,9,FALSE) -> 157. Maatregelen voor de sociale integratie van onderdanen van derde landen | L68: =VLOOKUP(Tableau1[[#This Row],[Unieke code]],Info!A:I,8,FALSE) -> BRU

Sheet Definities
A1: Kolom | B1: Titel | C1: Definitie
A2: A | B2: Unieke code | C2: unieke identificatiecode van de operatie in het MAP-informatiesysteem
A3: B | B3: Naam van de exploitant | C3: naam van de projectpromotor, bekend als de begunstigde
A4: C | B4: Naam van operatie | C4: titel van de actie zoals ingevoerd in het MAP-informatiesysteem
A5: D | B5: Doel en verwachte of feitelijke resultaten van de concrete actie | C5: de doelstellingen van het project en de verwachte resultaten
A6: E | B6: Begindatum van de concrete actie | C6: deze data worden gebruikt om de subsidiabiliteit van de actie te bepalen.
A7: F | B7: Einddatum van de concrete actie | C7: deze data worden gebruikt om de subsidiabiliteit van de actie te bepalen.
A8: G | B8: Totale kosten van de concrete actie | C8: gedane uitgaven (niet geïndexeerd) of het bedrag dat in aanmerking komt voor ESF-financiering
A9: H | B9: Fonds | C9: het fonds dat de actie heeft medegefinancierd
A10: I | B10: Specifieke doelstelling | C10: code van de specifieke doelstelling die gemeenschappelijk is voor alle ESF+-programma's in alle lidstaten
A11: J | B11: Medefinancieringspercentage van de Unie | C11: het percentage medefinanciering uit Europese fondsen dat op de actie is toegepast
A12: K | B12: Aard van de interventie in het geval van een concrete actie overeenkomstig artikel 73, lid 2, onder g). | C12: Nomenclatuur die specifiek is voor de Europese Unie. De interventiecategorieën worden gebruikt om het gebied of het thema van een project te definiëren. Deze nomenclatuur is gemeenschappelijk voor alle lidstaten.
A13: L | B13: Locatie-indicator of geolocatie van de concrete actie en het betrokken land | C13: het geografische gebied van de actie

Sheet Info
A1: Code unique | B1: Nom de l'opérateur | C1: Nom de l'opération | D1: Objectif de l’opération et les réalisations escomptées ou effectives | E1: Fonds | F1: Objectif spécifique concerné | G1: Taux de cofinancement par l’Union | H1: Indicateur d’emplacement ou la géolocalisation de l’opération et du pays concernés | I1: Type d’intervention dans le cas de l’opération réalisée conformément à l’article 73, paragraphe 2, point g). | J1: x
A2: P21.27/4.1.1/ACE/ILES | B2: Iles | C2: Begeleiding bij de creatie van een eigentewerkstelling | D2: Werkzoekenden de oplossing bieden om hun eigen baan te creëren door middel van gepersonaliseerde ondersteuning en coaching tijdens het hele proces van het creëren van hun eigen baan en door hen te helpen de nodige vaardigheden te verwerven (technisch, generiek, digitaal en taalkundig) terwijl de realisatie van het ondernemersproject wordt ondersteund. Deze actie ondersteunt werkzoekenden bij het creëren van hun eigen baan, hetzij als zelfstandige, hetzij als werknemer in het bedrijf of de non-profitorganisatie dat wordt opgericht. Ondersteuning bij het creëren van een baan wordt geboden als onderdeel van een algemeen, gestructureerd en geïndividualiseerd programma, bestaande uit verschillende fasen: 1. Ontvangst en informatie over de vooruitzichten en vereisten voor het creëren van een eigen baan 2. analyse van het project/diagnose 3. begeleiding, inclusief • in praktijk brengen van het project • opstellen van een projectdossier, dat een ondernemingsplan, een financieel plan en een gestructureerd actieplan voor de ontwikkeling van het project kan bevatten, enz; • uitvoering van het actieplan om het bedrijf te lanceren (bijv. het vinden van leningen, het opzetten van procedures, logistieke ondersteuning, enz;) • versterken van ondernemersvaardigheden • Follow-up na de oprichting (of toetreding tot een bedrijfscoöperatie). Werkzoekenden moeten kunnen profiteren van alle verschillende fasen. De maximale duur voor volledige ondersteuning is twee jaar. | E2: ESF+ | F2: ESO4.1. Verbeteren van de toegang tot werk en activeringsmaatregelen voor alle werkzoekenden, met name jongeren, vooral door de jongerengarantie uit te voeren, voor langdurig werklozen en voor kansarme groepen op de arbeidsmarkt, en voor inactieven, en door zelfstandig ondernemerschap en de sociale economie te bevorderen; (ESF+) | G2: 0.4 | H2: BRU | I2: 137. Steun voor zelfstandigen en startende ondernemingen | J2: x
A3: P21.27/4.1.1/ACE/CRED | B3: Crédal | C3: Begeleiding bij de creatie van een eigentewerkstelling | D3: Werkzoekenden de oplossing bieden om hun eigen baan te creëren door middel van gepersonaliseerde ondersteuning en coaching tijdens het hele proces van het creëren van hun eigen baan en door hen te helpen de nodige vaardigheden te verwerven (technisch, generiek, digitaal en taalkundig) terwijl de realisatie van het ondernemersproject wordt ondersteund. Deze actie ondersteunt werkzoekenden bij het creëren van hun eigen baan, hetzij als zelfstandige, hetzij als werknemer in het bedrijf of de non-profitorganisatie dat wordt opgericht. Ondersteuning bij het creëren van een baan wordt geboden als onderdeel van een algemeen, gestructureerd en geïndividualiseerd programma, bestaande uit verschillende fasen: 1. Ontvangst en informatie over de vooruitzichten en vereisten voor het creëren van een eigen baan 2. analyse van het project/diagnose 3. begeleiding, inclusief • in praktijk brengen van het project • opstellen van een projectdossier, dat een ondernemingsplan, een financieel plan en een gestructureerd actieplan voor de ontwikkeling van het project kan bevatten, enz; • uitvoering van het actieplan om het bedrijf te lanceren (bijv. het vinden van leningen, het opzetten van procedures, logistieke ondersteuning, enz;) • versterken van ondernemersvaardigheden • Follow-up na de oprichting (of toetreding tot een bedrijfscoöperatie). Werkzoekenden moeten kunnen profiteren van alle verschillende fasen. De maximale duur voor volledige ondersteuning is twee jaar. | E3: ESF+ | F3: ESO4.1. Verbeteren van de toegang tot werk en activeringsmaatregelen voor alle werkzoekenden, met name jongeren, vooral door de jongerengarantie uit te voeren, voor langdurig werklozen en voor kansarme groepen op de arbeidsmarkt, en voor inactieven, en door zelfstandig ondernemerschap en de sociale economie te bevorderen; (ESF+) | G3: 0.4 | H3: BRU | I3: 137. Steun voor zelfstandigen en startende ondernemingen | J3: x
