Workbook
Name A._Kerncijfers: [1]A!#REF!
Name A._Kerncijfers: [1]A!#REF!
Name Query1: #REF!
Name Query1: #REF!

Sheet F
A1: F. | B1: Caractéristiques des communes de la Région bruxelloise
B3: Ce fichier centralise diverses données sur les caractéristiques et l'évolution de la population, du chômage et de l’emploi dans les 19 communes bruxelloises. La répartition géographique de la population, des demandeurs d'emploi inoccupés, du taux de chômage et des indépendants est effectuée d'après le lieu de domicile des personnes recensées. Par contre, la répartition géographique de l'emploi salarié et des établissements est effectuée d'après le lieu de travail, c'est-à-dire, le lieu où l'activité professionnelle est exercée.
B9: 1. Population
B11: Communes bruxelloises, provinces et régions | C11: Évolution | D11: 1995-2025
C13: Genre, classe d'âge et densité | D13: 2025
C15: Nationalité | D15: 2025
B18: 2. Demandeurs d'emploi inoccupés (DEI)
B20: Communes bruxelloises | C20: Genre | D20: 1992-2024
C22: Genre, classe d’âge, durée d’inactivité, niveau d’études | D22: 2024
C24: Classe d’âge et genre | D24: 2024
C26: Niveau d'études et genre | D26: 2024
C28: Durée d'inactivité et genre | D28: 2024
C30: Nationalié et genre | D30: 2024
B33: 3. Taux de chômage
B35: Communes bruxelloises | C35: Genre | D35: 1998-2024
C37: Jeunes de moins de 25 ans et genre | D37: 2001-2024
B40: 4. Emploi salarié
B42: Communes bruxelloises et régions | C42: Évolution | D42: 1992-2023
C44: Secteur d’activité | D44: 2023
C46: Genre, statut, type d'activité et taille d'établissement | D46: 2023
B49: 5. Établissements
B51: Communes bruxelloises et régions | C51: Évolution | D51: 1992-2023
C53: Taille d'établissement et type d'activité (privé/public) | D53: 2023
C55: Secteur d'activité | D55: 2023
B58: 6. Emploi indépendant
B60: Communes bruxelloises et régions | C60: Évolution | D60: 1990-2024
C62: Secteur d'activité et genre | D62: 2024

Sheet F.1.1
A1: F. Caractéristiques des communes de la Région bruxelloise | P1: Retour au menu
A3: F.1. Population
A5: Tableau F.1.1 : Évolution de la population par commune bruxelloise, par province et région (1995-2025)
A7: (nombre) | B7: 1995 | C7: 1996 | D7: 1997 | E7: 1998 | F7: 1999 | G7: 2000 | H7: 2001 | I7: 2002 | J7: 2003 | K7: 2004 | L7: 2005 | M7: 2006 | N7: 2007 | O7: 2008 | P7: 2009
A9: Communes bruxelloises
A10: Anderlecht | B10: 87920 | C10: 87257 | D10: 87451 | E10: 87532 | F10: 87401 | G10: 87812 | H10: 88822 | I10: 90134 | J10: 91759 | K10: 92755 | L10: 93808 | M10: 96011 | N10: 97601 | O10: 99085 | P10: 101371
A11: Auderghem | B11: 29316 | C11: 29126 | D11: 29033 | E11: 28867 | F11: 28931 | G11: 28804 | H11: 28916 | I11: 29000 | J11: 28992 | K11: 29088 | L11: 29265 | M11: 29552 | N11: 29681 | O11: 30086 | P11: 30456
A12: Berchem-Ste-Agathe | B12: 18653 | C12: 18351 | D12: 18508 | E12: 18576 | F12: 18669 | G12: 18735 | H12: 19037 | I12: 19320 | J12: 19478 | K12: 19641 | L12: 19968 | M12: 20078 | N12: 20431 | O12: 20976 | P12: 21669
A13: Bruxelles | B13: 135681 | C13: 133138 | D13: 133845 | E13: 134046 | F13: 134243 | G13: 133859 | H13: 134395 | I13: 136730 | J13: 139501 | K13: 141312 | L13: 142853 | M13: 144784 | N13: 145917 | O13: 148873 | P13: 153377
A14: Etterbeek | B14: 38727 | C14: 38400 | D14: 38315 | E14: 39235 | F14: 39162 | G14: 39404 | H14: 39634 | I14: 40378 | J14: 41019 | K14: 41342 | L14: 41097 | M14: 41740 | N14: 42342 | O14: 42902 | P14: 43512
A15: Evere | B15: 29819 | C15: 29644 | D15: 30053 | E15: 30379 | F15: 30806 | G15: 31348 | H15: 31610 | I15: 32089 | J15: 32703 | K15: 32718 | L15: 33069 | M15: 33462 | N15: 34128 | O15: 34727 | P15: 35372
A16: Forest | B16: 45577 | C16: 45512 | D16: 45752 | E16: 45365 | F16: 45465 | G16: 45555 | H16: 46048 | I16: 46812 | J16: 47313 | K16: 47426 | L16: 47555 | M16: 47719 | N16: 48284 | O16: 48906 | P16: 49757
A17: Ganshoren | B17: 20003 | C17: 19912 | D17: 19735 | E17: 19637 | F17: 19816 | G17: 19757 | H17: 19861 | I17: 20034 | J17: 20247 | K17: 20492 | L17: 20609 | M17: 20970 | N17: 21395 | O17: 21743 | P17: 22160
A18: Ixelles | B18: 72309 | C18: 72358 | D18: 71926 | E18: 72496 | F18: 72524 | G18: 73174 | H18: 72898 | I18: 74377 | J18: 75841 | K18: 76092 | L18: 77729 | M18: 77511 | N18: 78088 | O18: 79768 | P18: 80312
A19: Jette | B19: 38855 | C19: 38479 | D19: 38686 | E19: 38855 | F19: 39166 | G19: 39749 | H19: 40075 | I19: 40893 | J19: 41569 | K19: 41938 | L19: 42250 | M19: 42981 | N19: 43564 | O19: 44601 | P19: 45637
A20: Koekelberg | B20: 16176 | C20: 15916 | D20: 15791 | E20: 15875 | F20: 16014 | G20: 16211 | H20: 16343 | I20: 16716 | J20: 17021 | K20: 17317 | L20: 17721 | M20: 18157 | N20: 18541 | O20: 19020 | P20: 19380
A21: Molenbeek-St-Jean | B21: 68406 | C21: 68513 | D21: 68912 | E21: 69380 | F21: 70075 | G21: 71219 | H21: 72380 | I21: 74662 | J21: 76177 | K21: 78087 | L21: 78520 | M21: 79877 | N21: 81632 | O21: 83674 | P21: 85735
... A29: Région bruxelloise | B29: 951580 | C29: 948122 | D29: 950597 | E29: 953175 | F29: 954460 | G29: 959318 | H29: 964405 | I29: 978339 | J29: 992041 | K29: 999899 | L29: 1006749 | M29: 1018804 | N29: 1031215 | O29: 1048491 | P29: 1068532
A30: Provinces flamandes
A31: Anvers | B31: 1628710 | C31: 1631243 | D31: 1635640 | E31: 1637857 | F31: 1640966 | G31: 1643972 | H31: 1645652 | I31: 1652450 | J31: 1661119 | K31: 1668812 | L31: 1676858 | M31: 1688493 | N31: 1700570 | O31: 1715707 | P31: 1731174
A32: Brabant flamand | B32: 995266 | C32: 999186 | D32: 1004692 | E32: 1007882 | F32: 1011588 | G32: 1014704 | H32: 1018403 | I32: 1022821 | J32: 1027839 | K32: 1031904 | L32: 1037786 | M32: 1044133 | N32: 1052467 | O32: 1060232 | P32: 1068838
A33: Arrondissement Hal-Vilvorde | B33: 549165 | C33: 550507 | D33: 552505 | E33: 554110 | F33: 556321 | G33: 558220 | H33: 560138 | I33: 563370 | J33: 565759 | K33: 568791 | L33: 572697 | M33: 576008 | N33: 580407 | O33: 584416 | P33: 588743
A34: Arrondissement Louvain | B34: 446101 | C34: 448679 | D34: 452187 | E34: 453772 | F34: 455267 | G34: 456484 | H34: 458265 | I34: 459451 | J34: 462080 | K34: 463113 | L34: 465089 | M34: 468125 | N34: 472060 | O34: 475816 | P34: 480095
A35: Flandre occidentale | B35: 1121135 | C35: 1122849 | D35: 1123786 | E35: 1125140 | F35: 1127091 | G35: 1128774 | H35: 1130040 | I35: 1132275 | J35: 1133931 | K35: 1135802 | L35: 1138503 | M35: 1141866 | N35: 1145878 | O35: 1150487 | P35: 1155290
A36: Flandre orientale | B36: 1349382 | C36: 1351777 | D36: 1354737 | E36: 1357576 | F36: 1359702 | G36: 1361623 | H36: 1363672 | I36: 1366652 | J36: 1370136 | K36: 1373720 | L36: 1380072 | M36: 1389450 | N36: 1398253 | O36: 1408484 | P36: 1420415
A37: Limbourg | B37: 771613 | C37: 775302 | D37: 779969 | E37: 783927 | F37: 787491 | G37: 791178 | H37: 794785 | I37: 798583 | J37: 802528 | K37: 805786 | L37: 809942 | M37: 814658 | N37: 820272 | O37: 826690 | P37: 833160
A38: Région flamande | B38: 5866106 | C38: 5880357 | D38: 5898824 | E38: 5912382 | F38: 5926838 | G38: 5940251 | H38: 5952552 | I38: 5972781 | J38: 5995553 | K38: 6016024 | L38: 6043161 | M38: 6078600 | N38: 6117440 | O38: 6161600 | P38: 6208877
A39: Provinces wallonnes
A40: Brabant wallon | B40: 336505 | C40: 339062 | D40: 341565 | E40: 344508 | F40: 347423 | G40: 349884 | H40: 352018 | I40: 355207 | J40: 358012 | K40: 360717 | L40: 363776 | M40: 366481 | N40: 370460 | O40: 373492 | P40: 375645
A41: Arrondissement de Nivelles | B41: 336505 | C41: 339062 | D41: 341565 | E41: 344508 | F41: 347423 | G41: 349884 | H41: 352018 | I41: 355207 | J41: 358012 | K41: 360717 | L41: 363776 | M41: 366481 | N41: 370460 | O41: 373492 | P41: 375645
A42: Hainaut | B42: 1286649 | C42: 1284761 | D42: 1284347 | E42: 1282783 | F42: 1280427 | G42: 1279467 | H42: 1279823 | I42: 1281042 | J42: 1281706 | K42: 1283200 | L42: 1286275 | M42: 1290079 | N42: 1294844 | O42: 1300097 | P42: 1304436
A43: Liège | B43: 1015007 | C43: 1013729 | D43: 1014941 | E43: 1016762 | F43: 1018259 | G43: 1019442 | H43: 1020042 | I43: 1024130 | J43: 1025842 | K43: 1029605 | L43: 1034024 | M43: 1040297 | N43: 1047414 | O43: 1053722 | P43: 1060035
A44: Luxembourg | B44: 240281 | C44: 241339 | D44: 242526 | E44: 243790 | F44: 245140 | G44: 246820 | H44: 248750 | I44: 250406 | J44: 252295 | K44: 254120 | L44: 256004 | M44: 258547 | N44: 261178 | O44: 264084 | P44: 266950
A45: Namur | B45: 434446 | C45: 435677 | D45: 437426 | E45: 438864 | F45: 441205 | G45: 443903 | H45: 445824 | I45: 447775 | J45: 450395 | K45: 452856 | L45: 455863 | M45: 458574 | N45: 461983 | O45: 465380 | P45: 468605
A46: Région wallonne | B46: 3312888 | C46: 3314568 | D46: 3320805 | E46: 3326707 | F46: 3332454 | G46: 3339516 | H46: 3346457 | I46: 3358560 | J46: 3368250 | K46: 3380498 | L46: 3395942 | M46: 3413978 | N46: 3435879 | O46: 3456775 | P46: 3475671
A47: Belgique | B47: 10130574 | C47: 10143047 | D47: 10170226 | E47: 10192264 | F47: 10213752 | G47: 10239085 | H47: 10263414 | I47: 10309680 | J47: 10355844 | K47: 10396421 | L47: 10445852 | M47: 10511382 | N47: 10584534 | O47: 10666866 | P47: 10753080
A49: Source : SPF Économie - DGSIE (Service démographie), calculs view.brussels
A51: (nombre) | B51: 2010 | C51: 2011 | D51: 2012 | E51: 2013 | F51: 2014 | G51: 2015 | H51: 2016 | I51: 2017 | J51: 2018 | K51: 2019 | L51: 2020 | M51: 2021 | N51: 2022 | O51: 2023 | P51: 2024 | Q51: 2025 | R51: Variation 2024-2025
R52: v.a. | S52: %
A53: Communes bruxelloises
...

Sheet F.1.2
A1: F. Caractéristiques des communes de la Région bruxelloise | I1: Retour au menu
A3: F.1. Population
A5: Tableau F.1.2 : Caractéristiques et densité de la population par commune bruxelloise, par province et par région (2025)
A7: (nombre) | B7: Total | C7: Genre | E7: Classe d'âge | H7: Superfice en km2 | I7: Densité (hab./km2)
C8: Hommes | D8: Femmes | E8: < 18 ans | F8: 18-64 ans | G8: ≥ 65 ans
A9: Communes bruxelloises
A10: Anderlecht | B10: 128724 | C10: 64323 | D10: 64401 | E10: 32622 | F10: 80473 | G10: 15629 | H10: 17.74 | I10: =B10/H10 -> 7256.1443
A11: Auderghem | B11: 35698 | C11: 16978 | D11: 18720 | E11: 7221 | F11: 22545 | G11: 5932 | H11: 9.03 | I11: =B11/H11 -> 3953.2669
A12: Berchem-Ste-Agathe | B12: 25803 | C12: 12520 | D12: 13283 | E12: 6252 | F12: 15501 | G12: 4050 | H12: 2.95 | I12: =B12/H12 -> 8746.7797
A13: Bruxelles | B13: 198314 | C13: 101004 | D13: 97310 | E13: 42198 | F13: 134025 | G13: 22091 | H13: 32.61 | I13: =B13/H13 -> 6081.3861
A14: Etterbeek | B14: 49131 | C14: 23539 | D14: 25592 | E14: 7909 | F14: 35728 | G14: 5494 | H14: 3.15 | I14: =B14/H14 -> 15597.143
A15: Evere | B15: 45892 | C15: 22171 | D15: 23721 | E15: 10706 | F15: 28476 | G15: 6710 | H15: 5.07 | I15: =B15/H15 -> 9051.6765
A16: Forest | B16: 58675 | C16: 28449 | D16: 30226 | E16: 12386 | F16: 38703 | G16: 7586 | H16: 6.25 | I16: =B16/H16 -> 9388
A17: Ganshoren | B17: 25693 | C17: 12400 | D17: 13293 | E17: 5996 | F17: 15490 | G17: 4207 | H17: 2.46 | I17: =B17/H17 -> 10444.309
A18: Ixelles | B18: 89897 | C18: 43195 | D18: 46702 | E18: 12232 | F18: 67539 | G18: 10126 | H18: 6.34 | I18: =B18/H18 -> 14179.338
A19: Jette | B19: 54390 | C19: 26385 | D19: 28005 | E19: 12733 | F19: 33740 | G19: 7917 | H19: 5.04 | I19: =B19/H19 -> 10791.667
A20: Koekelberg | B20: 22979 | C20: 11483 | D20: 11496 | E20: 5893 | F20: 14614 | G20: 2472 | H20: 1.17 | I20: =B20/H20 -> 19640.171
A21: Molenbeek-St-Jean | B21: 98713 | C21: 49112 | D21: 49601 | E21: 26800 | F21: 60392 | G21: 11521 | H21: 5.89 | I21: =B21/H21 -> 16759.423
... A28: Woluwe-St-Pierre | B28: 42549 | C28: 19997 | D28: 22552 | E28: 8685 | F28: 25689 | G28: 8175 | H28: 8.85 | I28: =B28/H28 -> 4807.7966
A29: Région bruxelloise | B29: 1255795 | C29: 615345 | D29: 640450 | E29: 268740 | F29: 822004 | G29: 165051 | H29: =SUM(H10:H28) -> 161.41 | I29: =B29/H29 -> 7780.1561
A30: Brabant flamand | B30: 1204541 | C30: 591332 | D30: 613209 | E30: 244084 | F30: 713948 | G30: 246509 | H30: 2118 | I30: =B30/H30 -> 568.71624
A31: Région flamande | B31: 6864766 | C31: 3399819 | D31: 3464947 | E31: 1315768 | F31: 4057347 | G31: 1491651 | H31: 13522 | I31: =B31/H31 -> 507.67386
A32: Brabant wallon | B32: 415381 | C32: 201342 | D32: 214039 | E32: 81212 | F32: 246390 | G32: 87779 | H32: 1097 | I32: =B32/H32 -> 378.65178
A33: Région wallonne | B33: 3704990 | C33: 1814858 | D33: 1890132 | E33: 736262 | F33: 2220115 | G33: 748613 | H33: 16901 | I33: =B33/H33 -> 219.21721
A34: Belgique | B34: 11825551 | C34: 5830022 | D34: 5995529 | E34: 2320770 | F34: 7099466 | G34: 2405315 | H34: =SUM(H29,H31,H33) -> 30584.41 | I34: =B34/H34 -> 386.65291
A36: Source : SPF Économie - DGSIE (Service démographie), calculs view.brussels
A38: (%) | B38: Total | C38: Genre | E38: Classe d'âge
C39: Hommes | D39: Femmes | E39: < 18 ans | F39: 18-64 ans | G39: ≥ 65 ans
A40: Communes bruxelloises
A41: Anderlecht | B41: =B10/$B10*100 -> 100 | C41: =C10/$B10*100 -> 49.969703 | D41: =D10/$B10*100 -> 50.030297 | E41: =E10/$B10*100 -> 25.342593 | F41: =F10/$B10*100 -> 62.515926 | G41: =G10/$B10*100 -> 12.141481
A42: Auderghem | B42: =B11/$B11*100 -> 100 | C42: =C11/$B11*100 -> 47.560087 | D42: =D11/$B11*100 -> 52.439913 | E42: =E11/$B11*100 -> 20.228024 | F42: =F11/$B11*100 -> 63.154799 | G42: =G11/$B11*100 -> 16.617177
A43: Berchem-Ste-Agathe | B43: =B12/$B12*100 -> 100 | C43: =C12/$B12*100 -> 48.52149 | D43: =D12/$B12*100 -> 51.47851 | E43: =E12/$B12*100 -> 24.229741 | F43: =F12/$B12*100 -> 60.07441 | G43: =G12/$B12*100 -> 15.695849
A44: Bruxelles | B44: =B13/$B13*100 -> 100 | C44: =C13/$B13*100 -> 50.931351 | D44: =D13/$B13*100 -> 49.068649 | E44: =E13/$B13*100 -> 21.278377 | F44: =F13/$B13*100 -> 67.582218 | G44: =G13/$B13*100 -> 11.139405
A45: Etterbeek | B45: =B14/$B14*100 -> 100 | C45: =C14/$B14*100 -> 47.910688 | D45: =D14/$B14*100 -> 52.089312 | E45: =E14/$B14*100 -> 16.097779 | F45: =F14/$B14*100 -> 72.719871 | G45: =G14/$B14*100 -> 11.182349
A46: Evere | B46: =B15/$B15*100 -> 100 | C46: =C15/$B15*100 -> 48.311253 | D46: =D15/$B15*100 -> 51.688747 | E46: =E15/$B15*100 -> 23.328685 | F46: =F15/$B15*100 -> 62.050031 | G46: =G15/$B15*100 -> 14.621285
A47: Forest | B47: =B16/$B16*100 -> 100 | C47: =C16/$B16*100 -> 48.485726 | D47: =D16/$B16*100 -> 51.514274 | E47: =E16/$B16*100 -> 21.109501 | F47: =F16/$B16*100 -> 65.961653 | G47: =G16/$B16*100 -> 12.928845
A48: Ganshoren | B48: =B17/$B17*100 -> 100 | C48: =C17/$B17*100 -> 48.262173 | D48: =D17/$B17*100 -> 51.737827 | E48: =E17/$B17*100 -> 23.337096 | F48: =F17/$B17*100 -> 60.288795 | G48: =G17/$B17*100 -> 16.37411
A49: Ixelles | B49: =B18/$B18*100 -> 100 | C49: =C18/$B18*100 -> 48.049434 | D49: =D18/$B18*100 -> 51.950566 | E49: =E18/$B18*100 -> 13.606683 | F49: =F18/$B18*100 -> 75.129315 | G49: =G18/$B18*100 -> 11.264002
A50: Jette | B50: =B19/$B19*100 -> 100 | C50: =C19/$B19*100 -> 48.510756 | D50: =D19/$B19*100 -> 51.489244 | E50: =E19/$B19*100 -> 23.410553 | F50: =F19/$B19*100 -> 62.033462 | G50: =G19/$B19*100 -> 14.555985
A51: Koekelberg | B51: =B20/$B20*100 -> 100 | C51: =C20/$B20*100 -> 49.971713 | D51: =D20/$B20*100 -> 50.028287 | E51: =E20/$B20*100 -> 25.645154 | F51: =F20/$B20*100 -> 63.597197 | G51: =G20/$B20*100 -> 10.757648
...

Sheet F.1.3
A1: F. Caractéristiques des communes de la Région bruxelloise
A3: F.1. Population | I3: Retour au menu
A5: Tableau F.1.3 : Population par commune bruxelloise, région et nationalité (2025)
B7: Nationalité
B10: Belge | C10: UE 27 (hors Belge) | D10: Autre | E10: Total | F10: Belge | G10: UE 27 (hors Belge) | H10: Autre | I10: Total
B13: Nombre | F13: %
A17: Communes bruxelloises
A18: Anderlecht | B18: 83807 | C18: 24055 | D18: 20862 | E18: 128724 | F18: =B18/E18*100 -> 65.105963 | G18: =C18/E18*100 -> 18.687269 | H18: =D18/E18*100 -> 16.206768 | I18: =E18/E18*100 -> 100
A19: Auderghem | B19: 24252 | C19: 7716 | D19: 3730 | E19: 35698 | F19: =B19/E19*100 -> 67.936579 | G19: =C19/E19*100 -> 21.614656 | H19: =D19/E19*100 -> 10.448765 | I19: =E19/E19*100 -> 100
A20: Berchem-Ste-Agathe | B20: 20267 | C20: 3170 | D20: 2366 | E20: 25803 | F20: =B20/E20*100 -> 78.54513 | G20: =C20/E20*100 -> 12.285393 | H20: =D20/E20*100 -> 9.1694764 | I20: =E20/E20*100 -> 100
A21: Bruxelles | B21: 120390 | C21: 45245 | D21: 32679 | E21: 198314 | F21: =B21/E21*100 -> 60.706758 | G21: =C21/E21*100 -> 22.814829 | H21: =D21/E21*100 -> 16.478413 | I21: =E21/E21*100 -> 100
A22: Etterbeek | B22: 24654 | C22: 17815 | D22: 6662 | E22: 49131 | F22: =B22/E22*100 -> 50.180131 | G22: =C22/E22*100 -> 36.260202 | H22: =D22/E22*100 -> 13.559667 | I22: =E22/E22*100 -> 100
A23: Evere | B23: 31240 | C23: 7008 | D23: 7644 | E23: 45892 | F23: =B23/E23*100 -> 68.072867 | G23: =C23/E23*100 -> 15.270635 | H23: =D23/E23*100 -> 16.656498 | I23: =E23/E23*100 -> 100
A24: Forest | B24: 37522 | C24: 14470 | D24: 6683 | E24: 58675 | F24: =B24/E24*100 -> 63.948871 | G24: =C24/E24*100 -> 24.66127 | H24: =D24/E24*100 -> 11.389859 | I24: =E24/E24*100 -> 100
A25: Ganshoren | B25: 19246 | C25: 3889 | D25: 2558 | E25: 25693 | F25: =B25/E25*100 -> 74.907562 | G25: =C25/E25*100 -> 15.136418 | H25: =D25/E25*100 -> 9.9560191 | I25: =E25/E25*100 -> 100
A26: Ixelles | B26: 44037 | C26: 33318 | D26: 12542 | E26: 89897 | F26: =B26/E26*100 -> 48.986062 | G26: =C26/E26*100 -> 37.062416 | H26: =D26/E26*100 -> 13.951522 | I26: =E26/E26*100 -> 100
A27: Jette | B27: 39830 | C27: 8149 | D27: 6411 | E27: 54390 | F27: =B27/E27*100 -> 73.230373 | G27: =C27/E27*100 -> 14.982534 | H27: =D27/E27*100 -> 11.787093 | I27: =E27/E27*100 -> 100
A28: Koekelberg | B28: 15116 | C28: 4393 | D28: 3470 | E28: 22979 | F28: =B28/E28*100 -> 65.781801 | G28: =C28/E28*100 -> 19.117455 | H28: =D28/E28*100 -> 15.100744 | I28: =E28/E28*100 -> 100
A29: Molenbeek-St-Jean | B29: 69346 | C29: 13234 | D29: 16133 | E29: 98713 | F29: =B29/E29*100 -> 70.250119 | G29: =C29/E29*100 -> 13.406542 | H29: =D29/E29*100 -> 16.343339 | I29: =E29/E29*100 -> 100
... A42: Belgique | B42: 10190627 | C42: 1010986 | D42: 623938 | E42: 11825551 | F42: =B42/E42*100 -> 86.174648 | G42: =C42/E42*100 -> 8.5491661 | H42: =D42/E42*100 -> 5.2761854 | I42: =E42/E42*100 -> 100
A44: Source : SPF Économie - DGSIE (Service démographie), calculs view.brussels

Sheet F.2.1
A1: F. Caractéristiques des communes de la Région bruxelloise | AK1: Retour au menu
A3: F.2. Demandeurs d'emploi inoccupés
A5: Tableau F.2.1 : Nombre de DEI par commune et genre en Région bruxelloise (moyenne annuelle 1992-2024)
A7: Hommes | B7: 1992 | C7: 1993 | D7: 1994 | E7: 1995 | F7: 1996 | G7: 1997 | H7: 1998 | I7: 1999 | J7: 2000 | K7: 2001 | L7: 2002 | M7: 2003 | N7: 2004 | O7: 2005 | P7: 2006 | Q7: 2007 | R7: 2008 | S7: 2009 | T7: 2010 | U7: 2011 | V7: 2012 | W7: 2013 | X7: 2014 | Y7: 2015 | Z7: 2016 | AA7: 2017 | AB7: 2018 | AC7: 2019 | AD7: 2020 | AE7: 2021 | AF7: 2022 | AG7: 2023 | AH7: 2024 | AI7: % communes/ Région (2024) | AJ7: Var. 23-24
AJ8: v.a. | AK8: %
A9: Anderlecht | B9: 2789 | C9: 3273.6667 | D9: 3692 | E9: 3815.5 | F9: 3817.0833 | G9: 3905.4167 | H9: 3900 | I9: 3692.8333 | J9: 3506.4167 | K9: 3684.9167 | L9: 4059.5 | M9: 4487.25 | N9: 4761.75 | O9: 5052.75 | P9: 5253.3333 | Q9: 5242.5 | R9: 5225.75 | S9: 5815.9167 | T9: 6369.75 | U9: 6371.9167 | V9: 6508.3333 | W9: 6615.0833 | X9: 6673.9167 | Y9: 6176.3333 | Z9: 5870.5833 | AA9: 5548.9167 | AB9: 5208.3334 | AC9: 5060.8333 | AD9: 5059 | AE9: 5078.1667 | AF9: 5068 | AG9: 5257 | AH9: 5492 | AI9: =AH9/AH$28*100 -> 11.616397 | AJ9: =AH9-AG9 -> 235 | AK9: =((AH9/AG9)-1)*100 -> 4.4702302
A10: Auderghem | B10: 430.5 | C10: 501.5 | D10: 580.91667 | E10: 624.58333 | F10: 661.16667 | G10: 654.91667 | H10: 611.25 | I10: 537.83333 | J10: 492.75 | K10: 473.5 | L10: 551.25 | M10: 643.66667 | N10: 686.25 | O10: 684.83333 | P10: 686.25 | Q10: 658.58333 | R10: 695.33333 | S10: 784.58333 | T10: 830.66667 | U10: 811.58333 | V10: 824.75 | W10: 850.91667 | X10: 861 | Y10: 809.33333 | Z10: 770.75 | AA10: 757.08333 | AB10: 710.00001 | AC10: 678.75 | AD10: 750 | AE10: 781.16667 | AF10: 732 | AG10: 758 | AH10: 823 | AI10: =AH10/AH$28*100 -> 1.7407674 | AJ10: =AH10-AG10 -> 65 | AK10: =((AH10/AG10)-1)*100 -> 8.5751979
A11: Berchem-Ste-Agathe | B11: 367.33333 | C11: 430.66667 | D11: 468.58333 | E11: 461.91667 | F11: 500.66667 | G11: 498.08333 | H11: 483.41667 | I11: 457.58333 | J11: 437.66667 | K11: 441.75 | L11: 493.41667 | M11: 560.58333 | N11: 646.5 | O11: 699.08333 | P11: 696.75 | Q11: 712.5 | R11: 719.91667 | S11: 812.58333 | T11: 879.08333 | U11: 881.16667 | V11: 874.41667 | W11: 928.33333 | X11: 901.25 | Y11: 878.91667 | Z11: 874 | AA11: 830 | AB11: 802.83334 | AC11: 764.91667 | AD11: 802 | AE11: 820.91667 | AF11: 775 | AG11: 792 | AH11: 803 | AI11: =AH11/AH$28*100 -> 1.6984644 | AJ11: =AH11-AG11 -> 11 | AK11: =((AH11/AG11)-1)*100 -> 1.3888889
A12: Bruxelles | B12: 5211.1667 | C12: 6195.1667 | D12: 6499.4167 | E12: 6841.1667 | F12: 7018.5 | G12: 7162.5833 | H12: 7071 | I12: 6649.4167 | J12: 6197.0833 | K12: 6332.3333 | L12: 7054.8333 | M12: 7606.8333 | N12: 7991.75 | O12: 8401.75 | P12: 8522.75 | Q12: 8349.75 | R12: 8112.6667 | S12: 8735.5 | T12: 9524.5833 | U12: 9510.9167 | V12: 9572.4167 | W12: 9724.0833 | X12: 9875.3333 | Y12: 9379.5833 | Z12: 8903.6667 | AA12: 8449.25 | AB12: 8196.1667 | AC12: 8028.6667 | AD12: 8405 | AE12: 8341.25 | AF12: 7937 | AG12: 8165 | AH12: 8361 | AI12: =AH12/AH$28*100 -> 17.684758 | AJ12: =AH12-AG12 -> 196 | AK12: =((AH12/AG12)-1)*100 -> 2.4004899
A13: Etterbeek | B13: 1177.6667 | C13: 1331.75 | D13: 1496.6667 | E13: 1558.75 | F13: 1586.0833 | G13: 1633.3333 | H13: 1636.25 | I13: 1508.1667 | J13: 1438.5833 | K13: 1421.25 | L13: 1561.6667 | M13: 1579.3333 | N13: 1698.25 | O13: 1705.1667 | P13: 1752.0833 | Q13: 1696.5 | R13: 1621.75 | S13: 1807.8333 | T13: 1999.4167 | U13: 2042.6667 | V13: 2042.25 | W13: 2015.5 | X13: 2025.4167 | Y13: 1868.3333 | Z13: 1745.5 | AA13: 1671.3333 | AB13: 1605.5 | AC13: 1509.5833 | AD13: 1548 | AE13: 1554.25 | AF13: 1526 | AG13: 1610 | AH13: 1726 | AI13: =AH13/AH$28*100 -> 3.6507466 | AJ13: =AH13-AG13 -> 116 | AK13: =((AH13/AG13)-1)*100 -> 7.2049689
A14: Evere | B14: 537.66667 | C14: 658.33333 | D14: 730.16667 | E14: 731.08333 | F14: 744.5 | G14: 746.25 | H14: 717.91667 | I14: 697.16667 | J14: 640.91667 | K14: 652.08333 | L14: 805.5 | M14: 870.91667 | N14: 997.66667 | O14: 1041.6667 | P14: 1091.5833 | Q14: 1069.0833 | R14: 1082.25 | S14: 1320 | T14: 1430.9167 | U14: 1438.1667 | V14: 1459.5 | W14: 1463.5 | X14: 1483.9167 | Y14: 1413.6667 | Z14: 1362.1667 | AA14: 1317 | AB14: 1292 | AC14: 1242.4167 | AD14: 1270 | AE14: 1306.0833 | AF14: 1267 | AG14: 1318 | AH14: 1347 | AI14: =AH14/AH$28*100 -> 2.8491053 | AJ14: =AH14-AG14 -> 29 | AK14: =((AH14/AG14)-1)*100 -> 2.2003035
A15: Forest | B15: 1342.9167 | C15: 1569.5833 | D15: 1848.8333 | E15: 1884.4167 | F15: 1909.5 | G15: 1895.8333 | H15: 1864.1667 | I15: 1786.4167 | J15: 1686.8333 | K15: 1685.75 | L15: 1898.8333 | M15: 2051.25 | N15: 2129.8333 | O15: 2229.9167 | P15: 2290.8333 | Q15: 2257.5833 | R15: 2232.5 | S15: 2438.3333 | T15: 2700.1667 | U15: 2752.1667 | V15: 2902.3333 | W15: 2970.6667 | X15: 2930.0833 | Y15: 2713.25 | Z15: 2533.5833 | AA15: 2459.5 | AB15: 2398.1667 | AC15: 2339.5 | AD15: 2366 | AE15: 2332.75 | AF15: 2278 | AG15: 2466 | AH15: 2566 | AI15: =AH15/AH$28*100 -> 5.4274716 | AJ15: =AH15-AG15 -> 100 | AK15: =((AH15/AG15)-1)*100 -> 4.05515
A16: Ganshoren | B16: 361.25 | C16: 450.16667 | D16: 526.46667 | E16: 502.83333 | F16: 478.41667 | G16: 488.5 | H16: 487.5 | I16: 461.75 | J16: 476 | K16: 468.33333 | L16: 491 | M16: 538.41667 | N16: 646.08333 | O16: 687.66667 | P16: 717.25 | Q16: 722.25 | R16: 720.83333 | S16: 785.58333 | T16: 881 | U16: 890.25 | V16: 931.5 | W16: 958.08333 | X16: 951.75 | Y16: 857.58333 | Z16: 807.33333 | AA16: 813.41667 | AB16: 763.83334 | AC16: 745.25 | AD16: 799 | AE16: 792.41667 | AF16: 740 | AG16: 743 | AH16: 766 | AI16: =AH16/AH$28*100 -> 1.6202039 | AJ16: =AH16-AG16 -> 23 | AK16: =((AH16/AG16)-1)*100 -> 3.0955585
A17: Ixelles | B17: 2317.5 | C17: 2745.4167 | D17: 2958.9167 | E17: 2984.5833 | F17: 2996.25 | G17: 3034.0833 | H17: 3051.6667 | I17: 2709.0833 | J17: 2488.75 | K17: 2582.4167 | L17: 2868.9167 | M17: 3077.9167 | N17: 3469.3333 | O17: 3568.75 | P17: 3844.0833 | Q17: 3639.5 | R17: 3565.9167 | S17: 3947.75 | T17: 4258.8333 | U17: 4277.0833 | V17: 4364.25 | W17: 4452.75 | X17: 4489.5 | Y17: 4160.25 | Z17: 3810.5833 | AA17: 3651.25 | AB17: 3499.4167 | AC17: 3397 | AD17: 3519 | AE17: 3437.9167 | AF17: 3201 | AG17: 3208 | AH17: 3291 | AI17: =AH17/AH$28*100 -> 6.9609544 | AJ17: =AH17-AG17 -> 83 | AK17: =((AH17/AG17)-1)*100 -> 2.5872818
A18: Jette | B18: 932.83333 | C18: 1085.0833 | D18: 1222.3333 | E18: 1238.5 | F18: 1217.3333 | G18: 1245.8333 | H18: 1173.9167 | I18: 1068.3333 | J18: 1034.25 | K18: 1058.75 | L18: 1251.4167 | M18: 1368.3333 | N18: 1570.5 | O18: 1646.1667 | P18: 1672.25 | Q18: 1632.0833 | R18: 1642.5 | S18: 1880.1667 | T18: 2036.1667 | U18: 2043 | V18: 2030.5 | W18: 2105.25 | X18: 2129.75 | Y18: 2017.25 | Z18: 1879.3333 | AA18: 1813.75 | AB18: 1752.8333 | AC18: 1700.3333 | AD18: 1800 | AE18: 1758.9167 | AF18: 1708 | AG18: 1775 | AH18: 1853 | AI18: =AH18/AH$28*100 -> 3.9193705 | AJ18: =AH18-AG18 -> 78 | AK18: =((AH18/AG18)-1)*100 -> 4.3943662
A19: Koekelberg | B19: 475.66667 | C19: 604.5 | D19: 662.5 | E19: 777.58333 | F19: 793.83333 | G19: 775.66667 | H19: 755.16667 | I19: 724.41667 | J19: 681.91667 | K19: 701.83333 | L19: 810.66667 | M19: 899.58333 | N19: 979.58333 | O19: 1050.0833 | P19: 1064.3333 | Q19: 1017.8333 | R19: 997.33333 | S19: 1087.0833 | T19: 1160.1667 | U19: 1120.5 | V19: 1131.0833 | W19: 1165.75 | X19: 1165.75 | Y19: 1098.9167 | Z19: 1047.6667 | AA19: 951.5 | AB19: 914.16667 | AC19: 874.08333 | AD19: 915 | AE19: 923.33333 | AF19: 856 | AG19: 890 | AH19: 920 | AI19: =AH19/AH$28*100 -> 1.9459368 | AJ19: =AH19-AG19 -> 30 | AK19: =((AH19/AG19)-1)*100 -> 3.3707865
A20: Molenbeek-St-Jean | B20: 2710.8333 | C20: 3253.25 | D20: 3548.5833 | E20: 3773.75 | F20: 3915.1667 | G20: 4026 | H20: 4055.0833 | I20: 3818.8333 | J20: 3791.9167 | K20: 3955.5833 | L20: 4424.8333 | M20: 4782.8333 | N20: 4927.8333 | O20: 5162.6667 | P20: 5265.5833 | Q20: 5152.25 | R20: 5164.25 | S20: 5695.4167 | T20: 6160.6667 | U20: 6191.25 | V20: 6193.5 | W20: 6135.6667 | X20: 6185 | Y20: 5847.8333 | Z20: 5481 | AA20: 5157.1667 | AB20: 5043.0834 | AC20: 4846.5833 | AD20: 4845 | AE20: 4814.4167 | AF20: 4588 | AG20: 4642 | AH20: 4712 | AI20: =AH20/AH$28*100 -> 9.9665807 | AJ20: =AH20-AG20 -> 70 | AK20: =((AH20/AG20)-1)*100 -> 1.5079707
... A28: Région bruxelloise | B28: 28081 | C28: 33242 | D28: 36660.55 | E28: 38266 | F28: 38892.917 | G28: 39488 | H28: 39166.333 | I28: 39166.333 | J28: 34682.917 | K28: 35637.75 | L28: 39835.167 | M28: 43209 | N28: 46277.167 | O28: 48192.583 | P28: 49363.583 | Q28: 47795.667 | R28: 47240.25 | S28: 51949.167 | T28: 56317.333 | U28: 56292.417 | V28: 57037.583 | W28: 57940.333 | X28: 58351.083 | Y28: 54595 | Z28: 51453.833 | AA28: 49023.833 | AB28: 47014.417 | AC28: 45606.5 | AD28: 46756 | AE28: 46446.75 | AF28: 44576 | AG28: 45855 | AH28: 47278 | AI28: =AH28/AH$28*100 -> 100 | AJ28: =AH28-AG28 -> 1423 | AK28: =((AH28/AG28)-1)*100 -> 3.1032603
A30: Source : ACTIRIS, calculs view.brussels
A32: Femmes | B32: 1992 | C32: 1993 | D32: 1994 | E32: 1995 | F32: 1996 | G32: 1997 | H32: 1998 | I32: 1999 | J32: 2000 | K32: 2001 | L32: 2002 | M32: 2003 | N32: 2004 | O32: 2005 | P32: 2006 | Q32: 2007 | R32: 2008 | S32: 2009 | T32: 2010 | U32: 2011 | V32: 2012 | W32: 2013 | X32: 2014 | Y32: 2015 | Z32: 2016 | AA32: 2017 | AB32: 2018 | AC32: 2019 | AD32: 2020 | AE32: 2021 | AF32: 2022 | AG32: 2023 | AH32: 2024 | AI32: % communes/ Région (2024) | AJ32: Var. 23-24
AJ33: v.a. | AK33: %
A34: Anderlecht | B34: 3219.5 | C34: 3472.1667 | D34: 3662.8333 | E34: 3727 | F34: 3767.8333 | G34: 3893.4167 | H34: 4059.6667 | I34: 3885.3333 | J34: 3824.6667 | K34: 3798.75 | L34: 3981.5833 | M34: 4403.0833 | N34: 4645.0833 | O34: 4854.5833 | P34: 5153.75 | Q34: 5019.0833 | R34: 4929 | S34: 5162.0833 | T34: 5499.6667 | U34: 5491.25 | V34: 5565.0833 | W34: 5638.9167 | X34: 5672.5833 | Y34: 5273.3333 | Z34: 5115.5 | AA34: 4815.5833 | AB34: 4615.5 | AC34: 4463.4167 | AD34: 4322 | AE34: 4401.5833 | AF34: 4493 | AG34: 4718 | AH34: 4902 | AI34: =AH34/AH$28*100 -> 10.368459 | AJ34: =AH34-AG34 -> 184 | AK34: =((AH34/AG34)-1)*100 -> 3.8999576
A35: Auderghem | B35: 585.08333 | C35: 658.66667 | D35: 723.33333 | E35: 736.58333 | F35: 733.83333 | G35: 727.91667 | H35: 717.41667 | I35: 620.58333 | J35: 590.83333 | K35: 555.25 | L35: 617.75 | M35: 675.58333 | N35: 746.16667 | O35: 751.83333 | P35: 790.5 | Q35: 760.16667 | R35: 767.16667 | S35: 834.33333 | T35: 891.5 | U35: 870.58333 | V35: 880.91667 | W35: 875.91667 | X35: 902.58333 | Y35: 877.5 | Z35: 847.25 | AA35: 845.83333 | AB35: 806.83334 | AC35: 763.25 | AD35: 777 | AE35: 804.25 | AF35: 818 | AG35: 834 | AH35: 888 | AI35: =AH35/AH$28*100 -> 1.878252 | AJ35: =AH35-AG35 -> 54 | AK35: =((AH35/AG35)-1)*100 -> 6.4748201
A36: Berchem-Ste-Agathe | B36: 458.66667 | C36: 501.25 | D36: 535.83333 | E36: 597.33333 | F36: 609.58333 | G36: 614.91667 | H36: 601.66667 | I36: 569.08333 | J36: 594.58333 | K36: 556.83333 | L36: 596.25 | M36: 682.25 | N36: 746.16667 | O36: 798.5 | P36: 850.91667 | Q36: 819.41667 | R36: 818.41667 | S36: 896.91667 | T36: 989.66667 | U36: 984.75 | V36: 1025.1667 | W36: 1069.0833 | X36: 1052.75 | Y36: 972.75 | Z36: 970.91667 | AA36: 954.08333 | AB36: 943.08334 | AC36: 902.83333 | AD36: 907 | AE36: 908.58333 | AF36: 853 | AG36: 840 | AH36: 853 | AI36: =AH36/AH$28*100 -> 1.8042218 | AJ36: =AH36-AG36 -> 13 | AK36: =((AH36/AG36)-1)*100 -> 1.547619
A37: Bruxelles | B37: 4519.3333 | C37: 4948.3333 | D37: 5164.4833 | E37: 5515.4167 | F37: 5756.5833 | G37: 5802.3333 | H37: 5725.5833 | I37: 5547.3333 | J37: 5446.75 | K37: 5301.9167 | L37: 5865.5833 | M37: 6457.9167 | N37: 6682.4167 | O37: 6907.5833 | P37: 7120.25 | Q37: 6827.25 | R37: 6662 | S37: 7033.5 | T37: 7422.4167 | U37: 7430.75 | V37: 7651.5 | W37: 7735.4167 | X37: 7826.8333 | Y37: 7333.4167 | Z37: 7019.25 | AA37: 6730.25 | AB37: 6652.1667 | AC37: 6618.8333 | AD37: 6630 | AE37: 6731 | AF37: 6573 | AG37: 6874 | AH37: 7108 | AI37: =AH37/AH$28*100 -> 15.034477 | AJ37: =AH37-AG37 -> 234 | AK37: =((AH37/AG37)-1)*100 -> 3.4041315
A38: Etterbeek | B38: 1179.5 | C38: 1320.0833 | D38: 1401.6667 | E38: 1504.5833 | F38: 1596.25 | G38: 1600.5833 | H38: 1583.4167 | I38: 1480.5833 | J38: 1404.6667 | K38: 1417.8333 | L38: 1554.9167 | M38: 1580.6667 | N38: 1721.1667 | O38: 1775.25 | P38: 1818.0833 | Q38: 1691.25 | R38: 1662.25 | S38: 1736.75 | T38: 1864.75 | U38: 1891.0833 | V38: 1889.0833 | W38: 1914.9167 | X38: 1934.0833 | Y38: 1775.5 | Z38: 1646.25 | AA38: 1574.9167 | AB38: 1556.25 | AC38: 1522.5833 | AD38: 1519 | AE38: 1500.1667 | AF38: 1456 | AG38: 1591 | AH38: 1650 | AI38: =AH38/AH$28*100 -> 3.4899953 | AJ38: =AH38-AG38 -> 59 | AK38: =((AH38/AG38)-1)*100 -> 3.7083595
A39: Evere | B39: 811.66667 | C39: 921.33333 | D39: 990.48333 | E39: 1048.8333 | F39: 1065.25 | G39: 1062.0833 | H39: 1070.4167 | I39: 1006.0833 | J39: 1001.5 | K39: 1000.3333 | L39: 1038.5 | M39: 1096.3333 | N39: 1241.8333 | O39: 1317.1667 | P39: 1457.9167 | Q39: 1419.9167 | R39: 1404.6667 | S39: 1570.3333 | T39: 1630.0833 | U39: 1616.9167 | V39: 1654.6667 | W39: 1688.8333 | X39: 1714.8333 | Y39: 1644.75 | Z39: 1544.5 | AA39: 1488.4167 | AB39: 1530.9167 | AC39: 1525.8333 | AD39: 1481 | AE39: 1494.4167 | AF39: 1457 | AG39: 1509 | AH39: 1575 | AI39: =AH39/AH$28*100 -> 3.3313592 | AJ39: =AH39-AG39 -> 66 | AK39: =((AH39/AG39)-1)*100 -> 4.3737575
A40: Forest | B40: 1575.3333 | C40: 1778.6667 | D40: 1950.3833 | E40: 2024.8333 | F40: 2125.1667 | G40: 2115.3333 | H40: 2092.5833 | I40: 2051.4167 | J40: 1885.8333 | K40: 1835 | L40: 2014 | M40: 2173.4167 | N40: 2284 | O40: 2424.6667 | P40: 2423.25 | Q40: 2355 | R40: 2330.8333 | S40: 2448.75 | T40: 2656.4167 | U40: 2743.0833 | V40: 2811.75 | W40: 2803 | X40: 2801.9167 | Y40: 2589 | Z40: 2462.9167 | AA40: 2382.5833 | AB40: 2320.5833 | AC40: 2282 | AD40: 2281 | AE40: 2265.3333 | AF40: 2337 | AG40: 2397 | AH40: 2487 | AI40: =AH40/AH$28*100 -> 5.2603748 | AJ40: =AH40-AG40 -> 90 | AK40: =((AH40/AG40)-1)*100 -> 3.7546934
A41: Ganshoren | B41: 539.08333 | C41: 578.41667 | D41: 643.5 | E41: 643.41667 | F41: 667.16667 | G41: 662.75 | H41: 662.5 | I41: 663.58333 | J41: 635.66667 | K41: 598.08333 | L41: 619.83333 | M41: 695.16667 | N41: 797.33333 | O41: 846.41667 | P41: 921.58333 | Q41: 891.83333 | R41: 874 | S41: 943.91667 | T41: 1038.5833 | U41: 1060.25 | V41: 1064.9167 | W41: 1084 | X41: 1089.9167 | Y41: 1007.75 | Z41: 950 | AA41: 917.25 | AB41: 896.00001 | AC41: 898 | AD41: 917 | AE41: 914.91667 | AF41: 827 | AG41: 830 | AH41: 869 | AI41: =AH41/AH$28*100 -> 1.8380642 | AJ41: =AH41-AG41 -> 39 | AK41: =((AH41/AG41)-1)*100 -> 4.6987952
A42: Ixelles | B42: 2111.6667 | C42: 2465.6667 | D42: 2603.5833 | E42: 2583.8333 | F42: 2634.3333 | G42: 2666.8333 | H42: 2573.5833 | I42: 2378.6667 | J42: 2260.8333 | K42: 2277.4167 | L42: 2366.5833 | M42: 2686.3333 | N42: 2951.6667 | O42: 3055.0833 | P42: 3200.9167 | Q42: 3034.6667 | R42: 2957.75 | S42: 3192.75 | T42: 3334.4167 | U42: 3372.0833 | V42: 3374.5 | W42: 3444.1667 | X42: 3419.75 | Y42: 3179.0833 | Z42: 3047.25 | AA42: 2895.5833 | AB42: 2810.8334 | AC42: 2757.8333 | AD42: 2839 | AE42: 2802.1667 | AF42: 2738 | AG42: 2840 | AH42: 2907 | AI42: =AH42/AH$28*100 -> 6.1487373 | AJ42: =AH42-AG42 -> 67 | AK42: =((AH42/AG42)-1)*100 -> 2.3591549
A43: Jette | B43: 1165.75 | C43: 1253.9167 | D43: 1326.9167 | E43: 1435.0833 | F43: 1480.5 | G43: 1505.6667 | H43: 1442.25 | I43: 1355 | J43: 1329.4167 | K43: 1325.8333 | L43: 1405.25 | M43: 1501.75 | N43: 1746.3333 | O43: 1895.5 | P43: 2087.4167 | Q43: 2004 | R43: 1961.75 | S43: 2085.0833 | T43: 2233.75 | U43: 2264.8333 | V43: 2260.6667 | W43: 2325.1667 | X43: 2309.25 | Y43: 2174.3333 | Z43: 2143.4167 | AA43: 2053.5 | AB43: 1980.25 | AC43: 1949 | AD43: 1917 | AE43: 1937.9167 | AF43: 1864 | AG43: 1934 | AH43: 1936 | AI43: =AH43/AH$28*100 -> 4.0949279 | AJ43: =AH43-AG43 -> 2 | AK43: =((AH43/AG43)-1)*100 -> 0.10341262
A44: Koekelberg | B44: 548.33333 | C44: 613.41667 | D44: 661.58333 | E44: 689.66667 | F44: 704.66667 | G44: 741.83333 | H44: 710.75 | I44: 722.25 | J44: 729.66667 | K44: 708.33333 | L44: 805.75 | M44: 888.16667 | N44: 954.08333 | O44: 1030 | P44: 1078.75 | Q44: 1037.5833 | R44: 1029.5833 | S44: 1055.1667 | T44: 1082.5833 | U44: 1075.5 | V44: 1071.4167 | W44: 1089.8333 | X44: 1102.25 | Y44: 1009.25 | Z44: 941.41667 | AA44: 893.75 | AB44: 827.33334 | AC44: 788.5 | AD44: 767 | AE44: 754.33333 | AF44: 786 | AG44: 830 | AH44: 864 | AI44: =AH44/AH$28*100 -> 1.8274885 | AJ44: =AH44-AG44 -> 34 | AK44: =((AH44/AG44)-1)*100 -> 4.0963855
A45: Molenbeek-St-Jean | B45: 2466.8333 | C45: 2763.3333 | D45: 3011.6667 | E45: 3273.5833 | F45: 3373.5 | G45: 3454.6667 | H45: 3540.1667 | I45: 3447 | J45: 3395.9167 | K45: 3516.25 | L45: 3868 | M45: 4249.9167 | N45: 4516.9167 | O45: 4769.75 | P45: 4855.0833 | Q45: 4710 | R45: 4717.3333 | S45: 4959.75 | T45: 5132.6667 | U45: 5224.5833 | V45: 5209 | W45: 5185.5833 | X45: 5239.3333 | Y45: 4818.5833 | Z45: 4573.4167 | AA45: 4342.1667 | AB45: 4180.5834 | AC45: 4083.3333 | AD45: 3955 | AE45: 4039.5833 | AF45: 4000 | AG45: 4172 | AH45: 4186 | AI45: =AH45/AH$28*100 -> 8.8540124 | AJ45: =AH45-AG45 -> 14 | AK45: =((AH45/AG45)-1)*100 -> 0.33557047
... A53: Région bruxelloise | B53: 29118.75 | C53: 32436 | D53: 34715.6 | E53: 36328 | F53: 37305.167 | G53: 37847.667 | H53: 38013.583 | I53: 36424.25 | J53: 35356.75 | K53: 35076.083 | L53: 37690.667 | M53: 41050.25 | N53: 44044.417 | O53: 45882.417 | P53: 47735.667 | Q53: 45875.667 | R53: 44873.917 | S53: 47427.417 | T53: 50072.583 | U53: 50213.333 | V53: 50816.25 | W53: 51488.75 | X53: 51984.917 | Y53: 48617.333 | Z53: 46365.833 | AA53: 44367.667 | AB53: 43188.334 | AC53: 42440.417 | AD53: 42047 | AE53: 42333.333 | AF53: 41674 | AG53: 43127 | AH53: 44350 | AI53: =AH53/AH$28*100 -> 93.806845 | AJ53: =AH53-AG53 -> 1223 | AK53: =((AH53/AG53)-1)*100 -> 2.8358105
A55: Source : ACTIRIS, calculs view.brussels
A57: Total | B57: 1992 | C57: 1993 | D57: 1994 | E57: 1995 | F57: 1996 | G57: 1997 | H57: 1998 | I57: 1999 | J57: 2000 | K57: 2001 | L57: 2002 | M57: 2003 | N57: 2004 | O57: 2005 | P57: 2006 | Q57: 2007 | R57: 2008 | S57: 2009 | T57: 2010 | U57: 2011 | V57: 2012 | W57: 2013 | X57: 2014 | Y57: 2015 | Z57: 2016 | AA57: 2017 | AB57: 2018 | AC57: 2019 | AD57: 2020 | AE57: 2021 | AF57: 2022 | AG57: 2023 | AH57: 2024 | AI57: % communes/ Région (2024) | AJ57: Var. 23-24
AJ58: v.a. | AK58: %
A59: Anderlecht | B59: 6008.5 | C59: 6745.8333 | D59: 7354.8333 | E59: 7542.5 | F59: 7584.9167 | G59: 7798.8333 | H59: 7959.6667 | I59: 7578.1667 | J59: 7331.0833 | K59: 7483.6667 | L59: 8041.0833 | M59: 8890.3333 | N59: 9406.8333 | O59: 9907.3333 | P59: 10407.083 | Q59: 10261.583 | R59: 10154.75 | S59: 10978 | T59: 11869.417 | U59: 11863.167 | V59: 12073.417 | W59: 12254 | X59: 12346.5 | Y59: 11449.667 | Z59: 10986.083 | AA59: 10364.5 | AB59: 9823.8334 | AC59: 9524.25 | AD59: 9381 | AE59: 9469.5833 | AF59: 9561 | AG59: 9975 | AH59: 10394 | AI59: =AH59/AH$28*100 -> 21.984856 | AJ59: =AH59-AG59 -> 419 | AK59: =((AH59/AG59)-1)*100 -> 4.2005013
A60: Auderghem | B60: 1015.5833 | C60: 1160.1667 | D60: 1304.25 | E60: 1361.1667 | F60: 1395 | G60: 1382.8333 | H60: 1328.6667 | I60: 1158.4167 | J60: 1083.5833 | K60: 1028.75 | L60: 1169 | M60: 1319.25 | N60: 1432.4167 | O60: 1436.6667 | P60: 1476.75 | Q60: 1418.75 | R60: 1462.5 | S60: 1618.9167 | T60: 1722.1667 | U60: 1682.1667 | V60: 1705.6667 | W60: 1726.8333 | X60: 1763.5833 | Y60: 1686.8333 | Z60: 1618 | AA60: 1602.9167 | AB60: 1516.8333 | AC60: 1442 | AD60: 1526 | AE60: 1536.25 | AF60: 1549 | AG60: 1591 | AH60: 1710 | AI60: =AH60/AH$28*100 -> 3.6169043 | AJ60: =AH60-AG60 -> 119 | AK60: =((AH60/AG60)-1)*100 -> 7.4795726
A61: Berchem-Ste-Agathe | B61: 826 | C61: 931.91667 | D61: 1004.4167 | E61: 1059.25 | F61: 1110.25 | G61: 1113 | H61: 1085.0833 | I61: 1026.6667 | J61: 1032.25 | K61: 998.58333 | L61: 1089.6667 | M61: 1242.8333 | N61: 1392.6667 | O61: 1497.5833 | P61: 1547.6667 | Q61: 1531.9167 | R61: 1538.3333 | S61: 1709.5 | T61: 1868.75 | U61: 1865.9167 | V61: 1899.5833 | W61: 1997.4167 | X61: 1954 | Y61: 1851.6667 | Z61: 1844.9167 | AA61: 1784.0833 | AB61: 1745.9167 | AC61: 1667.75 | AD61: 1710 | AE61: 1683.5833 | AF61: 1629 | AG61: 1632 | AH61: 1656 | AI61: =AH61/AH$28*100 -> 3.5026862 | AJ61: =AH61-AG61 -> 24 | AK61: =((AH61/AG61)-1)*100 -> 1.4705882
...

Sheet F.2.2
A1: F. Caractéristiques des communes de la Région bruxelloise | M1: Retour au menu
A3: F.2. Demandeurs d'emploi inoccupés
A5: Tableau F.2.2 : Caractéristiques des DEI par commune bruxelloise (moyenne annuelle 2024)
A7: (nombre) | B7: Total | C7: Genre | E7: Classe d’âge | H7: Durée d’inactivité | J7: Niveau d’études
C8: Hommes | D8: Femmes | E8: < 25 ans | F8: 25-49 ans | G8: ≥ 50 ans | H8: < 1 an | I8: ≥ 1 an | J8: Faible | K8: Moyen | L8: Élevé | M8: Étranger sans équivalence
A9: Anderlecht | B9: 10394 | C9: 5492 | D9: 4902 | E9: 1326 | F9: 6479 | G9: 2590 | H9: 3997 | I9: 6398 | J9: 2079 | K9: 2241 | L9: 1114 | M9: 4961
A10: Auderghem | B10: 1710 | C10: 823 | D10: 888 | E10: 194 | F10: 1052 | G10: 464 | H10: 723 | I10: 988 | J10: 225 | K10: 363 | L10: 480 | M10: 643
A11: Berchem-Ste-Agathe | B11: 1656 | C11: 803 | D11: 853 | E11: 210 | F11: 973 | G11: 473 | H11: 601 | I11: 1055 | J11: 333 | K11: 453 | L11: 240 | M11: 631
A12: Bruxelles | B12: 15468 | C12: 8361 | D12: 7108 | E12: 1705 | F12: 9757 | G12: 4006 | H12: 5915 | I12: 9553 | J12: 2787 | K12: 3194 | L12: 2275 | M12: 7212
A13: Etterbeek | B13: 3376 | C13: 1726 | D13: 1650 | E13: 309 | F13: 2255 | G13: 812 | H13: 1387 | I13: 1990 | J13: 444 | K13: 616 | L13: 789 | M13: 1528
A14: Evere | B14: 2922 | C14: 1347 | D14: 1575 | E14: 344 | F14: 1791 | G14: 787 | H14: 1153 | I14: 1770 | J14: 570 | K14: 725 | L14: 372 | M14: 1255
A15: Forest | B15: 5053 | C15: 2566 | D15: 2487 | E15: 472 | F15: 3342 | G15: 1239 | H15: 1788 | I15: 3265 | J15: 797 | K15: 969 | L15: 1353 | M15: 1934
A16: Ganshoren | B16: 1636 | C16: 766 | D16: 869 | E16: 191 | F16: 990 | G16: 455 | H16: 613 | I16: 1023 | J16: 321 | K16: 402 | L16: 207 | M16: 707
A17: Ixelles | B17: 6198 | C17: 3291 | D17: 2907 | E17: 491 | F17: 4286 | G17: 1422 | H17: 2538 | I17: 3661 | J17: 748 | K17: 1131 | L17: 1816 | M17: 2503
A18: Jette | B18: 3789 | C18: 1853 | D18: 1936 | E18: 451 | F18: 2345 | G18: 992 | H18: 1456 | I18: 2332 | J18: 740 | K18: 885 | L18: 549 | M18: 1615
A19: Koekelberg | B19: 1784 | C19: 920 | D19: 864 | E19: 213 | F19: 1115 | G19: 456 | H19: 701 | I19: 1084 | J19: 321 | K19: 381 | L19: 220 | M19: 863
A20: Molenbeek-St-Jean | B20: 8898 | C20: 4712 | D20: 4186 | E20: 1224 | F20: 5504 | G20: 2169 | H20: 3297 | I20: 5600 | J20: 1892 | K20: 2016 | L20: 927 | M20: 4062
... A28: Région bruxelloise | B28: 91628 | C28: 47278 | D28: 44350 | E28: 10202 | F28: 58106 | G28: 23320 | H28: 35355 | I28: 56273 | J28: 15908 | K28: 19022 | L28: 16671 | M28: 40027
A30: Source : ACTIRIS, calculs view.brussels
A32: (%) | B32: Total | C32: Genre | E32: Classe d’âge | H32: Durée d’inactivité | J32: Niveau d’études
C33: Hommes | D33: Femmes | E33: < 25 ans | F33: 25-49 ans | G33: ≥ 50 ans | H33: < 1 an | I33: ≥ 1 an | J33: Faible | K33: Moyen | L33: Élevé | M33: Étranger sans équivalence
A34: Anderlecht | B34: =B9 -> 10394 | C34: =C9/B34*100 -> 52.838176 | D34: =D9/B34*100 -> 47.161824 | E34: =E9/B9*100 -> 12.75736 | F34: =F9/B9*100 -> 62.334039 | G34: =G9/B9*100 -> 24.918222 | H34: =H9/B9*100 -> 38.454878 | I34: =I9/B9*100 -> 61.554743 | J34: =J9/B9*100 -> 20.001924 | K34: =K9/B9*100 -> 21.560516 | L34: =L9/B9*100 -> 10.717722 | M34: =M9/B9*100 -> 47.729459
A35: Auderghem | B35: =B10 -> 1710 | C35: =C10/B35*100 -> 48.128655 | D35: =D10/B35*100 -> 51.929825 | E35: =E10/B10*100 -> 11.345029 | F35: =F10/B10*100 -> 61.520468 | G35: =G10/B10*100 -> 27.134503 | H35: =H10/B10*100 -> 42.280702 | I35: =I10/B10*100 -> 57.777778 | J35: =J10/B10*100 -> 13.157895 | K35: =K10/B10*100 -> 21.22807 | L35: =L10/B10*100 -> 28.070175 | M35: =M10/B10*100 -> 37.602339
A36: Berchem-Ste-Agathe | B36: =B11 -> 1656 | C36: =C11/B36*100 -> 48.490338 | D36: =D11/B36*100 -> 51.509662 | E36: =E11/B11*100 -> 12.681159 | F36: =F11/B11*100 -> 58.756039 | G36: =G11/B11*100 -> 28.562802 | H36: =H11/B11*100 -> 36.292271 | I36: =I11/B11*100 -> 63.707729 | J36: =J11/B11*100 -> 20.108696 | K36: =K11/B11*100 -> 27.355072 | L36: =L11/B11*100 -> 14.492754 | M36: =M11/B11*100 -> 38.103865
A37: Bruxelles | B37: =B12 -> 15468 | C37: =C12/B37*100 -> 54.05353 | D37: =D12/B37*100 -> 45.952935 | E37: =E12/B12*100 -> 11.022757 | F37: =F12/B12*100 -> 63.078614 | G37: =G12/B12*100 -> 25.898629 | H37: =H12/B12*100 -> 38.240238 | I37: =I12/B12*100 -> 61.759762 | J37: =J12/B12*100 -> 18.017843 | K37: =K12/B12*100 -> 20.649082 | L37: =L12/B12*100 -> 14.707784 | M37: =M12/B12*100 -> 46.625291
A38: Etterbeek | B38: =B13 -> 3376 | C38: =C13/B38*100 -> 51.125592 | D38: =D13/B38*100 -> 48.874408 | E38: =E13/B13*100 -> 9.1528436 | F38: =F13/B13*100 -> 66.795024 | G38: =G13/B13*100 -> 24.052133 | H38: =H13/B13*100 -> 41.084123 | I38: =I13/B13*100 -> 58.945498 | J38: =J13/B13*100 -> 13.151659 | K38: =K13/B13*100 -> 18.246445 | L38: =L13/B13*100 -> 23.370853 | M38: =M13/B13*100 -> 45.260664
A39: Evere | B39: =B14 -> 2922 | C39: =C14/B39*100 -> 46.098563 | D39: =D14/B39*100 -> 53.901437 | E39: =E14/B14*100 -> 11.772758 | F39: =F14/B14*100 -> 61.293634 | G39: =G14/B14*100 -> 26.933607 | H39: =H14/B14*100 -> 39.459274 | I39: =I14/B14*100 -> 60.574949 | J39: =J14/B14*100 -> 19.507187 | K39: =K14/B14*100 -> 24.811773 | L39: =L14/B14*100 -> 12.731006 | M39: =M14/B14*100 -> 42.950034
A40: Forest | B40: =B15 -> 5053 | C40: =C15/B40*100 -> 50.781714 | D40: =D15/B40*100 -> 49.218286 | E40: =E15/B15*100 -> 9.3409856 | F40: =F15/B15*100 -> 66.138927 | G40: =G15/B15*100 -> 24.520087 | H40: =H15/B15*100 -> 35.38492 | I40: =I15/B15*100 -> 64.61508 | J40: =J15/B15*100 -> 15.772808 | K40: =K15/B15*100 -> 19.176727 | L40: =L15/B15*100 -> 26.776173 | M40: =M15/B15*100 -> 38.274292
A41: Ganshoren | B41: =B16 -> 1636 | C41: =C16/B41*100 -> 46.821516 | D41: =D16/B41*100 -> 53.117359 | E41: =E16/B16*100 -> 11.674817 | F41: =F16/B16*100 -> 60.513447 | G41: =G16/B16*100 -> 27.811736 | H41: =H16/B16*100 -> 37.469438 | I41: =I16/B16*100 -> 62.530562 | J41: =J16/B16*100 -> 19.621027 | K41: =K16/B16*100 -> 24.572127 | L41: =L16/B16*100 -> 12.652812 | M41: =M16/B16*100 -> 43.215159
A42: Ixelles | B42: =B17 -> 6198 | C42: =C17/B42*100 -> 53.097773 | D42: =D17/B42*100 -> 46.902227 | E42: =E17/B17*100 -> 7.9219103 | F42: =F17/B17*100 -> 69.151339 | G42: =G17/B17*100 -> 22.942885 | H42: =H17/B17*100 -> 40.948693 | I42: =I17/B17*100 -> 59.067441 | J42: =J17/B17*100 -> 12.068409 | K42: =K17/B17*100 -> 18.247822 | L42: =L17/B17*100 -> 29.299774 | M42: =M17/B17*100 -> 40.383995
A43: Jette | B43: =B18 -> 3789 | C43: =C18/B43*100 -> 48.904724 | D43: =D18/B43*100 -> 51.095276 | E43: =E18/B18*100 -> 11.902877 | F43: =F18/B18*100 -> 61.889681 | G43: =G18/B18*100 -> 26.18105 | H43: =H18/B18*100 -> 38.427026 | I43: =I18/B18*100 -> 61.546582 | J43: =J18/B18*100 -> 19.530219 | K43: =K18/B18*100 -> 23.357086 | L43: =L18/B18*100 -> 14.489311 | M43: =M18/B18*100 -> 42.623383
A44: Koekelberg | B44: =B19 -> 1784 | C44: =C19/B44*100 -> 51.569507 | D44: =D19/B44*100 -> 48.430493 | E44: =E19/B19*100 -> 11.939462 | F44: =F19/B19*100 -> 62.5 | G44: =G19/B19*100 -> 25.560538 | H44: =H19/B19*100 -> 39.293722 | I44: =I19/B19*100 -> 60.762332 | J44: =J19/B19*100 -> 17.993274 | K44: =K19/B19*100 -> 21.356502 | L44: =L19/B19*100 -> 12.331839 | M44: =M19/B19*100 -> 48.374439
A45: Molenbeek-St-Jean | B45: =B20 -> 8898 | C45: =C20/B45*100 -> 52.95572 | D45: =D20/B45*100 -> 47.04428 | E45: =E20/B20*100 -> 13.7559 | F45: =F20/B20*100 -> 61.856597 | G45: =G20/B20*100 -> 24.376264 | H45: =H20/B20*100 -> 37.05327 | I45: =I20/B20*100 -> 62.935491 | J45: =J20/B20*100 -> 21.263205 | K45: =K20/B20*100 -> 22.656777 | L45: =L20/B20*100 -> 10.418071 | M45: =M20/B20*100 -> 45.650708
... A53: Région bruxelloise | B53: =B28 -> 91628 | C53: =C28/B53*100 -> 51.597765 | D53: =D28/B53*100 -> 48.402235 | E53: =E28/B28*100 -> 11.134151 | F53: =F28/B28*100 -> 63.415113 | G53: =G28/B28*100 -> 25.450736 | H53: =H28/B28*100 -> 38.585367 | I53: =I28/B28*100 -> 61.414633 | J53: =J28/B28*100 -> 17.361505 | K53: =K28/B28*100 -> 20.76003 | L53: =L28/B28*100 -> 18.19422 | M53: =M28/B28*100 -> 43.684245
A55: Source : ACTIRIS, calculs view.brussels

Sheet F.2.2.1
A1: F. Caractéristiques des communes de la Région bruxelloise | K1: Retour au menu
A3: F.2. Demandeurs d'emploi inoccupés
A5: Tableau F.2.2.1 : Nombre de DEI par commune bruxelloise, genre et classe d'âge (moyenne annuelle 2024)
A7: (nombre) | B7: DEI | C7: Hommes | F7: Femmes | I7: Total
C8: < 25 ans | D8: 25-49 ans | E8: ≥ 50 ans | F8: < 25 ans | G8: 25-49 ans | H8: ≥ 50 ans | I8: < 25 ans | J8: 25-49 ans | K8: ≥ 50 ans
A9: Anderlecht | B9: 10394 | C9: 762 | D9: 3084 | E9: 1646 | F9: 563 | G9: 3395 | H9: 944 | I9: 1326 | J9: 6479 | K9: 2590
A10: Auderghem | B10: 1710 | C10: 106 | D10: 476 | E10: 241 | F10: 88 | G10: 576 | H10: 224 | I10: 194 | J10: 1052 | K10: 464
A11: Berchem-Ste-Agathe | B11: 1656 | C11: 113 | D11: 428 | E11: 263 | F11: 98 | G11: 545 | H11: 210 | I11: 210 | J11: 973 | K11: 473
A12: Bruxelles | B12: 15468 | C12: 948 | D12: 4934 | E12: 2478 | F12: 757 | G12: 4823 | H12: 1528 | I12: 1705 | J12: 9757 | K12: 4006
A13: Etterbeek | B13: 3376 | C13: 167 | D13: 1128 | E13: 431 | F13: 143 | G13: 1127 | H13: 381 | I13: 309 | J13: 2255 | K13: 812
A14: Evere | B14: 2922 | C14: 193 | D14: 751 | E14: 403 | F14: 151 | G14: 1040 | H14: 384 | I14: 344 | J14: 1791 | K14: 787
A15: Forest | B15: 5053 | C15: 262 | D15: 1573 | E15: 731 | F15: 209 | G15: 1769 | H15: 509 | I15: 472 | J15: 3342 | K15: 1239
A16: Ganshoren | B16: 1636 | C16: 98 | D16: 419 | E16: 249 | F16: 93 | G16: 570 | H16: 206 | I16: 191 | J16: 990 | K16: 455
A17: Ixelles | B17: 6198 | C17: 252 | D17: 2222 | E17: 818 | F17: 239 | G17: 2064 | H17: 604 | I17: 491 | J17: 4286 | K17: 1422
A18: Jette | B18: 3789 | C18: 234 | D18: 1080 | E18: 539 | F18: 217 | G18: 1265 | H18: 453 | I18: 451 | J18: 2345 | K18: 992
A19: Koekelberg | B19: 1784 | C19: 117 | D19: 526 | E19: 278 | F19: 96 | G19: 589 | H19: 178 | I19: 213 | J19: 1115 | K19: 456
A20: Molenbeek-St-Jean | B20: 8898 | C20: 678 | D20: 2677 | E20: 1356 | F20: 546 | G20: 2827 | H20: 813 | I20: 1224 | J20: 5504 | K20: 2169
... A28: Région bruxelloise | B28: 91628 | C28: 5619 | D28: 28079 | E28: 13579 | F28: 4583 | G28: 30027 | H28: 9741 | I28: 10202 | J28: 58106 | K28: 23320
A30: Source : ACTIRIS, calculs view.brussels
A32: (%) | B32: DEI | C32: Hommes | F32: Femmes | I32: Total
C33: < 25 ans | D33: 25-49 ans | E33: ≥ 50 ans | F33: < 25 ans | G33: 25-49 ans | H33: ≥ 50 ans | I33: < 25 ans | J33: 25-49 ans | K33: ≥ 50 ans
A34: Anderlecht | B34: =B9 -> 10394 | C34: =C9/B9*100 -> 7.3311526 | D34: =D9/B9*100 -> 29.670964 | E34: =E9/B9*100 -> 15.836059 | F34: =F9/B9*100 -> 5.4165865 | G34: =G9/B9*100 -> 32.663075 | H34: =H9/B9*100 -> 9.0821628 | I34: =I9/B9*100 -> 12.75736 | J34: =J9/B9*100 -> 62.334039 | K34: =K9/B9*100 -> 24.918222
A35: Auderghem | B35: =B10 -> 1710 | C35: =C10/B10*100 -> 6.1988304 | D35: =D10/B10*100 -> 27.836257 | E35: =E10/B10*100 -> 14.093567 | F35: =F10/B10*100 -> 5.1461988 | G35: =G10/B10*100 -> 33.684211 | H35: =H10/B10*100 -> 13.099415 | I35: =I10/B10*100 -> 11.345029 | J35: =J10/B10*100 -> 61.520468 | K35: =K10/B10*100 -> 27.134503
A36: Berchem-Ste-Agathe | B36: =B11 -> 1656 | C36: =C11/B11*100 -> 6.8236715 | D36: =D11/B11*100 -> 25.845411 | E36: =E11/B11*100 -> 15.881643 | F36: =F11/B11*100 -> 5.9178744 | G36: =G11/B11*100 -> 32.910628 | H36: =H11/B11*100 -> 12.681159 | I36: =I11/B11*100 -> 12.681159 | J36: =J11/B11*100 -> 58.756039 | K36: =K11/B11*100 -> 28.562802
A37: Bruxelles | B37: =B12 -> 15468 | C37: =C12/B12*100 -> 6.128782 | D37: =D12/B12*100 -> 31.898112 | E37: =E12/B12*100 -> 16.020171 | F37: =F12/B12*100 -> 4.8939747 | G37: =G12/B12*100 -> 31.180502 | H37: =H12/B12*100 -> 9.8784588 | I37: =I12/B12*100 -> 11.022757 | J37: =J12/B12*100 -> 63.078614 | K37: =K12/B12*100 -> 25.898629
A38: Etterbeek | B38: =B13 -> 3376 | C38: =C13/B13*100 -> 4.9466825 | D38: =D13/B13*100 -> 33.412322 | E38: =E13/B13*100 -> 12.766588 | F38: =F13/B13*100 -> 4.235782 | G38: =G13/B13*100 -> 33.382701 | H38: =H13/B13*100 -> 11.285545 | I38: =I13/B13*100 -> 9.1528436 | J38: =J13/B13*100 -> 66.795024 | K38: =K13/B13*100 -> 24.052133
A39: Evere | B39: =B14 -> 2922 | C39: =C14/B14*100 -> 6.605065 | D39: =D14/B14*100 -> 25.701574 | E39: =E14/B14*100 -> 13.791923 | F39: =F14/B14*100 -> 5.1676934 | G39: =G14/B14*100 -> 35.59206 | H39: =H14/B14*100 -> 13.141684 | I39: =I14/B14*100 -> 11.772758 | J39: =J14/B14*100 -> 61.293634 | K39: =K14/B14*100 -> 26.933607
A40: Forest | B40: =B15 -> 5053 | C40: =C15/B15*100 -> 5.1850386 | D40: =D15/B15*100 -> 31.130022 | E40: =E15/B15*100 -> 14.466653 | F40: =F15/B15*100 -> 4.1361567 | G40: =G15/B15*100 -> 35.008906 | H40: =H15/B15*100 -> 10.073224 | I40: =I15/B15*100 -> 9.3409856 | J40: =J15/B15*100 -> 66.138927 | K40: =K15/B15*100 -> 24.520087
A41: Ganshoren | B41: =B16 -> 1636 | C41: =C16/B16*100 -> 5.99022 | D41: =D16/B16*100 -> 25.611247 | E41: =E16/B16*100 -> 15.220049 | F41: =F16/B16*100 -> 5.6845966 | G41: =G16/B16*100 -> 34.841076 | H41: =H16/B16*100 -> 12.591687 | I41: =I16/B16*100 -> 11.674817 | J41: =J16/B16*100 -> 60.513447 | K41: =K16/B16*100 -> 27.811736
A42: Ixelles | B42: =B17 -> 6198 | C42: =C17/B17*100 -> 4.0658277 | D42: =D17/B17*100 -> 35.850274 | E42: =E17/B17*100 -> 13.197806 | F42: =F17/B17*100 -> 3.8560826 | G42: =G17/B17*100 -> 33.301065 | H42: =H17/B17*100 -> 9.7450791 | I42: =I17/B17*100 -> 7.9219103 | J42: =J17/B17*100 -> 69.151339 | K42: =K17/B17*100 -> 22.942885
A43: Jette | B43: =B18 -> 3789 | C43: =C18/B18*100 -> 6.175772 | D43: =D18/B18*100 -> 28.503563 | E43: =E18/B18*100 -> 14.225389 | F43: =F18/B18*100 -> 5.7271048 | G43: =G18/B18*100 -> 33.386118 | H43: =H18/B18*100 -> 11.955661 | I43: =I18/B18*100 -> 11.902877 | J43: =J18/B18*100 -> 61.889681 | K43: =K18/B18*100 -> 26.18105
A44: Koekelberg | B44: =B19 -> 1784 | C44: =C19/B19*100 -> 6.558296 | D44: =D19/B19*100 -> 29.484305 | E44: =E19/B19*100 -> 15.58296 | F44: =F19/B19*100 -> 5.3811659 | G44: =G19/B19*100 -> 33.015695 | H44: =H19/B19*100 -> 9.9775785 | I44: =I19/B19*100 -> 11.939462 | J44: =J19/B19*100 -> 62.5 | K44: =K19/B19*100 -> 25.560538
A45: Molenbeek-St-Jean | B45: =B20 -> 8898 | C45: =C20/B20*100 -> 7.6196898 | D45: =D20/B20*100 -> 30.085412 | E45: =E20/B20*100 -> 15.23938 | F45: =F20/B20*100 -> 6.1362104 | G45: =G20/B20*100 -> 31.771185 | H45: =H20/B20*100 -> 9.1368847 | I45: =I20/B20*100 -> 13.7559 | J45: =J20/B20*100 -> 61.856597 | K45: =K20/B20*100 -> 24.376264
... A53: Région bruxelloise | B53: =B28 -> 91628 | C53: =C28/B28*100 -> 6.1324049 | D53: =D28/B28*100 -> 30.644563 | E53: =E28/B28*100 -> 14.819706 | F53: =F28/B28*100 -> 5.0017462 | G53: =G28/B28*100 -> 32.77055 | H53: =H28/B28*100 -> 10.63103 | I53: =I28/B28*100 -> 11.134151 | J53: =J28/B28*100 -> 63.415113 | K53: =K28/B28*100 -> 25.450736
A55: Source : ACTIRIS, calculs view.brussels

Sheet F.2.2.2
A1: F. Caractéristiques des communes de la Région bruxelloise | N1: Retour au menu
A3: F.2. Demandeurs d'emploi inoccupés
A5: Tableau F.2.2.2 : Nombre de DEI par commune bruxelloise, genre et niveau d'études (moyenne annuelle 2024)
A7: (nombre) | B7: DEI | C7: Hommes | G7: Femmes | K7: Total
C8: Primaire et secondaire inférieur | D8: Secondaire supérieur | E8: Supérieur | F8: Etranger sans équivalent | G8: Primaire et secondaire inférieur | H8: Secondaire supérieur | I8: Supérieur | J8: Etranger sans équivalent | K8: Primaire et secondaire inférieur | L8: Secondaire supérieur | M8: Supérieur | N8: Etranger sans équivalent
A9: Anderlecht | B9: 10394 | C9: 1294 | D9: 1179 | E9: 500 | F9: 2520 | G9: 786 | H9: 1062 | I9: 614 | J9: 2441 | K9: 2079 | L9: 2241 | M9: 1114 | N9: 4961
A10: Auderghem | B10: 1710 | C10: 137 | D10: 190 | E10: 218 | F10: 278 | G10: 88 | H10: 172 | I10: 262 | J10: 365 | K10: 225 | L10: 363 | M10: 480 | N10: 643
A11: Berchem-Ste-Agathe | B11: 1656 | C11: 198 | D11: 230 | E11: 106 | F11: 269 | G11: 135 | H11: 223 | I11: 133 | J11: 362 | K11: 333 | L11: 453 | M11: 240 | N11: 631
A12: Bruxelles | B12: 15468 | C12: 1798 | D12: 1761 | E12: 1111 | F12: 3692 | G12: 989 | H12: 1433 | I12: 1164 | J12: 3521 | K12: 2787 | L12: 3194 | M12: 2275 | N12: 7212
A13: Etterbeek | B13: 3376 | C13: 271 | D13: 378 | E13: 366 | F13: 711 | G13: 172 | H13: 238 | I13: 423 | J13: 817 | K13: 444 | L13: 616 | M13: 789 | N13: 1528
A14: Evere | B14: 2922 | C14: 324 | D14: 349 | E14: 157 | F14: 518 | G14: 246 | H14: 376 | I14: 216 | J14: 737 | K14: 570 | L14: 725 | M14: 372 | N14: 1255
A15: Forest | B15: 5053 | C15: 500 | D15: 534 | E15: 587 | F15: 945 | G15: 297 | H15: 435 | I15: 765 | J15: 989 | K15: 797 | L15: 969 | M15: 1353 | N15: 1934
A16: Ganshoren | B16: 1636 | C16: 190 | D16: 188 | E16: 94 | F16: 294 | G16: 130 | H16: 213 | I16: 113 | J16: 413 | K16: 321 | L16: 402 | M16: 207 | N16: 707
A17: Ixelles | B17: 6198 | C17: 507 | D17: 655 | E17: 843 | F17: 1286 | G17: 241 | H17: 476 | I17: 973 | J17: 1217 | K17: 748 | L17: 1131 | M17: 1816 | N17: 2503
A18: Jette | B18: 3789 | C18: 446 | D18: 451 | E18: 261 | F18: 696 | G18: 294 | H18: 434 | I18: 288 | J18: 920 | K18: 740 | L18: 885 | M18: 549 | N18: 1615
A19: Koekelberg | B19: 1784 | C19: 190 | D19: 189 | E19: 114 | F19: 427 | G19: 130 | H19: 192 | I19: 105 | J19: 436 | K19: 321 | L19: 381 | M19: 220 | N19: 863
A20: Molenbeek-St-Jean | B20: 8898 | C20: 1186 | D20: 1031 | E20: 406 | F20: 2089 | G20: 706 | H20: 986 | I20: 521 | J20: 1973 | K20: 1892 | L20: 2016 | M20: 927 | N20: 4062
... A28: Région bruxelloise | B28: 91628 | C28: 9923 | D28: 10253 | E28: 7579 | F28: 19522 | G28: 5985 | H28: 8769 | I28: 9092 | J28: 20504 | K28: 15908 | L28: 19022 | M28: 16671 | N28: 40027
A30: Source : ACTIRIS, calculs view.brussels
A32: (%) | B32: DEI | C32: Hommes | G32: Femmes | K32: Total
C33: Primaire et secondaire inférieur | D33: Secondaire supérieur | E33: Supérieur | F33: Etranger sans équivalent | G33: Primaire et secondaire inférieur | H33: Secondaire supérieur | I33: Supérieur | J33: Etranger sans équivalent | K33: Primaire et secondaire inférieur | L33: Secondaire supérieur | M33: Supérieur | N33: Etranger sans équivalent
A34: Anderlecht | B34: =B9 -> 10394 | C34: =C9/$B9*100 -> 12.44949 | D34: =D9/$B9*100 -> 11.343083 | E34: =E9/$B9*100 -> 4.8104676 | F34: =F9/$B9*100 -> 24.244757 | G34: =G9/$B9*100 -> 7.562055 | H34: =H9/$B9*100 -> 10.217433 | I34: =I9/$B9*100 -> 5.9072542 | J34: =J9/$B9*100 -> 23.484703 | ... N34: =N9/$B9*100 -> 47.729459
A35: Auderghem | B35: =B10 -> 1710 | C35: =C10/$B10*100 -> 8.0116959 | D35: =D10/$B10*100 -> 11.111111 | E35: =E10/$B10*100 -> 12.748538 | F35: =F10/$B10*100 -> 16.25731 | G35: =G10/$B10*100 -> 5.1461988 | H35: =H10/$B10*100 -> 10.05848 | I35: =I10/$B10*100 -> 15.321637 | J35: =J10/$B10*100 -> 21.345029 | ... N35: =N10/$B10*100 -> 37.602339
A36: Berchem-Ste-Agathe | B36: =B11 -> 1656 | C36: =C11/$B11*100 -> 11.956522 | D36: =D11/$B11*100 -> 13.888889 | E36: =E11/$B11*100 -> 6.4009662 | F36: =F11/$B11*100 -> 16.243961 | G36: =G11/$B11*100 -> 8.1521739 | H36: =H11/$B11*100 -> 13.466184 | I36: =I11/$B11*100 -> 8.031401 | J36: =J11/$B11*100 -> 21.859903 | ... N36: =N11/$B11*100 -> 38.103865
A37: Bruxelles | B37: =B12 -> 15468 | C37: =C12/$B12*100 -> 11.623998 | D37: =D12/$B12*100 -> 11.384794 | E37: =E12/$B12*100 -> 7.1825705 | F37: =F12/$B12*100 -> 23.868632 | G37: =G12/$B12*100 -> 6.3938454 | H37: =H12/$B12*100 -> 9.2642876 | I37: =I12/$B12*100 -> 7.5252133 | J37: =J12/$B12*100 -> 22.763124 | ... N37: =N12/$B12*100 -> 46.625291
A38: Etterbeek | B38: =B13 -> 3376 | C38: =C13/$B13*100 -> 8.0272512 | D38: =D13/$B13*100 -> 11.196682 | E38: =E13/$B13*100 -> 10.841232 | F38: =F13/$B13*100 -> 21.060427 | G38: =G13/$B13*100 -> 5.0947867 | H38: =H13/$B13*100 -> 7.049763 | I38: =I13/$B13*100 -> 12.529621 | J38: =J13/$B13*100 -> 24.200237 | ... N38: =N13/$B13*100 -> 45.260664
A39: Evere | B39: =B14 -> 2922 | C39: =C14/$B14*100 -> 11.088296 | D39: =D14/$B14*100 -> 11.943874 | E39: =E14/$B14*100 -> 5.3730322 | F39: =F14/$B14*100 -> 17.727584 | G39: =G14/$B14*100 -> 8.4188912 | H39: =H14/$B14*100 -> 12.867899 | I39: =I14/$B14*100 -> 7.3921971 | J39: =J14/$B14*100 -> 25.22245 | ... N39: =N14/$B14*100 -> 42.950034
A40: Forest | B40: =B15 -> 5053 | C40: =C15/$B15*100 -> 9.8951118 | D40: =D15/$B15*100 -> 10.567979 | E40: =E15/$B15*100 -> 11.616861 | F40: =F15/$B15*100 -> 18.701761 | G40: =G15/$B15*100 -> 5.8776964 | H40: =H15/$B15*100 -> 8.6087473 | I40: =I15/$B15*100 -> 15.139521 | J40: =J15/$B15*100 -> 19.572531 | ... N40: =N15/$B15*100 -> 38.274292
A41: Ganshoren | B41: =B16 -> 1636 | C41: =C16/$B16*100 -> 11.613692 | D41: =D16/$B16*100 -> 11.491443 | E41: =E16/$B16*100 -> 5.7457213 | F41: =F16/$B16*100 -> 17.97066 | G41: =G16/$B16*100 -> 7.9462103 | H41: =H16/$B16*100 -> 13.01956 | I41: =I16/$B16*100 -> 6.9070905 | J41: =J16/$B16*100 -> 25.244499 | ... N41: =N16/$B16*100 -> 43.215159
A42: Ixelles | B42: =B17 -> 6198 | C42: =C17/$B17*100 -> 8.1800581 | D42: =D17/$B17*100 -> 10.567925 | E42: =E17/$B17*100 -> 13.601162 | F42: =F17/$B17*100 -> 20.748629 | G42: =G17/$B17*100 -> 3.8883511 | H42: =H17/$B17*100 -> 7.6798967 | I42: =I17/$B17*100 -> 15.698612 | J42: =J17/$B17*100 -> 19.635366 | ... N42: =N17/$B17*100 -> 40.383995
A43: Jette | B43: =B18 -> 3789 | C43: =C18/$B18*100 -> 11.770916 | D43: =D18/$B18*100 -> 11.902877 | E43: =E18/$B18*100 -> 6.888361 | F43: =F18/$B18*100 -> 18.368963 | G43: =G18/$B18*100 -> 7.7593032 | H43: =H18/$B18*100 -> 11.45421 | I43: =I18/$B18*100 -> 7.6009501 | J43: =J18/$B18*100 -> 24.280813 | ... N43: =N18/$B18*100 -> 42.623383
