Workbook
Name A._Kerncijfers: [1]A!#REF!
Name A._Kerncijfers: [1]A!#REF!
Name Query1: #REF!
Name Query1: #REF!

Sheet F
A1: F. | B1: Caractéristiques des communes de la Région bruxelloise
B3: Ce fichier centralise diverses données sur les caractéristiques et l'évolution de la population, du chômage et de l’emploi dans les 19 communes bruxelloises. La répartition géographique de la population, des demandeurs d'emploi inoccupés, du taux de chômage et des indépendants est effectuée d'après le lieu de domicile des personnes recensées. Par contre, la répartition géographique de l'emploi salarié et des établissements est effectuée d'après le lieu de travail, c'est-à-dire, le lieu où l'activité professionnelle est exercée.
B9: 1. Population
B11: Communes bruxelloises, provinces et régions | C11: Évolution | D11: 1995-2025
C13: Genre, classe d'âge et densité | D13: 2025
C15: Nationalité | D15: 2025
B18: 2. Demandeurs d'emploi inoccupés (DEI)
B20: Communes bruxelloises | C20: Genre | D20: 1992-2024
C22: Genre, classe d’âge, durée d’inactivité, niveau d’études | D22: 2024
C24: Classe d’âge et genre | D24: 2024
C26: Niveau d'études et genre | D26: 2024
C28: Durée d'inactivité et genre | D28: 2024
C30: Nationalié et genre | D30: 2024
B33: 3. Taux de chômage
B35: Communes bruxelloises | C35: Genre | D35: 1998-2024
C37: Jeunes de moins de 25 ans et genre | D37: 2001-2024
B40: 4. Emploi salarié
B42: Communes bruxelloises et régions | C42: Évolution | D42: 1992-2023
C44: Secteur d’activité | D44: 2023
C46: Genre, statut, type d'activité et taille d'établissement | D46: 2023
B49: 5. Établissements
B51: Communes bruxelloises et régions | C51: Évolution | D51: 1992-2023
C53: Taille d'établissement et type d'activité (privé/public) | D53: 2023
C55: Secteur d'activité | D55: 2023
B58: 6. Emploi indépendant
B60: Communes bruxelloises et régions | C60: Évolution | D60: 1990-2024
C62: Secteur d'activité et genre | D62: 2024

Sheet F.1.1
A1: F. Caractéristiques des communes de la Région bruxelloise | P1: Retour au menu
A3: F.1. Population
A5: Tableau F.1.1 : Évolution de la population par commune bruxelloise, par province et région (1995-2025)
A7: (nombre) | B7: 1995 | C7: 1996 | D7: 1997 | E7: 1998 | F7: 1999 | G7: 2000 | H7: 2001 | I7: 2002 | J7: 2003 | K7: 2004 | L7: 2005 | M7: 2006 | N7: 2007 | O7: 2008 | P7: 2009
A9: Communes bruxelloises
A10: Anderlecht | B10: 87920 | C10: 87257 | D10: 87451 | E10: 87532 | F10: 87401 | G10: 87812 | H10: 88822 | I10: 90134 | J10: 91759 | K10: 92755 | L10: 93808 | M10: 96011 | N10: 97601 | O10: 99085 | P10: 101371
A11: Auderghem | B11: 29316 | C11: 29126 | D11: 29033 | E11: 28867 | F11: 28931 | G11: 28804 | H11: 28916 | I11: 29000 | J11: 28992 | K11: 29088 | L11: 29265 | M11: 29552 | N11: 29681 | O11: 30086 | P11: 30456
A12: Berchem-Ste-Agathe | B12: 18653 | C12: 18351 | D12: 18508 | E12: 18576 | F12: 18669 | G12: 18735 | H12: 19037 | I12: 19320 | J12: 19478 | K12: 19641 | L12: 19968 | M12: 20078 | N12: 20431 | O12: 20976 | P12: 21669
A13: Bruxelles | B13: 135681 | C13: 133138 | D13: 133845 | E13: 134046 | F13: 134243 | G13: 133859 | H13: 134395 | I13: 136730 | J13: 139501 | K13: 141312 | L13: 142853 | M13: 144784 | N13: 145917 | O13: 148873 | P13: 153377
A14: Etterbeek | B14: 38727 | C14: 38400 | D14: 38315 | E14: 39235 | F14: 39162 | G14: 39404 | H14: 39634 | I14: 40378 | J14: 41019 | K14: 41342 | L14: 41097 | M14: 41740 | N14: 42342 | O14: 42902 | P14: 43512
A15: Evere | B15: 29819 | C15: 29644 | D15: 30053 | E15: 30379 | F15: 30806 | G15: 31348 | H15: 31610 | I15: 32089 | J15: 32703 | K15: 32718 | L15: 33069 | M15: 33462 | N15: 34128 | O15: 34727 | P15: 35372
A16: Forest | B16: 45577 | C16: 45512 | D16: 45752 | E16: 45365 | F16: 45465 | G16: 45555 | H16: 46048 | I16: 46812 | J16: 47313 | K16: 47426 | L16: 47555 | M16: 47719 | N16: 48284 | O16: 48906 | P16: 49757
A17: Ganshoren | B17: 20003 | C17: 19912 | D17: 19735 | E17: 19637 | F17: 19816 | G17: 19757 | H17: 19861 | I17: 20034 | J17: 20247 | K17: 20492 | L17: 20609 | M17: 20970 | N17: 21395 | O17: 21743 | P17: 22160
A18: Ixelles | B18: 72309 | C18: 72358 | D18: 71926 | E18: 72496 | F18: 72524 | G18: 73174 | H18: 72898 | I18: 74377 | J18: 75841 | K18: 76092 | L18: 77729 | M18: 77511 | N18: 78088 | O18: 79768 | P18: 80312
A19: Jette | B19: 38855 | C19: 38479 | D19: 38686 | E19: 38855 | F19: 39166 | G19: 39749 | H19: 40075 | I19: 40893 | J19: 41569 | K19: 41938 | L19: 42250 | M19: 42981 | N19: 43564 | O19: 44601 | P19: 45637
A20: Koekelberg | B20: 16176 | C20: 15916 | D20: 15791 | E20: 15875 | F20: 16014 | G20: 16211 | H20: 16343 | I20: 16716 | J20: 17021 | K20: 17317 | L20: 17721 | M20: 18157 | N20: 18541 | O20: 19020 | P20: 19380
A21: Molenbeek-St-Jean | B21: 68406 | C21: 68513 | D21: 68912 | E21: 69380 | F21: 70075 | G21: 71219 | H21: 72380 | I21: 74662 | J21: 76177 | K21: 78087 | L21: 78520 | M21: 79877 | N21: 81632 | O21: 83674 | P21: 85735
... A29: Région bruxelloise | B29: 951580 | C29: 948122 | D29: 950597 | E29: 953175 | F29: 954460 | G29: 959318 | H29: 964405 | I29: 978339 | J29: 992041 | K29: 999899 | L29: 1006749 | M29: 1018804 | N29: 1031215 | O29: 1048491 | P29: 1068532
A30: Provinces flamandes
A31: Anvers | B31: 1628710 | C31: 1631243 | D31: 1635640 | E31: 1637857 | F31: 1640966 | G31: 1643972 | H31: 1645652 | I31: 1652450 | J31: 1661119 | K31: 1668812 | L31: 1676858 | M31: 1688493 | N31: 1700570 | O31: 1715707 | P31: 1731174
A32: Brabant flamand | B32: 995266 | C32: 999186 | D32: 1004692 | E32: 1007882 | F32: 1011588 | G32: 1014704 | H32: 1018403 | I32: 1022821 | J32: 1027839 | K32: 1031904 | L32: 1037786 | M32: 1044133 | N32: 1052467 | O32: 1060232 | P32: 1068838
A33: Arrondissement Hal-Vilvorde | B33: 549165 | C33: 550507 | D33: 552505 | E33: 554110 | F33: 556321 | G33: 558220 | H33: 560138 | I33: 563370 | J33: 565759 | K33: 568791 | L33: 572697 | M33: 576008 | N33: 580407 | O33: 584416 | P33: 588743
A34: Arrondissement Louvain | B34: 446101 | C34: 448679 | D34: 452187 | E34: 453772 | F34: 455267 | G34: 456484 | H34: 458265 | I34: 459451 | J34: 462080 | K34: 463113 | L34: 465089 | M34: 468125 | N34: 472060 | O34: 475816 | P34: 480095
A35: Flandre occidentale | B35: 1121135 | C35: 1122849 | D35: 1123786 | E35: 1125140 | F35: 1127091 | G35: 1128774 | H35: 1130040 | I35: 1132275 | J35: 1133931 | K35: 1135802 | L35: 1138503 | M35: 1141866 | N35: 1145878 | O35: 1150487 | P35: 1155290
A36: Flandre orientale | B36: 1349382 | C36: 1351777 | D36: 1354737 | E36: 1357576 | F36: 1359702 | G36: 1361623 | H36: 1363672 | I36: 1366652 | J36: 1370136 | K36: 1373720 | L36: 1380072 | M36: 1389450 | N36: 1398253 | O36: 1408484 | P36: 1420415
A37: Limbourg | B37: 771613 | C37: 775302 | D37: 779969 | E37: 783927 | F37: 787491 | G37: 791178 | H37: 794785 | I37: 798583 | J37: 802528 | K37: 805786 | L37: 809942 | M37: 814658 | N37: 820272 | O37: 826690 | P37: 833160
A38: Région flamande | B38: 5866106 | C38: 5880357 | D38: 5898824 | E38: 5912382 | F38: 5926838 | G38: 5940251 | H38: 5952552 | I38: 5972781 | J38: 5995553 | K38: 6016024 | L38: 6043161 | M38: 6078600 | N38: 6117440 | O38: 6161600 | P38: 6208877
A39: Provinces wallonnes
A40: Brabant wallon | B40: 336505 | C40: 339062 | D40: 341565 | E40: 344508 | F40: 347423 | G40: 349884 | H40: 352018 | I40: 355207 | J40: 358012 | K40: 360717 | L40: 363776 | M40: 366481 | N40: 370460 | O40: 373492 | P40: 375645
A41: Arrondissement de Nivelles | B41: 336505 | C41: 339062 | D41: 341565 | E41: 344508 | F41: 347423 | G41: 349884 | H41: 352018 | I41: 355207 | J41: 358012 | K41: 360717 | L41: 363776 | M41: 366481 | N41: 370460 | O41: 373492 | P41: 375645
A42: Hainaut | B42: 1286649 | C42: 1284761 | D42: 1284347 | E42: 1282783 | F42: 1280427 | G42: 1279467 | H42: 1279823 | I42: 1281042 | J42: 1281706 | K42: 1283200 | L42: 1286275 | M42: 1290079 | N42: 1294844 | O42: 1300097 | P42: 1304436
A43: Liège | B43: 1015007 | C43: 1013729 | D43: 1014941 | E43: 1016762 | F43: 1018259 | G43: 1019442 | H43: 1020042 | I43: 1024130 | J43: 1025842 | K43: 1029605 | L43: 1034024 | M43: 1040297 | N43: 1047414 | O43: 1053722 | P43: 1060035
A44: Luxembourg | B44: 240281 | C44: 241339 | D44: 242526 | E44: 243790 | F44: 245140 | G44: 246820 | H44: 248750 | I44: 250406 | J44: 252295 | K44: 254120 | L44: 256004 | M44: 258547 | N44: 261178 | O44: 264084 | P44: 266950
A45: Namur | B45: 434446 | C45: 435677 | D45: 437426 | E45: 438864 | F45: 441205 | G45: 443903 | H45: 445824 | I45: 447775 | J45: 450395 | K45: 452856 | L45: 455863 | M45: 458574 | N45: 461983 | O45: 465380 | P45: 468605
A46: Région wallonne | B46: 3312888 | C46: 3314568 | D46: 3320805 | E46: 3326707 | F46: 3332454 | G46: 3339516 | H46: 3346457 | I46: 3358560 | J46: 3368250 | K46: 3380498 | L46: 3395942 | M46: 3413978 | N46: 3435879 | O46: 3456775 | P46: 3475671
A47: Belgique | B47: 10130574 | C47: 10143047 | D47: 10170226 | E47: 10192264 | F47: 10213752 | G47: 10239085 | H47: 10263414 | I47: 10309680 | J47: 10355844 | K47: 10396421 | L47: 10445852 | M47: 10511382 | N47: 10584534 | O47: 10666866 | P47: 10753080
A49: Source : SPF Économie - DGSIE (Service démographie), calculs view.brussels
A51: (nombre) | B51: 2010 | C51: 2011 | D51: 2012 | E51: 2013 | F51: 2014 | G51: 2015 | H51: 2016 | I51: 2017 | J51: 2018 | K51: 2019 | L51: 2020 | M51: 2021 | N51: 2022 | O51: 2023 | P51: 2024 | Q51: 2025 | R51: Variation 2024-2025
R52: v.a. | S52: %
A53: Communes bruxelloises
A54: Anderlecht | B54: 104647 | C54: 107912 | D54: 111279 | E54: 113462 | F54: 115178 | G54: 116332 | H54: 117412 | I54: 118241 | J54: 118382 | K54: 119714 | L54: 120887 | M54: 121929 | N54: 122547 | O54: 125065 | P54: 126581 | Q54: 128724 | R54: =Q54-P54 -> 2143 | S54: =((Q54/P54)-1)*100 -> 1.6929871
A55: Auderghem | B55: 30811 | C55: 31408 | D55: 31963 | E55: 32350 | F55: 32560 | G55: 32835 | H55: 33161 | I55: 33313 | J55: 33740 | K55: 34013 | L55: 34404 | M55: 34723 | N55: 34986 | O55: 35346 | P55: 35350 | Q55: 35698 | R55: =Q55-P55 -> 348 | S55: =((Q55/P55)-1)*100 -> 0.9844413
A56: Berchem-Ste-Agathe | B56: 22185 | C56: 22770 | D56: 22931 | E56: 23410 | F56: 23690 | G56: 23927 | H56: 24224 | I56: 24701 | J56: 24830 | K56: 25179 | L56: 25502 | M56: 25441 | N56: 25298 | O56: 25396 | P56: 25787 | Q56: 25803 | R56: =Q56-P56 -> 16 | S56: =((Q56/P56)-1)*100 -> 0.062046768
A57: Bruxelles | B57: 157673 | C57: 163210 | D57: 166497 | E57: 168576 | F57: 170407 | G57: 175534 | H57: 178552 | I57: 176545 | J57: 179277 | K57: 181726 | L57: 185103 | M57: 186916 | N57: 188737 | O57: 194291 | P57: 196828 | Q57: 198314 | R57: =Q57-P57 -> 1486 | S57: =((Q57/P57)-1)*100 -> 0.75497389
A58: Etterbeek | B58: 44352 | C58: 45257 | D58: 45502 | E58: 46228 | F58: 46427 | G58: 46773 | H58: 47180 | I58: 47414 | J58: 47786 | K58: 48367 | L58: 48473 | M58: 48331 | N58: 48535 | O58: 49558 | P58: 49775 | Q58: 49131 | R58: =Q58-P58 -> -644 | S58: =((Q58/P58)-1)*100 -> -1.2938222
A59: Evere | B59: 35803 | C59: 36492 | D59: 37009 | E59: 37364 | F59: 37957 | G59: 38448 | H59: 39556 | I59: 40394 | J59: 41131 | K59: 41763 | L59: 42656 | M59: 43061 | N59: 43608 | O59: 44255 | P59: 45234 | Q59: 45892 | R59: =Q59-P59 -> 658 | S59: =((Q59/P59)-1)*100 -> 1.454658
A60: Forest | B60: 50258 | C60: 51838 | D60: 53312 | E60: 54024 | F60: 54524 | G60: 55012 | H60: 55613 | I60: 55746 | J60: 56008 | K60: 56289 | L60: 56581 | M60: 56281 | N60: 56616 | O60: 57724 | P60: 58044 | Q60: 58675 | R60: =Q60-P60 -> 631 | S60: =((Q60/P60)-1)*100 -> 1.0871063
A61: Ganshoren | B61: 22589 | C61: 23059 | D61: 23383 | E61: 23664 | F61: 23836 | G61: 24066 | H61: 24269 | I61: 24596 | J61: 24865 | K61: 24902 | L61: 25234 | M61: 25189 | N61: 25252 | O61: 25548 | P61: 25564 | Q61: 25693 | R61: =Q61-P61 -> 129 | S61: =((Q61/P61)-1)*100 -> 0.50461587
A62: Ixelles | B62: 80183 | C62: 82202 | D62: 83425 | E62: 84216 | F62: 83332 | G62: 84754 | H62: 85541 | I62: 86244 | J62: 86513 | K62: 86876 | L62: 87632 | M62: 87488 | N62: 87052 | O62: 88521 | P62: 89278 | Q62: 89897 | R62: =Q62-P62 -> 619 | S62: =((Q62/P62)-1)*100 -> 0.6933399
A63: Jette | B63: 46818 | C63: 47947 | D63: 48805 | E63: 49411 | F63: 50237 | G63: 50724 | H63: 51426 | I63: 51933 | J63: 52201 | K63: 52536 | L63: 52728 | M63: 52854 | N63: 52751 | O63: 53704 | P63: 54107 | Q63: 54390 | R63: =Q63-P63 -> 283 | S63: =((Q63/P63)-1)*100 -> 0.52303768
A64: Koekelberg | B64: 19812 | C64: 20261 | D64: 20661 | E64: 21025 | F64: 21317 | G64: 21525 | H64: 21638 | I64: 21609 | J64: 21774 | K64: 21990 | L64: 21959 | M64: 21873 | N64: 22023 | O64: 22563 | P64: 22648 | Q64: 22979 | R64: =Q64-P64 -> 331 | S64: =((Q64/P64)-1)*100 -> 1.4614977
A65: Molenbeek-St-Jean | B65: 88181 | C65: 91733 | D65: 93893 | E65: 94653 | F65: 94854 | G65: 95576 | H65: 96586 | I65: 96629 | J65: 97005 | K65: 97462 | L65: 97979 | M65: 98112 | N65: 97697 | O65: 98270 | P65: 98365 | Q65: 98713 | R65: =Q65-P65 -> 348 | S65: =((Q65/P65)-1)*100 -> 0.35378437
... A73: Région bruxelloise | B73: 1089538 | C73: 1119088 | D73: 1138854 | E73: 1154635 | F73: 1163486 | G73: 1175173 | H73: 1187890 | I73: 1191604 | J73: 1198726 | K73: 1208542 | L73: 1218255 | M73: 1219970 | N73: 1222637 | O73: 1241175 | P73: 1249597 | Q73: 1255795 | R73: =Q73-P73 -> 6198 | S73: =((Q73/P73)-1)*100 -> 0.49599991
A74: Provinces flamandes
A75: Anvers | B75: 1744862 | C75: 1764773 | D75: 1781904 | E75: 1793377 | F75: 1802719 | G75: 1813282 | H75: 1824136 | I75: 1836030 | J75: 1847486 | K75: 1857986 | L75: 1869730 | M75: 1875524 | N75: 1886609 | O75: 1910952 | P75: 1926522 | Q75: 1921189 | R75: =Q75-P75 -> -5333 | S75: =((Q75/P75)-1)*100 -> -0.27682009
A76: Brabant flamand | B76: 1076924 | C76: 1086446 | D76: 1094751 | E76: 1101280 | F76: 1107266 | G76: 1114299 | H76: 1121693 | I76: 1129849 | J76: 1138489 | K76: 1146175 | L76: 1155843 | M76: 1162084 | N76: 1173440 | O76: 1187483 | P76: 1196773 | Q76: 1204541 | R76: =Q76-P76 -> 7768 | S76: =((Q76/P76)-1)*100 -> 0.64907881
A77: Arrondissement Hal-Vilvorde | B77: 593455 | C77: 598944 | D77: 604097 | E77: 608736 | F77: 612613 | G77: 617330 | H77: 622234 | I77: 627247 | J77: 632134 | K77: 637441 | L77: 643766 | M77: 649086 | N77: 655700 | O77: 664201 | P77: 669330 | Q77: 673503 | R77: =Q77-P77 -> 4173 | S77: =((Q77/P77)-1)*100 -> 0.62345928
A78: Arrondissement Louvain | B78: 483469 | C78: 487502 | D78: 490654 | E78: 492544 | F78: 494653 | G78: 496969 | H78: 499459 | I78: 502602 | J78: 506355 | K78: 508734 | L78: 512077 | M78: 512998 | N78: 517740 | O78: 523282 | P78: 527443 | Q78: 531038 | R78: =Q78-P78 -> 3595 | S78: =((Q78/P78)-1)*100 -> 0.68159024
A79: Flandre occidentale | B79: 1159366 | C79: 1164967 | D79: 1169990 | E79: 1173019 | F79: 1175508 | G79: 1178996 | H79: 1181828 | I79: 1186532 | J79: 1191059 | K79: 1195796 | L79: 1200945 | M79: 1203312 | N79: 1209011 | O79: 1220026 | P79: 1226375 | Q79: 1231585 | R79: =Q79-P79 -> 5210 | S79: =((Q79/P79)-1)*100 -> 0.42482927
A80: Flandre orientale | B80: 1432326 | C80: 1445831 | D80: 1454716 | E80: 1460944 | F80: 1468932 | G80: 1477346 | H80: 1486722 | I80: 1496187 | J80: 1505053 | K80: 1515064 | L80: 1525255 | M80: 1531745 | N80: 1543865 | O80: 1561316 | P80: 1572002 | Q80: 1602532 | R80: =Q80-P80 -> 30530 | S80: =((Q80/P80)-1)*100 -> 1.9421095
A81: Limbourg | B81: 838505 | C81: 844621 | D81: 849404 | E81: 853239 | F81: 856280 | G81: 860204 | H81: 863425 | I81: 867413 | J81: 870880 | K81: 874048 | L81: 877370 | M81: 880397 | N81: 885951 | O81: 895030 | P81: 900098 | Q81: 904919 | R81: =Q81-P81 -> 4821 | S81: =((Q81/P81)-1)*100 -> 0.53560834
A82: Région flamande | B82: 6251983 | C82: 6306638 | D82: 6350765 | E82: 6381859 | F82: 6410705 | G82: 6444127 | H82: 6477804 | I82: 6516011 | J82: 6552967 | K82: 6589069 | L82: 6629143 | M82: 6653062 | N82: 6698876 | O82: 6774807 | P82: 6821770 | Q82: 6864766 | R82: =Q82-P82 -> 42996 | S82: =((Q82/P82)-1)*100 -> 0.63027631
A83: Provinces wallonnes
A84: Brabant wallon | B84: 379515 | C84: 382866 | D84: 385990 | E84: 388526 | F84: 390966 | G84: 393700 | H84: 396840 | I84: 399123 | J84: 401106 | K84: 403599 | L84: 406019 | M84: 407397 | N84: 409782 | O84: 412934 | P84: 414130 | Q84: 415381 | R84: =Q84-P84 -> 1251 | S84: =((Q84/P84)-1)*100 -> 0.30207906
A85: Arrondissement de Nivelles | B85: 379515 | C85: 382866 | D85: 385990 | E85: 388526 | F85: 390966 | G85: 393700 | H85: 396840 | I85: 399123 | J85: 401106 | K85: 403599 | L85: 406019 | M85: 407397 | N85: 409782 | O85: 412934 | P85: 414130 | Q85: 415381 | R85: =Q85-P85 -> 1251 | S85: =((Q85/P85)-1)*100 -> 0.30207906
A86: Hainaut | B86: 1309880 | C86: 1317284 | D86: 1323196 | E86: 1328760 | F86: 1332042 | G86: 1335360 | H86: 1337157 | I86: 1339562 | J86: 1341645 | K86: 1344241 | L86: 1346840 | M86: 1345947 | N86: 1351127 | O86: 1356895 | P86: 1360074 | Q86: 1365328 | R86: =Q86-P86 -> 5254 | S86: =((Q86/P86)-1)*100 -> 0.38630251
A87: Liège | B87: 1067685 | C87: 1077203 | D87: 1083400 | E87: 1087729 | F87: 1091734 | G87: 1094791 | H87: 1098688 | I87: 1102531 | J87: 1105326 | K87: 1106992 | L87: 1109800 | M87: 1109067 | N87: 1110989 | O87: 1115518 | P87: 1119038 | Q87: 1122925 | R87: =Q87-P87 -> 3887 | S87: =((Q87/P87)-1)*100 -> 0.34735192
A88: Luxembourg | B88: 269023 | C88: 271352 | D88: 273638 | E88: 275594 | F88: 276846 | G88: 278748 | H88: 280327 | I88: 281972 | J88: 283227 | K88: 284638 | L88: 286752 | M88: 288722 | N88: 291143 | O88: 293967 | P88: 295146 | Q88: 296008 | R88: =Q88-P88 -> 862 | S88: =((Q88/P88)-1)*100 -> 0.29205885
A89: Namur | B89: 472281 | C89: 476835 | D89: 480105 | E89: 482451 | F89: 484737 | G89: 487145 | H89: 489204 | I89: 491285 | J89: 493073 | K89: 494325 | L89: 495832 | M89: 497073 | N89: 499454 | O89: 502261 | P89: 503895 | Q89: 505348 | R89: =Q89-P89 -> 1453 | S89: =((Q89/P89)-1)*100 -> 0.28835372
A90: Région wallonne | B90: 3498384 | C90: 3525540 | D90: 3546329 | E90: 3563060 | F90: 3576325 | G90: 3589744 | H90: 3602216 | I90: 4013596 | J90: 3624377 | K90: 3633795 | L90: 3645243 | M90: 3648206 | N90: 3662495 | O90: 3681575 | P90: 3692283 | Q90: 3704990 | R90: =Q90-P90 -> 12707 | S90: =((Q90/P90)-1)*100 -> 0.34415022
A91: Belgique | B91: 10839905 | C91: 10951266 | D91: 11035948 | E91: 11099554 | F91: 11150516 | G91: 11209044 | H91: 11267910 | I91: 11322088 | J91: 11376070 | K91: 11431406 | L91: 11492641 | M91: 11521238 | N91: 11584008 | O91: 11697557 | P91: 11763650 | Q91: 11825551 | R91: =Q91-P91 -> 61901 | S91: =((Q91/P91)-1)*100 -> 0.52620573
A93: Source : SPF Économie - DGSIE (Service démographie), calculs view.brussels

Sheet F.1.2
A1: F. Caractéristiques des communes de la Région bruxelloise | I1: Retour au menu
A3: F.1. Population
A5: Tableau F.1.2 : Caractéristiques et densité de la population par commune bruxelloise, par province et par région (2025)
A7: (nombre) | B7: Total | C7: Genre | E7: Classe d'âge | H7: Superfice en km2 | I7: Densité (hab./km2)
C8: Hommes | D8: Femmes | E8: < 18 ans | F8: 18-64 ans | G8: ≥ 65 ans
A9: Communes bruxelloises
A10: Anderlecht | B10: 128724 | C10: 64323 | D10: 64401 | E10: 32622 | F10: 80473 | G10: 15629 | H10: 17.74 | I10: =B10/H10 -> 7256.1443
A11: Auderghem | B11: 35698 | C11: 16978 | D11: 18720 | E11: 7221 | F11: 22545 | G11: 5932 | H11: 9.03 | I11: =B11/H11 -> 3953.2669
A12: Berchem-Ste-Agathe | B12: 25803 | C12: 12520 | D12: 13283 | E12: 6252 | F12: 15501 | G12: 4050 | H12: 2.95 | I12: =B12/H12 -> 8746.7797
A13: Bruxelles | B13: 198314 | C13: 101004 | D13: 97310 | E13: 42198 | F13: 134025 | G13: 22091 | H13: 32.61 | I13: =B13/H13 -> 6081.3861
A14: Etterbeek | B14: 49131 | C14: 23539 | D14: 25592 | E14: 7909 | F14: 35728 | G14: 5494 | H14: 3.15 | I14: =B14/H14 -> 15597.143
A15: Evere | B15: 45892 | C15: 22171 | D15: 23721 | E15: 10706 | F15: 28476 | G15: 6710 | H15: 5.07 | I15: =B15/H15 -> 9051.6765
A16: Forest | B16: 58675 | C16: 28449 | D16: 30226 | E16: 12386 | F16: 38703 | G16: 7586 | H16: 6.25 | I16: =B16/H16 -> 9388
A17: Ganshoren | B17: 25693 | C17: 12400 | D17: 13293 | E17: 5996 | F17: 15490 | G17: 4207 | H17: 2.46 | I17: =B17/H17 -> 10444.309
A18: Ixelles | B18: 89897 | C18: 43195 | D18: 46702 | E18: 12232 | F18: 67539 | G18: 10126 | H18: 6.34 | I18: =B18/H18 -> 14179.338
A19: Jette | B19: 54390 | C19: 26385 | D19: 28005 | E19: 12733 | F19: 33740 | G19: 7917 | H19: 5.04 | I19: =B19/H19 -> 10791.667
A20: Koekelberg | B20: 22979 | C20: 11483 | D20: 11496 | E20: 5893 | F20: 14614 | G20: 2472 | H20: 1.17 | I20: =B20/H20 -> 19640.171
A21: Molenbeek-St-Jean | B21: 98713 | C21: 49112 | D21: 49601 | E21: 26800 | F21: 60392 | G21: 11521 | H21: 5.89 | I21: =B21/H21 -> 16759.423
... A28: Woluwe-St-Pierre | B28: 42549 | C28: 19997 | D28: 22552 | E28: 8685 | F28: 25689 | G28: 8175 | H28: 8.85 | I28: =B28/H28 -> 4807.7966
A29: Région bruxelloise | B29: 1255795 | C29: 615345 | D29: 640450 | E29: 268740 | F29: 822004 | G29: 165051 | H29: =SUM(H10:H28) -> 161.41 | I29: =B29/H29 -> 7780.1561
A30: Brabant flamand | B30: 1204541 | C30: 591332 | D30: 613209 | E30: 244084 | F30: 713948 | G30: 246509 | H30: 2118 | I30: =B30/H30 -> 568.71624
A31: Région flamande | B31: 6864766 | C31: 3399819 | D31: 3464947 | E31: 1315768 | F31: 4057347 | G31: 1491651 | H31: 13522 | I31: =B31/H31 -> 507.67386
A32: Brabant wallon | B32: 415381 | C32: 201342 | D32: 214039 | E32: 81212 | F32: 246390 | G32: 87779 | H32: 1097 | I32: =B32/H32 -> 378.65178
A33: Région wallonne | B33: 3704990 | C33: 1814858 | D33: 1890132 | E33: 736262 | F33: 2220115 | G33: 748613 | H33: 16901 | I33: =B33/H33 -> 219.21721
A34: Belgique | B34: 11825551 | C34: 5830022 | D34: 5995529 | E34: 2320770 | F34: 7099466 | G34: 2405315 | H34: =SUM(H29,H31,H33) -> 30584.41 | I34: =B34/H34 -> 386.65291
A36: Source : SPF Économie - DGSIE (Service démographie), calculs view.brussels
A38: (%) | B38: Total | C38: Genre | E38: Classe d'âge
C39: Hommes | D39: Femmes | E39: < 18 ans | F39: 18-64 ans | G39: ≥ 65 ans
A40: Communes bruxelloises
A41: Anderlecht | B41: =B10/$B10*100 -> 100 | C41: =C10/$B10*100 -> 49.969703 | D41: =D10/$B10*100 -> 50.030297 | E41: =E10/$B10*100 -> 25.342593 | F41: =F10/$B10*100 -> 62.515926 | G41: =G10/$B10*100 -> 12.141481
A42: Auderghem | B42: =B11/$B11*100 -> 100 | C42: =C11/$B11*100 -> 47.560087 | D42: =D11/$B11*100 -> 52.439913 | E42: =E11/$B11*100 -> 20.228024 | F42: =F11/$B11*100 -> 63.154799 | G42: =G11/$B11*100 -> 16.617177
A43: Berchem-Ste-Agathe | B43: =B12/$B12*100 -> 100 | C43: =C12/$B12*100 -> 48.52149 | D43: =D12/$B12*100 -> 51.47851 | E43: =E12/$B12*100 -> 24.229741 | F43: =F12/$B12*100 -> 60.07441 | G43: =G12/$B12*100 -> 15.695849
A44: Bruxelles | B44: =B13/$B13*100 -> 100 | C44: =C13/$B13*100 -> 50.931351 | D44: =D13/$B13*100 -> 49.068649 | E44: =E13/$B13*100 -> 21.278377 | F44: =F13/$B13*100 -> 67.582218 | G44: =G13/$B13*100 -> 11.139405
A45: Etterbeek | B45: =B14/$B14*100 -> 100 | C45: =C14/$B14*100 -> 47.910688 | D45: =D14/$B14*100 -> 52.089312 | E45: =E14/$B14*100 -> 16.097779 | F45: =F14/$B14*100 -> 72.719871 | G45: =G14/$B14*100 -> 11.182349
A46: Evere | B46: =B15/$B15*100 -> 100 | C46: =C15/$B15*100 -> 48.311253 | D46: =D15/$B15*100 -> 51.688747 | E46: =E15/$B15*100 -> 23.328685 | F46: =F15/$B15*100 -> 62.050031 | G46: =G15/$B15*100 -> 14.621285
A47: Forest | B47: =B16/$B16*100 -> 100 | C47: =C16/$B16*100 -> 48.485726 | D47: =D16/$B16*100 -> 51.514274 | E47: =E16/$B16*100 -> 21.109501 | F47: =F16/$B16*100 -> 65.961653 | G47: =G16/$B16*100 -> 12.928845
A48: Ganshoren | B48: =B17/$B17*100 -> 100 | C48: =C17/$B17*100 -> 48.262173 | D48: =D17/$B17*100 -> 51.737827 | E48: =E17/$B17*100 -> 23.337096 | F48: =F17/$B17*100 -> 60.288795 | G48: =G17/$B17*100 -> 16.37411
A49: Ixelles | B49: =B18/$B18*100 -> 100 | C49: =C18/$B18*100 -> 48.049434 | D49: =D18/$B18*100 -> 51.950566 | E49: =E18/$B18*100 -> 13.606683 | F49: =F18/$B18*100 -> 75.129315 | G49: =G18/$B18*100 -> 11.264002
A50: Jette | B50: =B19/$B19*100 -> 100 | C50: =C19/$B19*100 -> 48.510756 | D50: =D19/$B19*100 -> 51.489244 | E50: =E19/$B19*100 -> 23.410553 | F50: =F19/$B19*100 -> 62.033462 | G50: =G19/$B19*100 -> 14.555985
A51: Koekelberg | B51: =B20/$B20*100 -> 100 | C51: =C20/$B20*100 -> 49.971713 | D51: =D20/$B20*100 -> 50.028287 | E51: =E20/$B20*100 -> 25.645154 | F51: =F20/$B20*100 -> 63.597197 | G51: =G20/$B20*100 -> 10.757648
A52: Molenbeek-St-Jean | B52: =B21/$B21*100 -> 100 | C52: =C21/$B21*100 -> 49.752312 | D52: =D21/$B21*100 -> 50.247688 | E52: =E21/$B21*100 -> 27.149413 | F52: =F21/$B21*100 -> 61.179379 | G52: =G21/$B21*100 -> 11.671208
... A65: Belgique | B65: =B34/$B34*100 -> 100 | C65: =C34/$B34*100 -> 49.300214 | D65: =D34/$B34*100 -> 50.699786 | E65: =E34/$B34*100 -> 19.625047 | F65: =F34/$B34*100 -> 60.03497 | G65: =G34/$B34*100 -> 20.339982
A67: Source : SPF Économie - DGSIE (Service démographie), calculs view.brussels

Sheet F.1.3
A1: F. Caractéristiques des communes de la Région bruxelloise
A3: F.1. Population | I3: Retour au menu
A5: Tableau F.1.3 : Population par commune bruxelloise, région et nationalité (2025)
B7: Nationalité
B10: Belge | C10: UE 27 (hors Belge) | D10: Autre | E10: Total | F10: Belge | G10: UE 27 (hors Belge) | H10: Autre | I10: Total
B13: Nombre | F13: %
A17: Communes bruxelloises
A18: Anderlecht | B18: 83807 | C18: 24055 | D18: 20862 | E18: 128724 | F18: =B18/E18*100 -> 65.105963 | G18: =C18/E18*100 -> 18.687269 | H18: =D18/E18*100 -> 16.206768 | I18: =E18/E18*100 -> 100
A19: Auderghem | B19: 24252 | C19: 7716 | D19: 3730 | E19: 35698 | F19: =B19/E19*100 -> 67.936579 | G19: =C19/E19*100 -> 21.614656 | H19: =D19/E19*100 -> 10.448765 | I19: =E19/E19*100 -> 100
A20: Berchem-Ste-Agathe | B20: 20267 | C20: 3170 | D20: 2366 | E20: 25803 | F20: =B20/E20*100 -> 78.54513 | G20: =C20/E20*100 -> 12.285393 | H20: =D20/E20*100 -> 9.1694764 | I20: =E20/E20*100 -> 100
A21: Bruxelles | B21: 120390 | C21: 45245 | D21: 32679 | E21: 198314 | F21: =B21/E21*100 -> 60.706758 | G21: =C21/E21*100 -> 22.814829 | H21: =D21/E21*100 -> 16.478413 | I21: =E21/E21*100 -> 100
A22: Etterbeek | B22: 24654 | C22: 17815 | D22: 6662 | E22: 49131 | F22: =B22/E22*100 -> 50.180131 | G22: =C22/E22*100 -> 36.260202 | H22: =D22/E22*100 -> 13.559667 | I22: =E22/E22*100 -> 100
A23: Evere | B23: 31240 | C23: 7008 | D23: 7644 | E23: 45892 | F23: =B23/E23*100 -> 68.072867 | G23: =C23/E23*100 -> 15.270635 | H23: =D23/E23*100 -> 16.656498 | I23: =E23/E23*100 -> 100
A24: Forest | B24: 37522 | C24: 14470 | D24: 6683 | E24: 58675 | F24: =B24/E24*100 -> 63.948871 | G24: =C24/E24*100 -> 24.66127 | H24: =D24/E24*100 -> 11.389859 | I24: =E24/E24*100 -> 100
A25: Ganshoren | B25: 19246 | C25: 3889 | D25: 2558 | E25: 25693 | F25: =B25/E25*100 -> 74.907562 | G25: =C25/E25*100 -> 15.136418 | H25: =D25/E25*100 -> 9.9560191 | I25: =E25/E25*100 -> 100
A26: Ixelles | B26: 44037 | C26: 33318 | D26: 12542 | E26: 89897 | F26: =B26/E26*100 -> 48.986062 | G26: =C26/E26*100 -> 37.062416 | H26: =D26/E26*100 -> 13.951522 | I26: =E26/E26*100 -> 100
A27: Jette | B27: 39830 | C27: 8149 | D27: 6411 | E27: 54390 | F27: =B27/E27*100 -> 73.230373 | G27: =C27/E27*100 -> 14.982534 | H27: =D27/E27*100 -> 11.787093 | I27: =E27/E27*100 -> 100
A28: Koekelberg | B28: 15116 | C28: 4393 | D28: 3470 | E28: 22979 | F28: =B28/E28*100 -> 65.781801 | G28: =C28/E28*100 -> 19.117455 | H28: =D28/E28*100 -> 15.100744 | I28: =E28/E28*100 -> 100
A29: Molenbeek-St-Jean | B29: 69346 | C29: 13234 | D29: 16133 | E29: 98713 | F29: =B29/E29*100 -> 70.250119 | G29: =C29/E29*100 -> 13.406542 | H29: =D29/E29*100 -> 16.343339 | I29: =E29/E29*100 -> 100
... A42: Belgique | B42: 10190627 | C42: 1010986 | D42: 623938 | E42: 11825551 | F42: =B42/E42*100 -> 86.174648 | G42: =C42/E42*100 -> 8.5491661 | H42: =D42/E42*100 -> 5.2761854 | I42: =E42/E42*100 -> 100
A44: Source : SPF Économie - DGSIE (Service démographie), calculs view.brussels

Sheet F.2.1
A1: F. Caractéristiques des communes de la Région bruxelloise | AK1: Retour au menu
A3: F.2. Demandeurs d'emploi inoccupés
A5: Tableau F.2.1 : Nombre de DEI par commune et genre en Région bruxelloise (moyenne annuelle 1992-2024)
A7: Hommes | B7: 1992 | C7: 1993 | D7: 1994 | E7: 1995 | F7: 1996 | G7: 1997 | H7: 1998 | I7: 1999 | J7: 2000 | K7: 2001 | L7: 2002 | M7: 2003 | N7: 2004 | O7: 2005 | P7: 2006 | Q7: 2007 | R7: 2008 | S7: 2009 | T7: 2010 | U7: 2011 | V7: 2012 | W7: 2013 | X7: 2014 | Y7: 2015 | Z7: 2016 | AA7: 2017 | AB7: 2018 | AC7: 2019 | AD7: 2020 | AE7: 2021 | AF7: 2022 | AG7: 2023 | AH7: 2024 | AI7: % communes/ Région (2024) | AJ7: Var. 23-24
AJ8: v.a. | AK8: %
A9: Anderlecht | B9: 2789 | C9: 3273.6667 | D9: 3692 | E9: 3815.5 | F9: 3817.0833 | G9: 3905.4167 | H9: 3900 | I9: 3692.8333 | J9: 3506.4167 | K9: 3684.9167 | L9: 4059.5 | M9: 4487.25 | N9: 4761.75 | O9: 5052.75 | P9: 5253.3333 | Q9: 5242.5 | R9: 5225.75 | S9: 5815.9167 | T9: 6369.75 | U9: 6371.9167 | V9: 6508.3333 | W9: 6615.0833 | X9: 6673.9167 | Y9: 6176.3333 | Z9: 5870.5833 | AA9: 5548.9167 | AB9: 5208.3334 | AC9: 5060.8333 | AD9: 5059 | AE9: 5078.1667 | AF9: 5068 | AG9: 5257 | AH9: 5492 | AI9: =AH9/AH$28*100 -> 11.616397 | AJ9: =AH9-AG9 -> 235 | AK9: =((AH9/AG9)-1)*100 -> 4.4702302
A10: Auderghem | B10: 430.5 | C10: 501.5 | D10: 580.91667 | E10: 624.58333 | F10: 661.16667 | G10: 654.91667 | H10: 611.25 | I10: 537.83333 | J10: 492.75 | K10: 473.5 | L10: 551.25 | M10: 643.66667 | N10: 686.25 | O10: 684.83333 | P10: 686.25 | Q10: 658.58333 | R10: 695.33333 | S10: 784.58333 | T10: 830.66667 | U10: 811.58333 | V10: 824.75 | W10: 850.91667 | X10: 861 | Y10: 809.33333 | Z10: 770.75 | AA10: 757.08333 | AB10: 710.00001 | AC10: 678.75 | AD10: 750 | AE10: 781.16667 | AF10: 732 | AG10: 758 | AH10: 823 | AI10: =AH10/AH$28*100 -> 1.7407674 | AJ10: =AH10-AG10 -> 65 | AK10: =((AH10/AG10)-1)*100 -> 8.5751979
A11: Berchem-Ste-Agathe | B11: 367.33333 | C11: 430.66667 | D11: 468.58333 | E11: 461.91667 | F11: 500.66667 | G11: 498.08333 | H11: 483.41667 | I11: 457.58333 | J11: 437.66667 | K11: 441.75 | L11: 493.41667 | M11: 560.58333 | N11: 646.5 | O11: 699.08333 | P11: 696.75 | Q11: 712.5 | R11: 719.91667 | S11: 812.58333 | T11: 879.08333 | U11: 881.16667 | V11: 874.41667 | W11: 928.33333 | X11: 901.25 | Y11: 878.91667 | Z11: 874 | AA11: 830 | AB11: 802.83334 | AC11: 764.91667 | AD11: 802 | AE11: 820.91667 | AF11: 775 | AG11: 792 | AH11: 803 | AI11: =AH11/AH$28*100 -> 1.6984644 | AJ11: =AH11-AG11 -> 11 | AK11: =((AH11/AG11)-1)*100 -> 1.3888889
A12: Bruxelles | B12: 5211.1667 | C12: 6195.1667 | D12: 6499.4167 | E12: 6841.1667 | F12: 7018.5 | G12: 7162.5833 | H12: 7071 | I12: 6649.4167 | J12: 6197.0833 | K12: 6332.3333 | L12: 7054.8333 | M12: 7606.8333 | N12: 7991.75 | O12: 8401.75 | P12: 8522.75 | Q12: 8349.75 | R12: 8112.6667 | S12: 8735.5 | T12: 9524.5833 | U12: 9510.9167 | V12: 9572.4167 | W12: 9724.0833 | X12: 9875.3333 | Y12: 9379.5833 | Z12: 8903.6667 | AA12: 8449.25 | AB12: 8196.1667 | AC12: 8028.6667 | AD12: 8405 | AE12: 8341.25 | AF12: 7937 | AG12: 8165 | AH12: 8361 | AI12: =AH12/AH$28*100 -> 17.684758 | AJ12: =AH12-AG12 -> 196 | AK12: =((AH12/AG12)-1)*100 -> 2.4004899
A13: Etterbeek | B13: 1177.6667 | C13: 1331.75 | D13: 1496.6667 | E13: 1558.75 | F13: 1586.0833 | G13: 1633.3333 | H13: 1636.25 | I13: 1508.1667 | J13: 1438.5833 | K13: 1421.25 | L13: 1561.6667 | M13: 1579.3333 | N13: 1698.25 | O13: 1705.1667 | P13: 1752.0833 | Q13: 1696.5 | R13: 1621.75 | S13: 1807.8333 | T13: 1999.4167 | U13: 2042.6667 | V13: 2042.25 | W13: 2015.5 | X13: 2025.4167 | Y13: 1868.3333 | Z13: 1745.5 | AA13: 1671.3333 | AB13: 1605.5 | AC13: 1509.5833 | AD13: 1548 | AE13: 1554.25 | AF13: 1526 | AG13: 1610 | AH13: 1726 | AI13: =AH13/AH$28*100 -> 3.6507466 | AJ13: =AH13-AG13 -> 116 | AK13: =((AH13/AG13)-1)*100 -> 7.2049689
A14: Evere | B14: 537.66667 | C14: 658.33333 | D14: 730.16667 | E14: 731.08333 | F14: 744.5 | G14: 746.25 | H14: 717.91667 | I14: 697.16667 | J14: 640.91667 | K14: 652.08333 | L14: 805.5 | M14: 870.91667 | N14: 997.66667 | O14: 1041.6667 | P14: 1091.5833 | Q14: 1069.0833 | R14: 1082.25 | S14: 1320 | T14: 1430.9167 | U14: 1438.1667 | V14: 1459.5 | W14: 1463.5 | X14: 1483.9167 | Y14: 1413.6667 | Z14: 1362.1667 | AA14: 1317 | AB14: 1292 | AC14: 1242.4167 | AD14: 1270 | AE14: 1306.0833 | AF14: 1267 | AG14: 1318 | AH14: 1347 | AI14: =AH14/AH$28*100 -> 2.8491053 | AJ14: =AH14-AG14 -> 29 | AK14: =((AH14/AG14)-1)*100 -> 2.2003035
A15: Forest | B15: 1342.9167 | C15: 1569.5833 | D15: 1848.8333 | E15: 1884.4167 | F15: 1909.5 | G15: 1895.8333 | H15: 1864.1667 | I15: 1786.4167 | J15: 1686.8333 | K15: 1685.75 | L15: 1898.8333 | M15: 2051.25 | N15: 2129.8333 | O15: 2229.9167 | P15: 2290.8333 | Q15: 2257.5833 | R15: 2232.5 | S15: 2438.3333 | T15: 2700.1667 | U15: 2752.1667 | V15: 2902.3333 | W15: 2970.6667 | X15: 2930.0833 | Y15: 2713.25 | Z15: 2533.5833 | AA15: 2459.5 | AB15: 2398.1667 | AC15: 2339.5 | AD15: 2366 | AE15: 2332.75 | AF15: 2278 | AG15: 2466 | AH15: 2566 | AI15: =AH15/AH$28*100 -> 5.4274716 | AJ15: =AH15-AG15 -> 100 | AK15: =((AH15/AG15)-1)*100 -> 4.05515
A16: Ganshoren | B16: 361.25 | C16: 450.16667 | D16: 526.46667 | E16: 502.83333 | F16: 478.41667 | G16: 488.5 | H16: 487.5 | I16: 461.75 | J16: 476 | K16: 468.33333 | L16: 491 | M16: 538.41667 | N16: 646.08333 | O16: 687.66667 | P16: 717.25 | Q16: 722.25 | R16: 720.83333 | S16: 785.58333 | T16: 881 | U16: 890.25 | V16: 931.5 | W16: 958.08333 | X16: 951.75 | Y16: 857.58333 | Z16: 807.33333 | AA16: 813.41667 | AB16: 763.83334 | AC16: 745.25 | AD16: 799 | AE16: 792.41667 | AF16: 740 | AG16: 743 | AH16: 766 | AI16: =AH16/AH$28*100 -> 1.6202039 | AJ16: =AH16-AG16 -> 23 | AK16: =((AH16/AG16)-1)*100 -> 3.0955585
A17: Ixelles | B17: 2317.5 | C17: 2745.4167 | D17: 2958.9167 | E17: 2984.5833 | F17: 2996.25 | G17: 3034.0833 | H17: 3051.6667 | I17: 2709.0833 | J17: 2488.75 | K17: 2582.4167 | L17: 2868.9167 | M17: 3077.9167 | N17: 3469.3333 | O17: 3568.75 | P17: 3844.0833 | Q17: 3639.5 | R17: 3565.9167 | S17: 3947.75 | T17: 4258.8333 | U17: 4277.0833 | V17: 4364.25 | W17: 4452.75 | X17: 4489.5 | Y17: 4160.25 | Z17: 3810.5833 | AA17: 3651.25 | AB17: 3499.4167 | AC17: 3397 | AD17: 3519 | AE17: 3437.9167 | AF17: 3201 | AG17: 3208 | AH17: 3291 | AI17: =AH17/AH$28*100 -> 6.9609544 | AJ17: =AH17-AG17 -> 83 | AK17: =((AH17/AG17)-1)*100 -> 2.5872818
A18: Jette | B18: 932.83333 | C18: 1085.0833 | D18: 1222.3333 | E18: 1238.5 | F18: 1217.3333 | G18: 1245.8333 | H18: 1173.9167 | I18: 1068.3333 | J18: 1034.25 | K18: 1058.75 | L18: 1251.4167 | M18: 1368.3333 | N18: 1570.5 | O18: 1646.1667 | P18: 1672.25 | Q18: 1632.0833 | R18: 1642.5 | S18: 1880.1667 | T18: 2036.1667 | U18: 2043 | V18: 2030.5 | W18: 2105.25 | X18: 2129.75 | Y18: 2017.25 | Z18: 1879.3333 | AA18: 1813.75 | AB18: 1752.8333 | AC18: 1700.3333 | AD18: 1800 | AE18: 1758.9167 | AF18: 1708 | AG18: 1775 | AH18: 1853 | AI18: =AH18/AH$28*100 -> 3.9193705 | AJ18: =AH18-AG18 -> 78 | AK18: =((AH18/AG18)-1)*100 -> 4.3943662
A19: Koekelberg | B19: 475.66667 | C19: 604.5 | D19: 662.5 | E19: 777.58333 | F19: 793.83333 | G19: 775.66667 | H19: 755.16667 | I19: 724.41667 | J19: 681.91667 | K19: 701.83333 | L19: 810.66667 | M19: 899.58333 | N19: 979.58333 | O19: 1050.0833 | P19: 1064.3333 | Q19: 1017.8333 | R19: 997.33333 | S19: 1087.0833 | T19: 1160.1667 | U19: 1120.5 | V19: 1131.0833 | W19: 1165.75 | X19: 1165.75 | Y19: 1098.9167 | Z19: 1047.6667 | AA19: 951.5 | AB19: 914.16667 | AC19: 874.08333 | AD19: 915 | AE19: 923.33333 | AF19: 856 | AG19: 890 | AH19: 920 | AI19: =AH19/AH$28*100 -> 1.9459368 | AJ19: =AH19-AG19 -> 30 | AK19: =((AH19/AG19)-1)*100 -> 3.3707865
A20: Molenbeek-St-Jean | B20: 2710.8333 | C20: 3253.25 | D20: 3548.5833 | E20: 3773.75 | F20: 3915.1667 | G20: 4026 | H20: 4055.0833 | I20: 3818.8333 | J20: 3791.9167 | K20: 3955.5833 | L20: 4424.8333 | M20: 4782.8333 | N20: 4927.8333 | O20: 5162.6667 | P20: 5265.5833 | Q20: 5152.25 | R20: 5164.25 | S20: 5695.4167 | T20: 6160.6667 | U20: 6191.25 | V20: 6193.5 | W20: 6135.6667 | X20: 6185 | Y20: 5847.8333 | Z20: 5481 | AA20: 5157.1667 | AB20: 5043.0834 | AC20: 4846.5833 | AD20: 4845 | AE20: 4814.4167 | AF20: 4588 | AG20: 4642 | AH20: 4712 | AI20: =AH20/AH$28*100 -> 9.9665807 | AJ20: =AH20-AG20 -> 70 | AK20: =((AH20/AG20)-1)*100 -> 1.5079707
... A28: Région bruxelloise | B28: 28081 | C28: 33242 | D28: 36660.55 | E28: 38266 | F28: 38892.917 | G28: 39488 | H28: 39166.333 | I28: 39166.333 | J28: 34682.917 | K28: 35637.75 | L28: 39835.167 | M28: 43209 | N28: 46277.167 | O28: 48192.583 | P28: 49363.583 | Q28: 47795.667 | R28: 47240.25 | S28: 51949.167 | T28: 56317.333 | U28: 56292.417 | V28: 57037.583 | W28: 57940.333 | X28: 58351.083 | Y28: 54595 | Z28: 51453.833 | AA28: 49023.833 | AB28: 47014.417 | AC28: 45606.5 | AD28: 46756 | AE28: 46446.75 | AF28: 44576 | AG28: 45855 | AH28: 47278 | AI28: =AH28/AH$28*100 -> 100 | AJ28: =AH28-AG28 -> 1423 | AK28: =((AH28/AG28)-1)*100 -> 3.1032603
A30: Source : ACTIRIS, calculs view.brussels
A32: Femmes | B32: 1992 | C32: 1993 | D32: 1994 | E32: 1995 | F32: 1996 | G32: 1997 | H32: 1998 | I32: 1999 | J32: 2000 | K32: 2001 | L32: 2002 | M32: 2003 | N32: 2004 | O32: 2005 | P32: 2006 | Q32: 2007 | R32: 2008 | S32: 2009 | T32: 2010 | U32: 2011 | V32: 2012 | W32: 2013 | X32: 2014 | Y32: 2015 | Z32: 2016 | AA32: 2017 | AB32: 2018 | AC32: 2019 | AD32: 2020 | AE32: 2021 | AF32: 2022 | AG32: 2023 | AH32: 2024 | AI32: % communes/ Région (2024) | AJ32: Var. 23-24
AJ33: v.a. | AK33: %
A34: Anderlecht | B34: 3219.5 | C34: 3472.1667 | D34: 3662.8333 | E34: 3727 | F34: 3767.8333 | G34: 3893.4167 | H34: 4059.6667 | I34: 3885.3333 | J34: 3824.6667 | K34: 3798.75 | L34: 3981.5833 | M34: 4403.0833 | N34: 4645.0833 | O34: 4854.5833 | P34: 5153.75 | Q34: 5019.0833 | R34: 4929 | S34: 5162.0833 | T34: 5499.6667 | U34: 5491.25 | V34: 5565.0833 | W34: 5638.9167 | X34: 5672.5833 | Y34: 5273.3333 | Z34: 5115.5 | AA34: 4815.5833 | AB34: 4615.5 | AC34: 4463.4167 | AD34: 4322 | AE34: 4401.5833 | AF34: 4493 | AG34: 4718 | AH34: 4902 | AI34: =AH34/AH$28*100 -> 10.368459 | AJ34: =AH34-AG34 -> 184 | AK34: =((AH34/AG34)-1)*100 -> 3.8999576
A35: Auderghem | B35: 585.08333 | C35: 658.66667 | D35: 723.33333 | E35: 736.58333 | F35: 733.83333 | G35: 727.91667 | H35: 717.41667 | I35: 620.58333 | J35: 590.83333 | K35: 555.25 | L35: 617.75 | M35: 675.58333 | N35: 746.16667 | O35: 751.83333 | P35: 790.5 | Q35: 760.16667 | R35: 767.16667 | S35: 834.33333 | T35: 891.5 | U35: 870.58333 | V35: 880.91667 | W35: 875.91667 | X35: 902.58333 | Y35: 877.5 | Z35: 847.25 | AA35: 845.83333 | AB35: 806.83334 | AC35: 763.25 | AD35: 777 | AE35: 804.25 | AF35: 818 | AG35: 834 | AH35: 888 | AI35: =AH35/AH$28*100 -> 1.878252 | AJ35: =AH35-AG35 -> 54 | AK35: =((AH35/AG35)-1)*100 -> 6.4748201
A36: Berchem-Ste-Agathe | B36: 458.66667 | C36: 501.25 | D36: 535.83333 | E36: 597.33333 | F36: 609.58333 | G36: 614.91667 | H36: 601.66667 | I36: 569.08333 | J36: 594.58333 | K36: 556.83333 | L36: 596.25 | M36: 682.25 | N36: 746.16667 | O36: 798.5 | P36: 850.91667 | Q36: 819.41667 | R36: 818.41667 | S36: 896.91667 | T36: 989.66667 | U36: 984.75 | V36: 1025.1667 | W36: 1069.0833 | X36: 1052.75 | Y36: 972.75 | Z36: 970.91667 | AA36: 954.08333 | AB36: 943.08334 | AC36: 902.83333 | AD36: 907 | AE36: 908.58333 | AF36: 853 | AG36: 840 | AH36: 853 | AI36: =AH36/AH$28*100 -> 1.8042218 | AJ36: =AH36-AG36 -> 13 | AK36: =((AH36/AG36)-1)*100 -> 1.547619
A37: Bruxelles | B37: 4519.3333 | C37: 4948.3333 | D37: 5164.4833 | E37: 5515.4167 | F37: 5756.5833 | G37: 5802.3333 | H37: 5725.5833 | I37: 5547.3333 | J37: 5446.75 | K37: 5301.9167 | L37: 5865.5833 | M37: 6457.9167 | N37: 6682.4167 | O37: 6907.5833 | P37: 7120.25 | Q37: 6827.25 | R37: 6662 | S37: 7033.5 | T37: 7422.4167 | U37: 7430.75 | V37: 7651.5 | W37: 7735.4167 | X37: 7826.8333 | Y37: 7333.4167 | Z37: 7019.25 | AA37: 6730.25 | AB37: 6652.1667 | AC37: 6618.8333 | AD37: 6630 | AE37: 6731 | AF37: 6573 | AG37: 6874 | AH37: 7108 | AI37: =AH37/AH$28*100 -> 15.034477 | AJ37: =AH37-AG37 -> 234 | AK37: =((AH37/AG37)-1)*100 -> 3.4041315
A38: Etterbeek | B38: 1179.5 | C38: 1320.0833 | D38: 1401.6667 | E38: 1504.5833 | F38: 1596.25 | G38: 1600.5833 | H38: 1583.4167 | I38: 1480.5833 | J38: 1404.6667 | K38: 1417.8333 | L38: 1554.9167 | M38: 1580.6667 | N38: 1721.1667 | O38: 1775.25 | P38: 1818.0833 | Q38: 1691.25 | R38: 1662.25 | S38: 1736.75 | T38: 1864.75 | U38: 1891.0833 | V38: 1889.0833 | W38: 1914.9167 | X38: 1934.0833 | Y38: 1775.5 | Z38: 1646.25 | AA38: 1574.9167 | AB38: 1556.25 | AC38: 1522.5833 | AD38: 1519 | AE38: 1500.1667 | AF38: 1456 | AG38: 1591 | AH38: 1650 | AI38: =AH38/AH$28*100 -> 3.4899953 | AJ38: =AH38-AG38 -> 59 | AK38: =((AH38/AG38)-1)*100 -> 3.7083595
A39: Evere | B39: 811.66667 | C39: 921.33333 | D39: 990.48333 | E39: 1048.8333 | F39: 1065.25 | G39: 1062.0833 | H39: 1070.4167 | I39: 1006.0833 | J39: 1001.5 | K39: 1000.3333 | L39: 1038.5 | M39: 1096.3333 | N39: 1241.8333 | O39: 1317.1667 | P39: 1457.9167 | Q39: 1419.9167 | R39: 1404.6667 | S39: 1570.3333 | T39: 1630.0833 | U39: 1616.9167 | V39: 1654.6667 | W39: 1688.8333 | X39: 1714.8333 | Y39: 1644.75 | Z39: 1544.5 | AA39: 1488.4167 | AB39: 1530.9167 | AC39: 1525.8333 | AD39: 1481 | AE39: 1494.4167 | AF39: 1457 | AG39: 1509 | AH39: 1575 | AI39: =AH39/AH$28*100 -> 3.3313592 | AJ39: =AH39-AG39 -> 66 | AK39: =((AH39/AG39)-1)*100 -> 4.3737575
A40: Forest | B40: 1575.3333 | C40: 1778.6667 | D40: 1950.3833 | E40: 2024.8333 | F40: 2125.1667 | G40: 2115.3333 | H40: 2092.5833 | I40: 2051.4167 | J40: 1885.8333 | K40: 1835 | L40: 2014 | M40: 2173.4167 | N40: 2284 | O40: 2424.6667 | P40: 2423.25 | Q40: 2355 | R40: 2330.8333 | S40: 2448.75 | T40: 2656.4167 | U40: 2743.0833 | V40: 2811.75 | W40: 2803 | X40: 2801.9167 | Y40: 2589 | Z40: 2462.9167 | AA40: 2382.5833 | AB40: 2320.5833 | AC40: 2282 | AD40: 2281 | AE40: 2265.3333 | AF40: 2337 | AG40: 2397 | AH40: 2487 | AI40: =AH40/AH$28*100 -> 5.2603748 | AJ40: =AH40-AG40 -> 90 | AK40: =((AH40/AG40)-1)*100 -> 3.7546934
A41: Ganshoren | B41: 539.08333 | C41: 578.41667 | D41: 643.5 | E41: 643.41667 | F41: 667.16667 | G41: 662.75 | H41: 662.5 | I41: 663.58333 | J41: 635.66667 | K41: 598.08333 | L41: 619.83333 | M41: 695.16667 | N41: 797.33333 | O41: 846.41667 | P41: 921.58333 | Q41: 891.83333 | R41: 874 | S41: 943.91667 | T41: 1038.5833 | U41: 1060.25 | V41: 1064.9167 | W41: 1084 | X41: 1089.9167 | Y41: 1007.75 | Z41: 950 | AA41: 917.25 | AB41: 896.00001 | AC41: 898 | AD41: 917 | AE41: 914.91667 | AF41: 827 | AG41: 830 | AH41: 869 | AI41: =AH41/AH$28*100 -> 1.8380642 | AJ41: =AH41-AG41 -> 39 | AK41: =((AH41/AG41)-1)*100 -> 4.6987952
A42: Ixelles | B42: 2111.6667 | C42: 2465.6667 | D42: 2603.5833 | E42: 2583.8333 | F42: 2634.3333 | G42: 2666.8333 | H42: 2573.5833 | I42: 2378.6667 | J42: 2260.8333 | K42: 2277.4167 | L42: 2366.5833 | M42: 2686.3333 | N42: 2951.6667 | O42: 3055.0833 | P42: 3200.9167 | Q42: 3034.6667 | R42: 2957.75 | S42: 3192.75 | T42: 3334.4167 | U42: 3372.0833 | V42: 3374.5 | W42: 3444.1667 | X42: 3419.75 | Y42: 3179.0833 | Z42: 3047.25 | AA42: 2895.5833 | AB42: 2810.8334 | AC42: 2757.8333 | AD42: 2839 | AE42: 2802.1667 | AF42: 2738 | AG42: 2840 | AH42: 2907 | AI42: =AH42/AH$28*100 -> 6.1487373 | AJ42: =AH42-AG42 -> 67 | AK42: =((AH42/AG42)-1)*100 -> 2.3591549
A43: Jette | B43: 1165.75 | C43: 1253.9167 | D43: 1326.9167 | E43: 1435.0833 | F43: 1480.5 | G43: 1505.6667 | H43: 1442.25 | I43: 1355 | J43: 1329.4167 | K43: 1325.8333 | L43: 1405.25 | M43: 1501.75 | N43: 1746.3333 | O43: 1895.5 | P43: 2087.4167 | Q43: 2004 | R43: 1961.75 | S43: 2085.0833 | T43: 2233.75 | U43: 2264.8333 | V43: 2260.6667 | W43: 2325.1667 | X43: 2309.25 | Y43: 2174.3333 | Z43: 2143.4167 | AA43: 2053.5 | AB43: 1980.25 | AC43: 1949 | AD43: 1917 | AE43: 1937.9167 | AF43: 1864 | AG43: 1934 | AH43: 1936 | AI43: =AH43/AH$28*100 -> 4.0949279 | AJ43: =AH43-AG43 -> 2 | AK43: =((AH43/AG43)-1)*100 -> 0.10341262
A44: Koekelberg | B44: 548.33333 | C44: 613.41667 | D44: 661.58333 | E44: 689.66667 | F44: 704.66667 | G44: 741.83333 | H44: 710.75 | I44: 722.25 | J44: 729.66667 | K44: 708.33333 | L44: 805.75 | M44: 888.16667 | N44: 954.08333 | O44: 1030 | P44: 1078.75 | Q44: 1037.5833 | R44: 1029.5833 | S44: 1055.1667 | T44: 1082.5833 | U44: 1075.5 | V44: 1071.4167 | W44: 1089.8333 | X44: 1102.25 | Y44: 1009.25 | Z44: 941.41667 | AA44: 893.75 | AB44: 827.33334 | AC44: 788.5 | AD44: 767 | AE44: 754.33333 | AF44: 786 | AG44: 830 | AH44: 864 | AI44: =AH44/AH$28*100 -> 1.8274885 | AJ44: =AH44-AG44 -> 34 | AK44: =((AH44/AG44)-1)*100 -> 4.0963855
A45: Molenbeek-St-Jean | B45: 2466.8333 | C45: 2763.3333 | D45: 3011.6667 | E45: 3273.5833 | F45: 3373.5 | G45: 3454.6667 | H45: 3540.1667 | I45: 3447 | J45: 3395.9167 | K45: 3516.25 | L45: 3868 | M45: 4249.9167 | N45: 4516.9167 | O45: 4769.75 | P45: 4855.0833 | Q45: 4710 | R45: 4717.3333 | S45: 4959.75 | T45: 5132.6667 | U45: 5224.5833 | V45: 5209 | W45: 5185.5833 | X45: 5239.3333 | Y45: 4818.5833 | Z45: 4573.4167 | AA45: 4342.1667 | AB45: 4180.5834 | AC45: 4083.3333 | AD45: 3955 | AE45: 4039.5833 | AF45: 4000 | AG45: 4172 | AH45: 4186 | AI45: =AH45/AH$28*100 -> 8.8540124 | AJ45: =AH45-AG45 -> 14 | AK45: =((AH45/AG45)-1)*100 -> 0.33557047
... A53: Région bruxelloise | B53: 29118.75 | C53: 32436 | D53: 34715.6 | E53: 36328 | F53: 37305.167 | G53: 37847.667 | H53: 38013.583 | I53: 36424.25 | J53: 35356.75 | K53: 35076.083 | L53: 37690.667 | M53: 41050.25 | N53: 44044.417 | O53: 45882.417 | P53: 47735.667 | Q53: 45875.667 | R53: 44873.917 | S53: 47427.417 | T53: 50072.583 | U53: 50213.333 | V53: 50816.25 | W53: 51488.75 | X53: 51984.917 | Y53: 48617.333 | Z53: 46365.833 | AA53: 44367.667 | AB53: 43188.334 | AC53: 42440.417 | AD53: 42047 | AE53: 42333.333 | AF53: 41674 | AG53: 43127 | AH53: 44350 | AI53: =AH53/AH$28*100 -> 93.806845 | AJ53: =AH53-AG53 -> 1223 | AK53: =((AH53/AG53)-1)*100 -> 2.8358105
A55: Source : ACTIRIS, calculs view.brussels
A57: Total | B57: 1992 | C57: 1993 | D57: 1994 | E57: 1995 | F57: 1996 | G57: 1997 | H57: 1998 | I57: 1999 | J57: 2000 | K57: 2001 | L57: 2002 | M57: 2003 | N57: 2004 | O57: 2005 | P57: 2006 | Q57: 2007 | R57: 2008 | S57: 2009 | T57: 2010 | U57: 2011 | V57: 2012 | W57: 2013 | X57: 2014 | Y57: 2015 | Z57: 2016 | AA57: 2017 | AB57: 2018 | AC57: 2019 | AD57: 2020 | AE57: 2021 | AF57: 2022 | AG57: 2023 | AH57: 2024 | AI57: % communes/ Région (2024) | AJ57: Var. 23-24
AJ58: v.a. | AK58: %
A59: Anderlecht | B59: 6008.5 | C59: 6745.8333 | D59: 7354.8333 | E59: 7542.5 | F59: 7584.9167 | G59: 7798.8333 | H59: 7959.6667 | I59: 7578.1667 | J59: 7331.0833 | K59: 7483.6667 | L59: 8041.0833 | M59: 8890.3333 | N59: 9406.8333 | O59: 9907.3333 | P59: 10407.083 | Q59: 10261.583 | R59: 10154.75 | S59: 10978 | T59: 11869.417 | U59: 11863.167 | V59: 12073.417 | W59: 12254 | X59: 12346.5 | Y59: 11449.667 | Z59: 10986.083 | AA59: 10364.5 | AB59: 9823.8334 | AC59: 9524.25 | AD59: 9381 | AE59: 9469.5833 | AF59: 9561 | AG59: 9975 | AH59: 10394 | AI59: =AH59/AH$28*100 -> 21.984856 | AJ59: =AH59-AG59 -> 419 | AK59: =((AH59/AG59)-1)*100 -> 4.2005013
A60: Auderghem | B60: 1015.5833 | C60: 1160.1667 | D60: 1304.25 | E60: 1361.1667 | F60: 1395 | G60: 1382.8333 | H60: 1328.6667 | I60: 1158.4167 | J60: 1083.5833 | K60: 1028.75 | L60: 1169 | M60: 1319.25 | N60: 1432.4167 | O60: 1436.6667 | P60: 1476.75 | Q60: 1418.75 | R60: 1462.5 | S60: 1618.9167 | T60: 1722.1667 | U60: 1682.1667 | V60: 1705.6667 | W60: 1726.8333 | X60: 1763.5833 | Y60: 1686.8333 | Z60: 1618 | AA60: 1602.9167 | AB60: 1516.8333 | AC60: 1442 | AD60: 1526 | AE60: 1536.25 | AF60: 1549 | AG60: 1591 | AH60: 1710 | AI60: =AH60/AH$28*100 -> 3.6169043 | AJ60: =AH60-AG60 -> 119 | AK60: =((AH60/AG60)-1)*100 -> 7.4795726
A61: Berchem-Ste-Agathe | B61: 826 | C61: 931.91667 | D61: 1004.4167 | E61: 1059.25 | F61: 1110.25 | G61: 1113 | H61: 1085.0833 | I61: 1026.6667 | J61: 1032.25 | K61: 998.58333 | L61: 1089.6667 | M61: 1242.8333 | N61: 1392.6667 | O61: 1497.5833 | P61: 1547.6667 | Q61: 1531.9167 | R61: 1538.3333 | S61: 1709.5 | T61: 1868.75 | U61: 1865.9167 | V61: 1899.5833 | W61: 1997.4167 | X61: 1954 | Y61: 1851.6667 | Z61: 1844.9167 | AA61: 1784.0833 | AB61: 1745.9167 | AC61: 1667.75 | AD61: 1710 | AE61: 1683.5833 | AF61: 1629 | AG61: 1632 | AH61: 1656 | AI61: =AH61/AH$28*100 -> 3.5026862 | AJ61: =AH61-AG61 -> 24 | AK61: =((AH61/AG61)-1)*100 -> 1.4705882
A62: Bruxelles | B62: 9730.5 | C62: 11143.5 | D62: 11663.5 | E62: 12356.583 | F62: 12775.083 | G62: 12964.917 | H62: 12796.583 | I62: 12196.75 | J62: 11643.833 | K62: 11634.25 | L62: 12920.417 | M62: 14064.75 | N62: 14674.167 | O62: 15309.333 | P62: 15643 | Q62: 15177 | R62: 14774.667 | S62: 15769 | T62: 16947 | U62: 16941.667 | V62: 17223.917 | W62: 17459.5 | X62: 17702.167 | Y62: 16713 | Z62: 15922.917 | AA62: 15179.5 | AB62: 14848.333 | AC62: 14647.5 | AD62: 15035 | AE62: 14668 | AF62: 14510 | AG62: 15039 | AH62: 15468 | AI62: =AH62/AH$28*100 -> 32.71712 | AJ62: =AH62-AG62 -> 429 | AK62: =((AH62/AG62)-1)*100 -> 2.8525833
A63: Etterbeek | B63: 2357.1667 | C63: 2651.8333 | D63: 2897.8333 | E63: 3063.3333 | F63: 3182.3333 | G63: 3233.9167 | H63: 3219.6667 | I63: 2988.75 | J63: 2843.25 | K63: 2839.0833 | L63: 3116.5833 | M63: 3160 | N63: 3419.4167 | O63: 3480.4167 | P63: 3570.1667 | Q63: 3387.75 | R63: 3284 | S63: 3544.5833 | T63: 3864.1667 | U63: 3933.75 | V63: 3931.3333 | W63: 3930.4167 | X63: 3959.5 | Y63: 3643.8333 | Z63: 3391.75 | AA63: 3246.25 | AB63: 3161.75 | AC63: 3032.1667 | AD63: 3067 | AE63: 3026.1667 | AF63: 2982 | AG63: 3201 | AH63: 3376 | AI63: =AH63/AH$28*100 -> 7.140742 | AJ63: =AH63-AG63 -> 175 | AK63: =((AH63/AG63)-1)*100 -> 5.4670415
A64: Evere | B64: 1349.3333 | C64: 1579.6667 | D64: 1720.25 | E64: 1779.9167 | F64: 1809.75 | G64: 1808.3333 | H64: 1788.3333 | I64: 1703.25 | J64: 1642.4167 | K64: 1652.4167 | L64: 1844 | M64: 1967.25 | N64: 2239.5 | O64: 2358.8333 | P64: 2549.5 | Q64: 2489 | R64: 2486.9167 | S64: 2890.3333 | T64: 3061 | U64: 3055.0833 | V64: 3114.1667 | W64: 3152.3333 | X64: 3198.75 | Y64: 3058.4167 | Z64: 2906.6667 | AA64: 2805.4167 | AB64: 2822.9167 | AC64: 2768.25 | AD64: 2751 | AE64: 2761.4167 | AF64: 2724 | AG64: 2827 | AH64: 2922 | AI64: =AH64/AH$28*100 -> 6.1804645 | AJ64: =AH64-AG64 -> 95 | AK64: =((AH64/AG64)-1)*100 -> 3.3604528
A65: Forest | B65: 2918.25 | C65: 3348.25 | D65: 3798.9167 | E65: 3909.25 | F65: 4034.6667 | G65: 4011.1667 | H65: 3956.75 | I65: 3837.8333 | J65: 3572.6667 | K65: 3520.75 | L65: 3912.8333 | M65: 4224.6667 | N65: 4413.8333 | O65: 4654.5833 | P65: 4714.0833 | Q65: 4612.5833 | R65: 4563.3333 | S65: 4887.0833 | T65: 5356.5833 | U65: 5495.25 | V65: 5714.0833 | W65: 5773.6667 | X65: 5732 | Y65: 5302.25 | Z65: 4996.5 | AA65: 4842.0833 | AB65: 4718.75 | AC65: 4621.5 | AD65: 4647 | AE65: 4543.3333 | AF65: 4615 | AG65: 4864 | AH65: 5053 | AI65: =AH65/AH$28*100 -> 10.687846 | AJ65: =AH65-AG65 -> 189 | AK65: =((AH65/AG65)-1)*100 -> 3.8856908
A66: Ganshoren | B66: 900.33333 | C66: 1028.5833 | D66: 1169.6667 | E66: 1146.25 | F66: 1145.5833 | G66: 1151.25 | H66: 1150 | I66: 1125.3333 | J66: 1111.6667 | K66: 1066.4167 | L66: 1110.8333 | M66: 1233.5833 | N66: 1443.4167 | O66: 1534.0833 | P66: 1638.8333 | Q66: 1614.0833 | R66: 1594.8333 | S66: 1729.5 | T66: 1919.5833 | U66: 1950.5 | V66: 1996.4167 | W66: 2042.0833 | X66: 2041.6667 | Y66: 1865.3333 | Z66: 1757.3333 | AA66: 1730.6667 | AB66: 1659.8333 | AC66: 1643.25 | AD66: 1716 | AE66: 1654.9167 | AF66: 1566 | AG66: 1573 | AH66: 1636 | AI66: =AH66/AH$28*100 -> 3.4603833 | AJ66: =AH66-AG66 -> 63 | AK66: =((AH66/AG66)-1)*100 -> 4.0050858
A67: Ixelles | B67: 4429.1667 | C67: 5211.0833 | D67: 5562.5 | E67: 5568.4167 | F67: 5630.5833 | G67: 5700.9167 | H67: 5625.25 | I67: 5087.75 | J67: 4749.5833 | K67: 4859.8333 | L67: 5235.5 | M67: 5764.25 | N67: 6421 | O67: 6623.8333 | P67: 7045 | Q67: 6674.1667 | R67: 6523.6667 | S67: 7140.5 | T67: 7593.25 | U67: 7649.1667 | V67: 7738.75 | W67: 7896.9167 | X67: 7909.25 | Y67: 7339.3333 | Z67: 6857.8333 | AA67: 6546.8333 | AB67: 6310.25 | AC67: 6154.8333 | AD67: 6358 | AE67: 6003.1667 | AF67: 5939 | AG67: 6048 | AH67: 6198 | AI67: =AH67/AH$28*100 -> 13.109692 | AJ67: =AH67-AG67 -> 150 | AK67: =((AH67/AG67)-1)*100 -> 2.4801587
A68: Jette | B68: 2098.5833 | C68: 2339 | D68: 2549.25 | E68: 2673.5833 | F68: 2697.8333 | G68: 2751.5 | H68: 2616.1667 | I68: 2423.3333 | J68: 2363.6667 | K68: 2384.5833 | L68: 2656.6667 | M68: 2870.0833 | N68: 3316.8333 | O68: 3541.6667 | P68: 3759.6667 | Q68: 3636.0833 | R68: 3604.25 | S68: 3965.25 | T68: 4269.9167 | U68: 4307.8333 | V68: 4291.1667 | W68: 4430.4167 | X68: 4439 | Y68: 4191.5833 | Z68: 4022.75 | AA68: 3867.25 | AB68: 3733.0834 | AC68: 3649.3333 | AD68: 3717 | AE68: 3645.9167 | AF68: 3572 | AG68: 3709 | AH68: 3789 | AI68: =AH68/AH$28*100 -> 8.0142984 | AJ68: =AH68-AG68 -> 80 | AK68: =((AH68/AG68)-1)*100 -> 2.1569156
A69: Koekelberg | B69: 1024 | C69: 1217.9167 | D69: 1324.0833 | E69: 1467.25 | F69: 1498.5 | G69: 1517.5 | H69: 1465.9167 | I69: 1446.6667 | J69: 1411.5833 | K69: 1410.1667 | L69: 1616.4167 | M69: 1787.75 | N69: 1933.6667 | O69: 2080.0833 | P69: 2143.0833 | Q69: 2055.4167 | R69: 2026.9167 | S69: 2142.25 | T69: 2242.75 | U69: 2196 | V69: 2202.5 | W69: 2255.5833 | X69: 2268 | Y69: 2108.1667 | Z69: 1989.0833 | AA69: 1845.25 | AB69: 1741.5 | AC69: 1662.5833 | AD69: 1683 | AE69: 1610.3333 | AF69: 1642 | AG69: 1719 | AH69: 1784 | AI69: =AH69/AH$28*100 -> 3.7734253 | AJ69: =AH69-AG69 -> 65 | AK69: =((AH69/AG69)-1)*100 -> 3.7812682
A70: Molenbeek-St-Jean | B70: 5177.6667 | C70: 6016.5833 | D70: 6560.25 | E70: 7047.3333 | F70: 7288.6667 | G70: 7480.6667 | H70: 7595.25 | I70: 7265.8333 | J70: 7187.8333 | K70: 7471.8333 | L70: 8292.8333 | M70: 9032.75 | N70: 9444.75 | O70: 9932.4167 | P70: 10120.667 | Q70: 9862.25 | R70: 9881.5833 | S70: 10655.167 | T70: 11293.333 | U70: 11415.833 | V70: 11402.5 | W70: 11321.25 | X70: 11424.333 | Y70: 10666.417 | Z70: 10054.417 | AA70: 9499.3333 | AB70: 9223.6667 | AC70: 8929.9167 | AD70: 8800 | AE70: 8627.5833 | AF70: 8588 | AG70: 8814 | AH70: 8898 | AI70: =AH70/AH$28*100 -> 18.820593 | AJ70: =AH70-AG70 -> 84 | AK70: =((AH70/AG70)-1)*100 -> 0.95302927
... A78: Région bruxelloise | B78: 57200 | C78: 65678 | D78: 71374.25 | E78: 74594 | F78: 76198.083 | G78: 77335.667 | H78: 77179.917 | I78: 73099.75 | J78: 70039.667 | K78: 70713.833 | L78: 77525.833 | M78: 84259.25 | N78: 90321.583 | O78: 94075 | P78: 97099.25 | Q78: 93671.333 | R78: 92114.167 | S78: 99376.583 | T78: 106389.92 | U78: 106505.75 | V78: 107853.83 | W78: 109429.08 | X78: 110336 | Y78: 103212.33 | Z78: 97819.667 | AA78: 93391.5 | AB78: 90202.751 | AC78: 88046.917 | AD78: 88803 | AE78: 86909.333 | AF78: 86250 | AG78: 88980 | AH78: 91628 | AI78: =AH78/AH$28*100 -> 193.80684 | AJ78: =AH78-AG78 -> 2648 | AK78: =((AH78/AG78)-1)*100 -> 2.9759497
A80: Source : ACTIRIS, calculs view.brussels

Sheet F.2.2
A1: F. Caractéristiques des communes de la Région bruxelloise | M1: Retour au menu
A3: F.2. Demandeurs d'emploi inoccupés
A5: Tableau F.2.2 : Caractéristiques des DEI par commune bruxelloise (moyenne annuelle 2024)
A7: (nombre) | B7: Total | C7: Genre | E7: Classe d’âge | H7: Durée d’inactivité | J7: Niveau d’études
C8: Hommes | D8: Femmes | E8: < 25 ans | F8: 25-49 ans | G8: ≥ 50 ans | H8: < 1 an | I8: ≥ 1 an | J8: Faible | K8: Moyen | L8: Élevé | M8: Étranger sans équivalence
A9: Anderlecht | B9: 10394 | C9: 5492 | D9: 4902 | E9: 1326 | F9: 6479 | G9: 2590 | H9: 3997 | I9: 6398 | J9: 2079 | K9: 2241 | L9: 1114 | M9: 4961
A10: Auderghem | B10: 1710 | C10: 823 | D10: 888 | E10: 194 | F10: 1052 | G10: 464 | H10: 723 | I10: 988 | J10: 225 | K10: 363 | L10: 480 | M10: 643
A11: Berchem-Ste-Agathe | B11: 1656 | C11: 803 | D11: 853 | E11: 210 | F11: 973 | G11: 473 | H11: 601 | I11: 1055 | J11: 333 | K11: 453 | L11: 240 | M11: 631
A12: Bruxelles | B12: 15468 | C12: 8361 | D12: 7108 | E12: 1705 | F12: 9757 | G12: 4006 | H12: 5915 | I12: 9553 | J12: 2787 | K12: 3194 | L12: 2275 | M12: 7212
A13: Etterbeek | B13: 3376 | C13: 1726 | D13: 1650 | E13: 309 | F13: 2255 | G13: 812 | H13: 1387 | I13: 1990 | J13: 444 | K13: 616 | L13: 789 | M13: 1528
A14: Evere | B14: 2922 | C14: 1347 | D14: 1575 | E14: 344 | F14: 1791 | G14: 787 | H14: 1153 | I14: 1770 | J14: 570 | K14: 725 | L14: 372 | M14: 1255
A15: Forest | B15: 5053 | C15: 2566 | D15: 2487 | E15: 472 | F15: 3342 | G15: 1239 | H15: 1788 | I15: 3265 | J15: 797 | K15: 969 | L15: 1353 | M15: 1934
A16: Ganshoren | B16: 1636 | C16: 766 | D16: 869 | E16: 191 | F16: 990 | G16: 455 | H16: 613 | I16: 1023 | J16: 321 | K16: 402 | L16: 207 | M16: 707
A17: Ixelles | B17: 6198 | C17: 3291 | D17: 2907 | E17: 491 | F17: 4286 | G17: 1422 | H17: 2538 | I17: 3661 | J17: 748 | K17: 1131 | L17: 1816 | M17: 2503
A18: Jette | B18: 3789 | C18: 1853 | D18: 1936 | E18: 451 | F18: 2345 | G18: 992 | H18: 1456 | I18: 2332 | J18: 740 | K18: 885 | L18: 549 | M18: 1615
A19: Koekelberg | B19: 1784 | C19: 920 | D19: 864 | E19: 213 | F19: 1115 | G19: 456 | H19: 701 | I19: 1084 | J19: 321 | K19: 381 | L19: 220 | M19: 863
A20: Molenbeek-St-Jean | B20: 8898 | C20: 4712 | D20: 4186 | E20: 1224 | F20: 5504 | G20: 2169 | H20: 3297 | I20: 5600 | J20: 1892 | K20: 2016 | L20: 927 | M20: 4062
... A28: Région bruxelloise | B28: 91628 | C28: 47278 | D28: 44350 | E28: 10202 | F28: 58106 | G28: 23320 | H28: 35355 | I28: 56273 | J28: 15908 | K28: 19022 | L28: 16671 | M28: 40027
A30: Source : ACTIRIS, calculs view.brussels
A32: (%) | B32: Total | C32: Genre | E32: Classe d’âge | H32: Durée d’inactivité | J32: Niveau d’études
C33: Hommes | D33: Femmes | E33: < 25 ans | F33: 25-49 ans | G33: ≥ 50 ans | H33: < 1 an | I33: ≥ 1 an | J33: Faible | K33: Moyen | L33: Élevé | M33: Étranger sans équivalence
A34: Anderlecht | B34: =B9 -> 10394 | C34: =C9/B34*100 -> 52.838176 | D34: =D9/B34*100 -> 47.161824 | E34: =E9/B9*100 -> 12.75736 | F34: =F9/B9*100 -> 62.334039 | G34: =G9/B9*100 -> 24.918222 | H34: =H9/B9*100 -> 38.454878 | I34: =I9/B9*100 -> 61.554743 | J34: =J9/B9*100 -> 20.001924 | K34: =K9/B9*100 -> 21.560516 | L34: =L9/B9*100 -> 10.717722 | M34: =M9/B9*100 -> 47.729459
A35: Auderghem | B35: =B10 -> 1710 | C35: =C10/B35*100 -> 48.128655 | D35: =D10/B35*100 -> 51.929825 | E35: =E10/B10*100 -> 11.345029 | F35: =F10/B10*100 -> 61.520468 | G35: =G10/B10*100 -> 27.134503 | H35: =H10/B10*100 -> 42.280702 | I35: =I10/B10*100 -> 57.777778 | J35: =J10/B10*100 -> 13.157895 | K35: =K10/B10*100 -> 21.22807 | L35: =L10/B10*100 -> 28.070175 | M35: =M10/B10*100 -> 37.602339
A36: Berchem-Ste-Agathe | B36: =B11 -> 1656 | C36: =C11/B36*100 -> 48.490338 | D36: =D11/B36*100 -> 51.509662 | E36: =E11/B11*100 -> 12.681159 | F36: =F11/B11*100 -> 58.756039 | G36: =G11/B11*100 -> 28.562802 | H36: =H11/B11*100 -> 36.292271 | I36: =I11/B11*100 -> 63.707729 | J36: =J11/B11*100 -> 20.108696 | K36: =K11/B11*100 -> 27.355072 | L36: =L11/B11*100 -> 14.492754 | M36: =M11/B11*100 -> 38.103865
A37: Bruxelles | B37: =B12 -> 15468 | C37: =C12/B37*100 -> 54.05353 | D37: =D12/B37*100 -> 45.952935 | E37: =E12/B12*100 -> 11.022757 | F37: =F12/B12*100 -> 63.078614 | G37: =G12/B12*100 -> 25.898629 | H37: =H12/B12*100 -> 38.240238 | I37: =I12/B12*100 -> 61.759762 | J37: =J12/B12*100 -> 18.017843 | K37: =K12/B12*100 -> 20.649082 | L37: =L12/B12*100 -> 14.707784 | M37: =M12/B12*100 -> 46.625291
A38: Etterbeek | B38: =B13 -> 3376 | C38: =C13/B38*100 -> 51.125592 | D38: =D13/B38*100 -> 48.874408 | E38: =E13/B13*100 -> 9.1528436 | F38: =F13/B13*100 -> 66.795024 | G38: =G13/B13*100 -> 24.052133 | H38: =H13/B13*100 -> 41.084123 | I38: =I13/B13*100 -> 58.945498 | J38: =J13/B13*100 -> 13.151659 | K38: =K13/B13*100 -> 18.246445 | L38: =L13/B13*100 -> 23.370853 | M38: =M13/B13*100 -> 45.260664
A39: Evere | B39: =B14 -> 2922 | C39: =C14/B39*100 -> 46.098563 | D39: =D14/B39*100 -> 53.901437 | E39: =E14/B14*100 -> 11.772758 | F39: =F14/B14*100 -> 61.293634 | G39: =G14/B14*100 -> 26.933607 | H39: =H14/B14*100 -> 39.459274 | I39: =I14/B14*100 -> 60.574949 | J39: =J14/B14*100 -> 19.507187 | K39: =K14/B14*100 -> 24.811773 | L39: =L14/B14*100 -> 12.731006 | M39: =M14/B14*100 -> 42.950034
A40: Forest | B40: =B15 -> 5053 | C40: =C15/B40*100 -> 50.781714 | D40: =D15/B40*100 -> 49.218286 | E40: =E15/B15*100 -> 9.3409856 | F40: =F15/B15*100 -> 66.138927 | G40: =G15/B15*100 -> 24.520087 | H40: =H15/B15*100 -> 35.38492 | I40: =I15/B15*100 -> 64.61508 | J40: =J15/B15*100 -> 15.772808 | K40: =K15/B15*100 -> 19.176727 | L40: =L15/B15*100 -> 26.776173 | M40: =M15/B15*100 -> 38.274292
A41: Ganshoren | B41: =B16 -> 1636 | C41: =C16/B41*100 -> 46.821516 | D41: =D16/B41*100 -> 53.117359 | E41: =E16/B16*100 -> 11.674817 | F41: =F16/B16*100 -> 60.513447 | G41: =G16/B16*100 -> 27.811736 | H41: =H16/B16*100 -> 37.469438 | I41: =I16/B16*100 -> 62.530562 | J41: =J16/B16*100 -> 19.621027 | K41: =K16/B16*100 -> 24.572127 | L41: =L16/B16*100 -> 12.652812 | M41: =M16/B16*100 -> 43.215159
A42: Ixelles | B42: =B17 -> 6198 | C42: =C17/B42*100 -> 53.097773 | D42: =D17/B42*100 -> 46.902227 | E42: =E17/B17*100 -> 7.9219103 | F42: =F17/B17*100 -> 69.151339 | G42: =G17/B17*100 -> 22.942885 | H42: =H17/B17*100 -> 40.948693 | I42: =I17/B17*100 -> 59.067441 | J42: =J17/B17*100 -> 12.068409 | K42: =K17/B17*100 -> 18.247822 | L42: =L17/B17*100 -> 29.299774 | M42: =M17/B17*100 -> 40.383995
A43: Jette | B43: =B18 -> 3789 | C43: =C18/B43*100 -> 48.904724 | D43: =D18/B43*100 -> 51.095276 | E43: =E18/B18*100 -> 11.902877 | F43: =F18/B18*100 -> 61.889681 | G43: =G18/B18*100 -> 26.18105 | H43: =H18/B18*100 -> 38.427026 | I43: =I18/B18*100 -> 61.546582 | J43: =J18/B18*100 -> 19.530219 | K43: =K18/B18*100 -> 23.357086 | L43: =L18/B18*100 -> 14.489311 | M43: =M18/B18*100 -> 42.623383
A44: Koekelberg | B44: =B19 -> 1784 | C44: =C19/B44*100 -> 51.569507 | D44: =D19/B44*100 -> 48.430493 | E44: =E19/B19*100 -> 11.939462 | F44: =F19/B19*100 -> 62.5 | G44: =G19/B19*100 -> 25.560538 | H44: =H19/B19*100 -> 39.293722 | I44: =I19/B19*100 -> 60.762332 | J44: =J19/B19*100 -> 17.993274 | K44: =K19/B19*100 -> 21.356502 | L44: =L19/B19*100 -> 12.331839 | M44: =M19/B19*100 -> 48.374439
A45: Molenbeek-St-Jean | B45: =B20 -> 8898 | C45: =C20/B45*100 -> 52.95572 | D45: =D20/B45*100 -> 47.04428 | E45: =E20/B20*100 -> 13.7559 | F45: =F20/B20*100 -> 61.856597 | G45: =G20/B20*100 -> 24.376264 | H45: =H20/B20*100 -> 37.05327 | I45: =I20/B20*100 -> 62.935491 | J45: =J20/B20*100 -> 21.263205 | K45: =K20/B20*100 -> 22.656777 | L45: =L20/B20*100 -> 10.418071 | M45: =M20/B20*100 -> 45.650708
... A53: Région bruxelloise | B53: =B28 -> 91628 | C53: =C28/B53*100 -> 51.597765 | D53: =D28/B53*100 -> 48.402235 | E53: =E28/B28*100 -> 11.134151 | F53: =F28/B28*100 -> 63.415113 | G53: =G28/B28*100 -> 25.450736 | H53: =H28/B28*100 -> 38.585367 | I53: =I28/B28*100 -> 61.414633 | J53: =J28/B28*100 -> 17.361505 | K53: =K28/B28*100 -> 20.76003 | L53: =L28/B28*100 -> 18.19422 | M53: =M28/B28*100 -> 43.684245
A55: Source : ACTIRIS, calculs view.brussels

Sheet F.2.2.1
A1: F. Caractéristiques des communes de la Région bruxelloise | K1: Retour au menu
A3: F.2. Demandeurs d'emploi inoccupés
A5: Tableau F.2.2.1 : Nombre de DEI par commune bruxelloise, genre et classe d'âge (moyenne annuelle 2024)
A7: (nombre) | B7: DEI | C7: Hommes | F7: Femmes | I7: Total
C8: < 25 ans | D8: 25-49 ans | E8: ≥ 50 ans | F8: < 25 ans | G8: 25-49 ans | H8: ≥ 50 ans | I8: < 25 ans | J8: 25-49 ans | K8: ≥ 50 ans
A9: Anderlecht | B9: 10394 | C9: 762 | D9: 3084 | E9: 1646 | F9: 563 | G9: 3395 | H9: 944 | I9: 1326 | J9: 6479 | K9: 2590
A10: Auderghem | B10: 1710 | C10: 106 | D10: 476 | E10: 241 | F10: 88 | G10: 576 | H10: 224 | I10: 194 | J10: 1052 | K10: 464
A11: Berchem-Ste-Agathe | B11: 1656 | C11: 113 | D11: 428 | E11: 263 | F11: 98 | G11: 545 | H11: 210 | I11: 210 | J11: 973 | K11: 473
A12: Bruxelles | B12: 15468 | C12: 948 | D12: 4934 | E12: 2478 | F12: 757 | G12: 4823 | H12: 1528 | I12: 1705 | J12: 9757 | K12: 4006
A13: Etterbeek | B13: 3376 | C13: 167 | D13: 1128 | E13: 431 | F13: 143 | G13: 1127 | H13: 381 | I13: 309 | J13: 2255 | K13: 812
A14: Evere | B14: 2922 | C14: 193 | D14: 751 | E14: 403 | F14: 151 | G14: 1040 | H14: 384 | I14: 344 | J14: 1791 | K14: 787
A15: Forest | B15: 5053 | C15: 262 | D15: 1573 | E15: 731 | F15: 209 | G15: 1769 | H15: 509 | I15: 472 | J15: 3342 | K15: 1239
A16: Ganshoren | B16: 1636 | C16: 98 | D16: 419 | E16: 249 | F16: 93 | G16: 570 | H16: 206 | I16: 191 | J16: 990 | K16: 455
A17: Ixelles | B17: 6198 | C17: 252 | D17: 2222 | E17: 818 | F17: 239 | G17: 2064 | H17: 604 | I17: 491 | J17: 4286 | K17: 1422
A18: Jette | B18: 3789 | C18: 234 | D18: 1080 | E18: 539 | F18: 217 | G18: 1265 | H18: 453 | I18: 451 | J18: 2345 | K18: 992
A19: Koekelberg | B19: 1784 | C19: 117 | D19: 526 | E19: 278 | F19: 96 | G19: 589 | H19: 178 | I19: 213 | J19: 1115 | K19: 456
A20: Molenbeek-St-Jean | B20: 8898 | C20: 678 | D20: 2677 | E20: 1356 | F20: 546 | G20: 2827 | H20: 813 | I20: 1224 | J20: 5504 | K20: 2169
... A28: Région bruxelloise | B28: 91628 | C28: 5619 | D28: 28079 | E28: 13579 | F28: 4583 | G28: 30027 | H28: 9741 | I28: 10202 | J28: 58106 | K28: 23320
A30: Source : ACTIRIS, calculs view.brussels
A32: (%) | B32: DEI | C32: Hommes | F32: Femmes | I32: Total
C33: < 25 ans | D33: 25-49 ans | E33: ≥ 50 ans | F33: < 25 ans | G33: 25-49 ans | H33: ≥ 50 ans | I33: < 25 ans | J33: 25-49 ans | K33: ≥ 50 ans
A34: Anderlecht | B34: =B9 -> 10394 | C34: =C9/B9*100 -> 7.3311526 | D34: =D9/B9*100 -> 29.670964 | E34: =E9/B9*100 -> 15.836059 | F34: =F9/B9*100 -> 5.4165865 | G34: =G9/B9*100 -> 32.663075 | H34: =H9/B9*100 -> 9.0821628 | I34: =I9/B9*100 -> 12.75736 | J34: =J9/B9*100 -> 62.334039 | K34: =K9/B9*100 -> 24.918222
A35: Auderghem | B35: =B10 -> 1710 | C35: =C10/B10*100 -> 6.1988304 | D35: =D10/B10*100 -> 27.836257 | E35: =E10/B10*100 -> 14.093567 | F35: =F10/B10*100 -> 5.1461988 | G35: =G10/B10*100 -> 33.684211 | H35: =H10/B10*100 -> 13.099415 | I35: =I10/B10*100 -> 11.345029 | J35: =J10/B10*100 -> 61.520468 | K35: =K10/B10*100 -> 27.134503
A36: Berchem-Ste-Agathe | B36: =B11 -> 1656 | C36: =C11/B11*100 -> 6.8236715 | D36: =D11/B11*100 -> 25.845411 | E36: =E11/B11*100 -> 15.881643 | F36: =F11/B11*100 -> 5.9178744 | G36: =G11/B11*100 -> 32.910628 | H36: =H11/B11*100 -> 12.681159 | I36: =I11/B11*100 -> 12.681159 | J36: =J11/B11*100 -> 58.756039 | K36: =K11/B11*100 -> 28.562802
A37: Bruxelles | B37: =B12 -> 15468 | C37: =C12/B12*100 -> 6.128782 | D37: =D12/B12*100 -> 31.898112 | E37: =E12/B12*100 -> 16.020171 | F37: =F12/B12*100 -> 4.8939747 | G37: =G12/B12*100 -> 31.180502 | H37: =H12/B12*100 -> 9.8784588 | I37: =I12/B12*100 -> 11.022757 | J37: =J12/B12*100 -> 63.078614 | K37: =K12/B12*100 -> 25.898629
A38: Etterbeek | B38: =B13 -> 3376 | C38: =C13/B13*100 -> 4.9466825 | D38: =D13/B13*100 -> 33.412322 | E38: =E13/B13*100 -> 12.766588 | F38: =F13/B13*100 -> 4.235782 | G38: =G13/B13*100 -> 33.382701 | H38: =H13/B13*100 -> 11.285545 | I38: =I13/B13*100 -> 9.1528436 | J38: =J13/B13*100 -> 66.795024 | K38: =K13/B13*100 -> 24.052133
A39: Evere | B39: =B14 -> 2922 | C39: =C14/B14*100 -> 6.605065 | D39: =D14/B14*100 -> 25.701574 | E39: =E14/B14*100 -> 13.791923 | F39: =F14/B14*100 -> 5.1676934 | G39: =G14/B14*100 -> 35.59206 | H39: =H14/B14*100 -> 13.141684 | I39: =I14/B14*100 -> 11.772758 | J39: =J14/B14*100 -> 61.293634 | K39: =K14/B14*100 -> 26.933607
A40: Forest | B40: =B15 -> 5053 | C40: =C15/B15*100 -> 5.1850386 | D40: =D15/B15*100 -> 31.130022 | E40: =E15/B15*100 -> 14.466653 | F40: =F15/B15*100 -> 4.1361567 | G40: =G15/B15*100 -> 35.008906 | H40: =H15/B15*100 -> 10.073224 | I40: =I15/B15*100 -> 9.3409856 | J40: =J15/B15*100 -> 66.138927 | K40: =K15/B15*100 -> 24.520087
A41: Ganshoren | B41: =B16 -> 1636 | C41: =C16/B16*100 -> 5.99022 | D41: =D16/B16*100 -> 25.611247 | E41: =E16/B16*100 -> 15.220049 | F41: =F16/B16*100 -> 5.6845966 | G41: =G16/B16*100 -> 34.841076 | H41: =H16/B16*100 -> 12.591687 | I41: =I16/B16*100 -> 11.674817 | J41: =J16/B16*100 -> 60.513447 | K41: =K16/B16*100 -> 27.811736
A42: Ixelles | B42: =B17 -> 6198 | C42: =C17/B17*100 -> 4.0658277 | D42: =D17/B17*100 -> 35.850274 | E42: =E17/B17*100 -> 13.197806 | F42: =F17/B17*100 -> 3.8560826 | G42: =G17/B17*100 -> 33.301065 | H42: =H17/B17*100 -> 9.7450791 | I42: =I17/B17*100 -> 7.9219103 | J42: =J17/B17*100 -> 69.151339 | K42: =K17/B17*100 -> 22.942885
A43: Jette | B43: =B18 -> 3789 | C43: =C18/B18*100 -> 6.175772 | D43: =D18/B18*100 -> 28.503563 | E43: =E18/B18*100 -> 14.225389 | F43: =F18/B18*100 -> 5.7271048 | G43: =G18/B18*100 -> 33.386118 | H43: =H18/B18*100 -> 11.955661 | I43: =I18/B18*100 -> 11.902877 | J43: =J18/B18*100 -> 61.889681 | K43: =K18/B18*100 -> 26.18105
A44: Koekelberg | B44: =B19 -> 1784 | C44: =C19/B19*100 -> 6.558296 | D44: =D19/B19*100 -> 29.484305 | E44: =E19/B19*100 -> 15.58296 | F44: =F19/B19*100 -> 5.3811659 | G44: =G19/B19*100 -> 33.015695 | H44: =H19/B19*100 -> 9.9775785 | I44: =I19/B19*100 -> 11.939462 | J44: =J19/B19*100 -> 62.5 | K44: =K19/B19*100 -> 25.560538
A45: Molenbeek-St-Jean | B45: =B20 -> 8898 | C45: =C20/B20*100 -> 7.6196898 | D45: =D20/B20*100 -> 30.085412 | E45: =E20/B20*100 -> 15.23938 | F45: =F20/B20*100 -> 6.1362104 | G45: =G20/B20*100 -> 31.771185 | H45: =H20/B20*100 -> 9.1368847 | I45: =I20/B20*100 -> 13.7559 | J45: =J20/B20*100 -> 61.856597 | K45: =K20/B20*100 -> 24.376264
... A53: Région bruxelloise | B53: =B28 -> 91628 | C53: =C28/B28*100 -> 6.1324049 | D53: =D28/B28*100 -> 30.644563 | E53: =E28/B28*100 -> 14.819706 | F53: =F28/B28*100 -> 5.0017462 | G53: =G28/B28*100 -> 32.77055 | H53: =H28/B28*100 -> 10.63103 | I53: =I28/B28*100 -> 11.134151 | J53: =J28/B28*100 -> 63.415113 | K53: =K28/B28*100 -> 25.450736
A55: Source : ACTIRIS, calculs view.brussels

Sheet F.2.2.2
A1: F. Caractéristiques des communes de la Région bruxelloise | N1: Retour au menu
A3: F.2. Demandeurs d'emploi inoccupés
A5: Tableau F.2.2.2 : Nombre de DEI par commune bruxelloise, genre et niveau d'études (moyenne annuelle 2024)
A7: (nombre) | B7: DEI | C7: Hommes | G7: Femmes | K7: Total
C8: Primaire et secondaire inférieur | D8: Secondaire supérieur | E8: Supérieur | F8: Etranger sans équivalent | G8: Primaire et secondaire inférieur | H8: Secondaire supérieur | I8: Supérieur | J8: Etranger sans équivalent | K8: Primaire et secondaire inférieur | L8: Secondaire supérieur | M8: Supérieur | N8: Etranger sans équivalent
A9: Anderlecht | B9: 10394 | C9: 1294 | D9: 1179 | E9: 500 | F9: 2520 | G9: 786 | H9: 1062 | I9: 614 | J9: 2441 | K9: 2079 | L9: 2241 | M9: 1114 | N9: 4961
A10: Auderghem | B10: 1710 | C10: 137 | D10: 190 | E10: 218 | F10: 278 | G10: 88 | H10: 172 | I10: 262 | J10: 365 | K10: 225 | L10: 363 | M10: 480 | N10: 643
A11: Berchem-Ste-Agathe | B11: 1656 | C11: 198 | D11: 230 | E11: 106 | F11: 269 | G11: 135 | H11: 223 | I11: 133 | J11: 362 | K11: 333 | L11: 453 | M11: 240 | N11: 631
A12: Bruxelles | B12: 15468 | C12: 1798 | D12: 1761 | E12: 1111 | F12: 3692 | G12: 989 | H12: 1433 | I12: 1164 | J12: 3521 | K12: 2787 | L12: 3194 | M12: 2275 | N12: 7212
A13: Etterbeek | B13: 3376 | C13: 271 | D13: 378 | E13: 366 | F13: 711 | G13: 172 | H13: 238 | I13: 423 | J13: 817 | K13: 444 | L13: 616 | M13: 789 | N13: 1528
A14: Evere | B14: 2922 | C14: 324 | D14: 349 | E14: 157 | F14: 518 | G14: 246 | H14: 376 | I14: 216 | J14: 737 | K14: 570 | L14: 725 | M14: 372 | N14: 1255
A15: Forest | B15: 5053 | C15: 500 | D15: 534 | E15: 587 | F15: 945 | G15: 297 | H15: 435 | I15: 765 | J15: 989 | K15: 797 | L15: 969 | M15: 1353 | N15: 1934
A16: Ganshoren | B16: 1636 | C16: 190 | D16: 188 | E16: 94 | F16: 294 | G16: 130 | H16: 213 | I16: 113 | J16: 413 | K16: 321 | L16: 402 | M16: 207 | N16: 707
A17: Ixelles | B17: 6198 | C17: 507 | D17: 655 | E17: 843 | F17: 1286 | G17: 241 | H17: 476 | I17: 973 | J17: 1217 | K17: 748 | L17: 1131 | M17: 1816 | N17: 2503
A18: Jette | B18: 3789 | C18: 446 | D18: 451 | E18: 261 | F18: 696 | G18: 294 | H18: 434 | I18: 288 | J18: 920 | K18: 740 | L18: 885 | M18: 549 | N18: 1615
A19: Koekelberg | B19: 1784 | C19: 190 | D19: 189 | E19: 114 | F19: 427 | G19: 130 | H19: 192 | I19: 105 | J19: 436 | K19: 321 | L19: 381 | M19: 220 | N19: 863
A20: Molenbeek-St-Jean | B20: 8898 | C20: 1186 | D20: 1031 | E20: 406 | F20: 2089 | G20: 706 | H20: 986 | I20: 521 | J20: 1973 | K20: 1892 | L20: 2016 | M20: 927 | N20: 4062
... A28: Région bruxelloise | B28: 91628 | C28: 9923 | D28: 10253 | E28: 7579 | F28: 19522 | G28: 5985 | H28: 8769 | I28: 9092 | J28: 20504 | K28: 15908 | L28: 19022 | M28: 16671 | N28: 40027
A30: Source : ACTIRIS, calculs view.brussels
A32: (%) | B32: DEI | C32: Hommes | G32: Femmes | K32: Total
C33: Primaire et secondaire inférieur | D33: Secondaire supérieur | E33: Supérieur | F33: Etranger sans équivalent | G33: Primaire et secondaire inférieur | H33: Secondaire supérieur | I33: Supérieur | J33: Etranger sans équivalent | K33: Primaire et secondaire inférieur | L33: Secondaire supérieur | M33: Supérieur | N33: Etranger sans équivalent
A34: Anderlecht | B34: =B9 -> 10394 | C34: =C9/$B9*100 -> 12.44949 | D34: =D9/$B9*100 -> 11.343083 | E34: =E9/$B9*100 -> 4.8104676 | F34: =F9/$B9*100 -> 24.244757 | G34: =G9/$B9*100 -> 7.562055 | H34: =H9/$B9*100 -> 10.217433 | I34: =I9/$B9*100 -> 5.9072542 | J34: =J9/$B9*100 -> 23.484703 | ... N34: =N9/$B9*100 -> 47.729459
A35: Auderghem | B35: =B10 -> 1710 | C35: =C10/$B10*100 -> 8.0116959 | D35: =D10/$B10*100 -> 11.111111 | E35: =E10/$B10*100 -> 12.748538 | F35: =F10/$B10*100 -> 16.25731 | G35: =G10/$B10*100 -> 5.1461988 | H35: =H10/$B10*100 -> 10.05848 | I35: =I10/$B10*100 -> 15.321637 | J35: =J10/$B10*100 -> 21.345029 | ... N35: =N10/$B10*100 -> 37.602339
A36: Berchem-Ste-Agathe | B36: =B11 -> 1656 | C36: =C11/$B11*100 -> 11.956522 | D36: =D11/$B11*100 -> 13.888889 | E36: =E11/$B11*100 -> 6.4009662 | F36: =F11/$B11*100 -> 16.243961 | G36: =G11/$B11*100 -> 8.1521739 | H36: =H11/$B11*100 -> 13.466184 | I36: =I11/$B11*100 -> 8.031401 | J36: =J11/$B11*100 -> 21.859903 | ... N36: =N11/$B11*100 -> 38.103865
A37: Bruxelles | B37: =B12 -> 15468 | C37: =C12/$B12*100 -> 11.623998 | D37: =D12/$B12*100 -> 11.384794 | E37: =E12/$B12*100 -> 7.1825705 | F37: =F12/$B12*100 -> 23.868632 | G37: =G12/$B12*100 -> 6.3938454 | H37: =H12/$B12*100 -> 9.2642876 | I37: =I12/$B12*100 -> 7.5252133 | J37: =J12/$B12*100 -> 22.763124 | ... N37: =N12/$B12*100 -> 46.625291
A38: Etterbeek | B38: =B13 -> 3376 | C38: =C13/$B13*100 -> 8.0272512 | D38: =D13/$B13*100 -> 11.196682 | E38: =E13/$B13*100 -> 10.841232 | F38: =F13/$B13*100 -> 21.060427 | G38: =G13/$B13*100 -> 5.0947867 | H38: =H13/$B13*100 -> 7.049763 | I38: =I13/$B13*100 -> 12.529621 | J38: =J13/$B13*100 -> 24.200237 | ... N38: =N13/$B13*100 -> 45.260664
A39: Evere | B39: =B14 -> 2922 | C39: =C14/$B14*100 -> 11.088296 | D39: =D14/$B14*100 -> 11.943874 | E39: =E14/$B14*100 -> 5.3730322 | F39: =F14/$B14*100 -> 17.727584 | G39: =G14/$B14*100 -> 8.4188912 | H39: =H14/$B14*100 -> 12.867899 | I39: =I14/$B14*100 -> 7.3921971 | J39: =J14/$B14*100 -> 25.22245 | ... N39: =N14/$B14*100 -> 42.950034
A40: Forest | B40: =B15 -> 5053 | C40: =C15/$B15*100 -> 9.8951118 | D40: =D15/$B15*100 -> 10.567979 | E40: =E15/$B15*100 -> 11.616861 | F40: =F15/$B15*100 -> 18.701761 | G40: =G15/$B15*100 -> 5.8776964 | H40: =H15/$B15*100 -> 8.6087473 | I40: =I15/$B15*100 -> 15.139521 | J40: =J15/$B15*100 -> 19.572531 | ... N40: =N15/$B15*100 -> 38.274292
A41: Ganshoren | B41: =B16 -> 1636 | C41: =C16/$B16*100 -> 11.613692 | D41: =D16/$B16*100 -> 11.491443 | E41: =E16/$B16*100 -> 5.7457213 | F41: =F16/$B16*100 -> 17.97066 | G41: =G16/$B16*100 -> 7.9462103 | H41: =H16/$B16*100 -> 13.01956 | I41: =I16/$B16*100 -> 6.9070905 | J41: =J16/$B16*100 -> 25.244499 | ... N41: =N16/$B16*100 -> 43.215159
A42: Ixelles | B42: =B17 -> 6198 | C42: =C17/$B17*100 -> 8.1800581 | D42: =D17/$B17*100 -> 10.567925 | E42: =E17/$B17*100 -> 13.601162 | F42: =F17/$B17*100 -> 20.748629 | G42: =G17/$B17*100 -> 3.8883511 | H42: =H17/$B17*100 -> 7.6798967 | I42: =I17/$B17*100 -> 15.698612 | J42: =J17/$B17*100 -> 19.635366 | ... N42: =N17/$B17*100 -> 40.383995
A43: Jette | B43: =B18 -> 3789 | C43: =C18/$B18*100 -> 11.770916 | D43: =D18/$B18*100 -> 11.902877 | E43: =E18/$B18*100 -> 6.888361 | F43: =F18/$B18*100 -> 18.368963 | G43: =G18/$B18*100 -> 7.7593032 | H43: =H18/$B18*100 -> 11.45421 | I43: =I18/$B18*100 -> 7.6009501 | J43: =J18/$B18*100 -> 24.280813 | ... N43: =N18/$B18*100 -> 42.623383
A44: Koekelberg | B44: =B19 -> 1784 | C44: =C19/$B19*100 -> 10.650224 | D44: =D19/$B19*100 -> 10.59417 | E44: =E19/$B19*100 -> 6.3901345 | F44: =F19/$B19*100 -> 23.934978 | G44: =G19/$B19*100 -> 7.2869955 | H44: =H19/$B19*100 -> 10.762332 | I44: =I19/$B19*100 -> 5.8856502 | J44: =J19/$B19*100 -> 24.439462 | ... N44: =N19/$B19*100 -> 48.374439
A45: Molenbeek-St-Jean | B45: =B20 -> 8898 | C45: =C20/$B20*100 -> 13.328838 | D45: =D20/$B20*100 -> 11.586873 | E45: =E20/$B20*100 -> 4.5628231 | F45: =F20/$B20*100 -> 23.477186 | G45: =G20/$B20*100 -> 7.9343673 | H45: =H20/$B20*100 -> 11.081142 | I45: =I20/$B20*100 -> 5.8552484 | J45: =J20/$B20*100 -> 22.173522 | ... N45: =N20/$B20*100 -> 45.650708
... A53: Région bruxelloise | B53: =B28 -> 91628 | C53: =C28/$B28*100 -> 10.829659 | D53: =D28/$B28*100 -> 11.189811 | E53: =E28/$B28*100 -> 8.2714891 | F53: =F28/$B28*100 -> 21.305714 | G53: =G28/$B28*100 -> 6.5318462 | H53: =H28/$B28*100 -> 9.5702187 | I53: =I28/$B28*100 -> 9.922731 | J53: =J28/$B28*100 -> 22.377439 | ... N53: =N28/$B28*100 -> 43.684245
A55: Source : ACTIRIS, calculs view.brussels

Sheet F.2.2.3
A1: F. Caractéristiques des communes de la Région bruxelloise | N1: Retour au menu
A3: F.2. Demandeurs d'emploi inoccupés
A5: Tableau F.2.2.3 : Nombre de DEI par commune bruxelloise, genre et durée d'inactivité (moyenne annuelle 2024)
A7: (nombre) | B7: DEI | C7: Hommes | G7: Femmes | K7: Total
C8: < 6 mois | D8: 6 mois - 1 an | E8: 1 an - 2 ans | F8: ≥ 2 ans | G8: < 6 mois | H8: 6 mois - 1 an | I8: 1 an - 2 ans | J8: ≥ 2 ans | K8: < 6 mois | L8: 6 mois - 1 an | M8: 1 an - 2 ans | N8: ≥ 2 ans
A9: Anderlecht | B9: 10394 | C9: 1300 | D9: 786 | E9: 862 | F9: 2544 | G9: 1210 | H9: 702 | I9: 783 | J9: 2209 | K9: =C9+G9 -> 2510 | L9: =D9+H9 -> 1488 | M9: =E9+I9 -> 1645 | N9: =F9+J9 -> 4753
A10: Auderghem | B10: 1710 | C10: 244 | D10: 116 | E10: 122 | F10: 341 | G10: 233 | H10: 130 | I10: 158 | J10: 368 | K10: =C10+G10 -> 477 | L10: =D10+H10 -> 246 | M10: =E10+I10 -> 280 | N10: =F10+J10 -> 709
A11: Berchem-Ste-Agathe | B11: 1656 | C11: 178 | D11: 107 | E11: 124 | F11: 394 | G11: 198 | H11: 118 | I11: 120 | J11: 416 | K11: =C11+G11 -> 376 | L11: =D11+H11 -> 225 | M11: =E11+I11 -> 244 | N11: =F11+J11 -> 810
A12: Bruxelles | B12: 15468 | C12: 1976 | D12: 1134 | E12: 1235 | F12: 4016 | G12: 1777 | H12: 1027 | I12: 1137 | J12: 3166 | K12: =C12+G12 -> 3753 | L12: =D12+H12 -> 2161 | M12: =E12+I12 -> 2372 | N12: =F12+J12 -> 7182
A13: Etterbeek | B13: 3376 | C13: 439 | D13: 259 | E13: 308 | F13: 720 | G13: 446 | H13: 243 | I13: 288 | J13: 673 | K13: =C13+G13 -> 885 | L13: =D13+H13 -> 502 | M13: =E13+I13 -> 596 | N13: =F13+J13 -> 1393
A14: Evere | B14: 2922 | C14: 338 | D14: 193 | E14: 204 | F14: 612 | G14: 408 | H14: 213 | I14: 229 | J14: 724 | K14: =C14+G14 -> 746 | L14: =D14+H14 -> 406 | M14: =E14+I14 -> 433 | N14: =F14+J14 -> 1336
A15: Forest | B15: 5053 | C15: 574 | D15: 349 | E15: 409 | F15: 1235 | G15: 538 | H15: 326 | I15: 397 | J15: 1225 | K15: =C15+G15 -> 1112 | L15: =D15+H15 -> 675 | M15: =E15+I15 -> 806 | N15: =F15+J15 -> 2460
A16: Ganshoren | B16: 1636 | C16: 192 | D16: 100 | E16: 101 | F16: 374 | G16: 198 | H16: 124 | I16: 141 | J16: 408 | K16: =C16+G16 -> 390 | L16: =D16+H16 -> 224 | M16: =E16+I16 -> 242 | N16: =F16+J16 -> 782
A17: Ixelles | B17: 6198 | C17: 844 | D17: 450 | E17: 500 | F17: 1498 | G17: 818 | H17: 425 | I17: 461 | J17: 1202 | K17: =C17+G17 -> 1662 | L17: =D17+H17 -> 875 | M17: =E17+I17 -> 961 | N17: =F17+J17 -> 2700
A18: Jette | B18: 3789 | C18: 453 | D18: 270 | E18: 303 | F18: 828 | G18: 469 | H18: 265 | I18: 316 | J18: 886 | K18: =C18+G18 -> 922 | L18: =D18+H18 -> 535 | M18: =E18+I18 -> 619 | N18: =F18+J18 -> 1714
A19: Koekelberg | B19: 1784 | C19: 219 | D19: 130 | E19: 151 | F19: 422 | G19: 214 | H19: 138 | I19: 146 | J19: 365 | K19: =C19+G19 -> 433 | L19: =D19+H19 -> 268 | M19: =E19+I19 -> 297 | N19: =F19+J19 -> 787
A20: Molenbeek-St-Jean | B20: 8898 | C20: 1101 | D20: 641 | E20: 759 | F20: 2210 | G20: 977 | H20: 577 | I20: 731 | J20: 1899 | K20: =C20+G20 -> 2078 | L20: =D20+H20 -> 1218 | M20: =E20+I20 -> 1490 | N20: =F20+J20 -> 4109
... A28: Région bruxelloise | B28: 91628 | C28: 11462 | D28: 6640 | E28: 7423 | F28: 21754 | G28: 10975 | H28: 6278 | I28: 7199 | J28: 19899 | K28: =C28+G28 -> 22437 | L28: =D28+H28 -> 12918 | M28: =E28+I28 -> 14622 | N28: =F28+J28 -> 41653
A30: Source : ACTIRIS, calculs view.brussels
A32: (%) | B32: DEI | C32: Hommes | G32: Femmes | K32: Total
C33: < 6 mois | D33: 6 mois - 1 an | E33: 1 an - 2 ans | F33: ≥ 2 ans | G33: < 6 mois | H33: 6 mois - 1 an | I33: 1 an - 2 ans | J33: ≥ 2 ans | K33: < 6 mois | L33: 6 mois - 1 an | M33: 1 an - 2 ans | N33: ≥ 2 ans
A34: Anderlecht | B34: =B9 -> 10394 | C34: =C9/$B34*100 -> 12.507216 | D34: =D9/$B34*100 -> 7.562055 | E34: =E9/$B34*100 -> 8.2932461 | F34: =F9/$B34*100 -> 24.475659 | G34: =G9/$B34*100 -> 11.641332 | H34: =H9/$B34*100 -> 6.7538965 | I34: =I9/$B34*100 -> 7.5331922 | J34: =J9/$B34*100 -> 21.252646 | ... N34: =N9/$B34*100 -> 45.728305
A35: Auderghem | B35: =B10 -> 1710 | C35: =C10/$B35*100 -> 14.269006 | D35: =D10/$B35*100 -> 6.7836257 | E35: =E10/$B35*100 -> 7.1345029 | F35: =F10/$B35*100 -> 19.94152 | G35: =G10/$B35*100 -> 13.625731 | H35: =H10/$B35*100 -> 7.6023392 | I35: =I10/$B35*100 -> 9.2397661 | J35: =J10/$B35*100 -> 21.520468 | ... N35: =N10/$B35*100 -> 41.461988
A36: Berchem-Ste-Agathe | B36: =B11 -> 1656 | C36: =C11/$B36*100 -> 10.748792 | D36: =D11/$B36*100 -> 6.4613527 | E36: =E11/$B36*100 -> 7.4879227 | F36: =F11/$B36*100 -> 23.792271 | G36: =G11/$B36*100 -> 11.956522 | H36: =H11/$B36*100 -> 7.1256039 | I36: =I11/$B36*100 -> 7.2463768 | J36: =J11/$B36*100 -> 25.120773 | ... N36: =N11/$B36*100 -> 48.913043
A37: Bruxelles | B37: =B12 -> 15468 | C37: =C12/$B37*100 -> 12.774761 | D37: =D12/$B37*100 -> 7.3312645 | E37: =E12/$B37*100 -> 7.9842255 | F37: =F12/$B37*100 -> 25.963279 | G37: =G12/$B37*100 -> 11.488234 | H37: =H12/$B37*100 -> 6.6395138 | I37: =I12/$B37*100 -> 7.3506594 | J37: =J12/$B37*100 -> 20.468063 | ... N37: =N12/$B37*100 -> 46.431342
A38: Etterbeek | B38: =B13 -> 3376 | C38: =C13/$B38*100 -> 13.003555 | D38: =D13/$B38*100 -> 7.6718009 | E38: =E13/$B38*100 -> 9.1232227 | F38: =F13/$B38*100 -> 21.327014 | G38: =G13/$B38*100 -> 13.2109 | H38: =H13/$B38*100 -> 7.1978673 | I38: =I13/$B38*100 -> 8.5308057 | J38: =J13/$B38*100 -> 19.934834 | ... N38: =N13/$B38*100 -> 41.261848
A39: Evere | B39: =B14 -> 2922 | C39: =C14/$B39*100 -> 11.56742 | D39: =D14/$B39*100 -> 6.605065 | E39: =E14/$B39*100 -> 6.9815195 | F39: =F14/$B39*100 -> 20.944559 | G39: =G14/$B39*100 -> 13.963039 | H39: =H14/$B39*100 -> 7.2895277 | I39: =I14/$B39*100 -> 7.8370979 | J39: =J14/$B39*100 -> 24.77755 | ... N39: =N14/$B39*100 -> 45.722108
A40: Forest | B40: =B15 -> 5053 | C40: =C15/$B40*100 -> 11.359588 | D40: =D15/$B40*100 -> 6.906788 | E40: =E15/$B40*100 -> 8.0942015 | F40: =F15/$B40*100 -> 24.440926 | G40: =G15/$B40*100 -> 10.64714 | H40: =H15/$B40*100 -> 6.4516129 | I40: =I15/$B40*100 -> 7.8567188 | J40: =J15/$B40*100 -> 24.243024 | ... N40: =N15/$B40*100 -> 48.68395
A41: Ganshoren | B41: =B16 -> 1636 | C41: =C16/$B41*100 -> 11.735941 | D41: =D16/$B41*100 -> 6.1124694 | E41: =E16/$B41*100 -> 6.1735941 | F41: =F16/$B41*100 -> 22.860636 | G41: =G16/$B41*100 -> 12.102689 | H41: =H16/$B41*100 -> 7.5794621 | I41: =I16/$B41*100 -> 8.6185819 | J41: =J16/$B41*100 -> 24.938875 | ... N41: =N16/$B41*100 -> 47.799511
A42: Ixelles | B42: =B17 -> 6198 | C42: =C17/$B42*100 -> 13.617296 | D42: =D17/$B42*100 -> 7.2604066 | E42: =E17/$B42*100 -> 8.0671184 | F42: =F17/$B42*100 -> 24.169087 | G42: =G17/$B42*100 -> 13.197806 | H42: =H17/$B42*100 -> 6.8570507 | I42: =I17/$B42*100 -> 7.4378832 | J42: =J17/$B42*100 -> 19.393353 | ... N42: =N17/$B42*100 -> 43.562439
A43: Jette | B43: =B18 -> 3789 | C43: =C18/$B43*100 -> 11.955661 | D43: =D18/$B43*100 -> 7.1258907 | E43: =E18/$B43*100 -> 7.9968329 | F43: =F18/$B43*100 -> 21.852732 | G43: =G18/$B43*100 -> 12.377936 | H43: =H18/$B43*100 -> 6.9939298 | I43: =I18/$B43*100 -> 8.3399314 | J43: =J18/$B43*100 -> 23.383478 | ... N43: =N18/$B43*100 -> 45.23621
A44: Koekelberg | B44: =B19 -> 1784 | C44: =C19/$B44*100 -> 12.275785 | D44: =D19/$B44*100 -> 7.2869955 | E44: =E19/$B44*100 -> 8.4641256 | F44: =F19/$B44*100 -> 23.654709 | G44: =G19/$B44*100 -> 11.995516 | H44: =H19/$B44*100 -> 7.735426 | I44: =I19/$B44*100 -> 8.1838565 | J44: =J19/$B44*100 -> 20.459641 | ... N44: =N19/$B44*100 -> 44.11435
A45: Molenbeek-St-Jean | B45: =B20 -> 8898 | C45: =C20/$B45*100 -> 12.373567 | D45: =D20/$B45*100 -> 7.203866 | E45: =E20/$B45*100 -> 8.5300067 | F45: =F20/$B45*100 -> 24.837042 | G45: =G20/$B45*100 -> 10.979996 | H45: =H20/$B45*100 -> 6.4846033 | I45: =I20/$B45*100 -> 8.2153293 | J45: =J20/$B45*100 -> 21.341875 | ... N45: =N20/$B45*100 -> 46.178917
... A53: Région bruxelloise | B53: =B28 -> 91628 | C53: =C28/$B53*100 -> 12.509277 | D53: =D28/$B53*100 -> 7.2466932 | E53: =E28/$B53*100 -> 8.1012354 | F53: =F28/$B53*100 -> 23.741651 | G53: =G28/$B53*100 -> 11.97778 | H53: =H28/$B53*100 -> 6.8516174 | I53: =I28/$B53*100 -> 7.8567687 | J53: =J28/$B53*100 -> 21.717161 | ... N53: =N28/$B53*100 -> 45.458812
A55: Source : ACTIRIS, calculs view.brussels

Sheet F.2.2.4
A1: F. Caractéristiques des communes de la Région bruxelloise | K1: Retour au menu
A3: F.2. Demandeurs d'emploi inoccupés
A5: Tableau F.2.2.4 : Nombre de DEI par commune bruxelloise, genre et nationalité (moyenne annuelle 2024)
A7: (nombre) | B7: DEI | C7: Hommes | F7: Femmes | I7: Total
C8: BE | D8: UE | E8: NUE | F8: BE | G8: UE | H8: NUE | I8: BE | J8: UE | K8: NUE
A9: Anderlecht | B9: 10394 | C9: 3373 | D9: 722 | E9: 1398 | F9: 2816 | G9: 798 | H9: 1288 | I9: =SUM(C9,F9) -> 6189 | J9: =SUM(D9,G9) -> 1520 | K9: =SUM(E9,H9) -> 2686
A10: Auderghem | B10: 1710 | C10: 562 | D10: 119 | E10: 142 | F10: 559 | G10: 143 | H10: 186 | I10: =SUM(C10,F10) -> 1121 | J10: =SUM(D10,G10) -> 262 | K10: =SUM(E10,H10) -> 328
A11: Berchem-Ste-Agathe | B11: 1656 | C11: 614 | D11: 58 | E11: 129 | F11: 593 | G11: 82 | H11: 178 | I11: =SUM(C11,F11) -> 1207 | J11: =SUM(D11,G11) -> 140 | K11: =SUM(E11,H11) -> 307
A12: Bruxelles | B12: 15468 | C12: 5283 | D12: 1111 | E12: 1968 | F12: 4103 | G12: 1218 | H12: 1786 | I12: =SUM(C12,F12) -> 9386 | J12: =SUM(D12,G12) -> 2329 | K12: =SUM(E12,H12) -> 3754
A13: Etterbeek | B13: 3376 | C13: 1059 | D13: 349 | E13: 320 | F13: 869 | G13: 382 | H13: 401 | I13: =SUM(C13,F13) -> 1928 | J13: =SUM(D13,G13) -> 731 | K13: =SUM(E13,H13) -> 721
A14: Evere | B14: 2922 | C14: 928 | D14: 123 | E14: 296 | F14: 1006 | G14: 167 | H14: 402 | I14: =SUM(C14,F14) -> 1934 | J14: =SUM(D14,G14) -> 290 | K14: =SUM(E14,H14) -> 698
A15: Forest | B15: 5053 | C15: 1567 | D15: 527 | E15: 474 | F15: 1440 | G15: 606 | H15: 441 | I15: =SUM(C15,F15) -> 3007 | J15: =SUM(D15,G15) -> 1133 | K15: =SUM(E15,H15) -> 915
A16: Ganshoren | B16: 1636 | C16: 560 | D16: 73 | E16: 134 | F16: 555 | G16: 123 | H16: 190 | I16: =SUM(C16,F16) -> 1115 | J16: =SUM(D16,G16) -> 196 | K16: =SUM(E16,H16) -> 324
A17: Ixelles | B17: 6198 | C17: 2000 | D17: 695 | E17: 597 | F17: 1623 | G17: 808 | H17: 476 | I17: =SUM(C17,F17) -> 3623 | J17: =SUM(D17,G17) -> 1503 | K17: =SUM(E17,H17) -> 1073
A18: Jette | B18: 3789 | C18: 1291 | D18: 187 | E18: 376 | F18: 1210 | G18: 237 | H18: 489 | I18: =SUM(C18,F18) -> 2501 | J18: =SUM(D18,G18) -> 424 | K18: =SUM(E18,H18) -> 865
A19: Koekelberg | B19: 1784 | C19: 562 | D19: 101 | E19: 257 | F19: 499 | G19: 122 | H19: 244 | I19: =SUM(C19,F19) -> 1061 | J19: =SUM(D19,G19) -> 223 | K19: =SUM(E19,H19) -> 501
A20: Molenbeek-St-Jean | B20: 8898 | C20: 2956 | D20: 536 | E20: 1221 | F20: 2553 | G20: 582 | H20: 1051 | I20: =SUM(C20,F20) -> 5509 | J20: =SUM(D20,G20) -> 1118 | K20: =SUM(E20,H20) -> 2272
... A28: Région bruxelloise | B28: 91628 | C28: 29844 | D28: 7106 | E28: 10328 | F28: 25945 | G28: 8300 | H28: 10105 | I28: =SUM(C28,F28) -> 55789 | J28: =SUM(D28,G28) -> 15406 | K28: =SUM(E28,H28) -> 20433
A30: Source : ACTIRIS, calculs view.brussels
A32: (%) | B32: DEI | C32: Hommes | F32: Femmes | I32: Total
C33: BE | D33: UE | E33: NUE | F33: BE | G33: UE | H33: NUE | I33: BE | J33: UE | K33: NUE
A34: Anderlecht | B34: =B9 -> 10394 | C34: =C9/$B9*100 -> 32.451414 | D34: =D9/$B9*100 -> 6.9463152 | E34: =E9/$B9*100 -> 13.450067 | F34: =F9/$B9*100 -> 27.092553 | G34: =G9/$B9*100 -> 7.6775063 | H34: =H9/$B9*100 -> 12.391764 | I34: =I9/$B9*100 -> 59.543968 | J34: =J9/$B9*100 -> 14.623821 | K34: =K9/$B9*100 -> 25.841832
A35: Auderghem | B35: =B10 -> 1710 | C35: =C10/$B10*100 -> 32.865497 | D35: =D10/$B10*100 -> 6.9590643 | E35: =E10/$B10*100 -> 8.3040936 | F35: =F10/$B10*100 -> 32.690058 | G35: =G10/$B10*100 -> 8.3625731 | H35: =H10/$B10*100 -> 10.877193 | I35: =I10/$B10*100 -> 65.555556 | J35: =J10/$B10*100 -> 15.321637 | K35: =K10/$B10*100 -> 19.181287
A36: Berchem-Ste-Agathe | B36: =B11 -> 1656 | C36: =C11/$B11*100 -> 37.077295 | D36: =D11/$B11*100 -> 3.5024155 | E36: =E11/$B11*100 -> 7.7898551 | F36: =F11/$B11*100 -> 35.809179 | G36: =G11/$B11*100 -> 4.9516908 | H36: =H11/$B11*100 -> 10.748792 | I36: =I11/$B11*100 -> 72.886473 | J36: =J11/$B11*100 -> 8.4541063 | K36: =K11/$B11*100 -> 18.538647
A37: Bruxelles | B37: =B12 -> 15468 | C37: =C12/$B12*100 -> 34.154383 | D37: =D12/$B12*100 -> 7.1825705 | E37: =E12/$B12*100 -> 12.723041 | F37: =F12/$B12*100 -> 26.525731 | G37: =G12/$B12*100 -> 7.8743212 | H37: =H12/$B12*100 -> 11.546418 | I37: =I12/$B12*100 -> 60.680114 | J37: =J12/$B12*100 -> 15.056892 | K37: =K12/$B12*100 -> 24.26946
A38: Etterbeek | B38: =B13 -> 3376 | C38: =C13/$B13*100 -> 31.368483 | D38: =D13/$B13*100 -> 10.337678 | E38: =E13/$B13*100 -> 9.478673 | F38: =F13/$B13*100 -> 25.740521 | G38: =G13/$B13*100 -> 11.315166 | H38: =H13/$B13*100 -> 11.877962 | I38: =I13/$B13*100 -> 57.109005 | J38: =J13/$B13*100 -> 21.652844 | K38: =K13/$B13*100 -> 21.356635
A39: Evere | B39: =B14 -> 2922 | C39: =C14/$B14*100 -> 31.759069 | D39: =D14/$B14*100 -> 4.2094456 | E39: =E14/$B14*100 -> 10.130048 | F39: =F14/$B14*100 -> 34.428474 | G39: =G14/$B14*100 -> 5.7152635 | H39: =H14/$B14*100 -> 13.7577 | I39: =I14/$B14*100 -> 66.187543 | J39: =J14/$B14*100 -> 9.9247091 | K39: =K14/$B14*100 -> 23.887748
A40: Forest | B40: =B15 -> 5053 | C40: =C15/$B15*100 -> 31.01128 | D40: =D15/$B15*100 -> 10.429448 | E40: =E15/$B15*100 -> 9.380566 | F40: =F15/$B15*100 -> 28.497922 | G40: =G15/$B15*100 -> 11.992876 | H40: =H15/$B15*100 -> 8.7274886 | I40: =I15/$B15*100 -> 59.509202 | J40: =J15/$B15*100 -> 22.422323 | K40: =K15/$B15*100 -> 18.108055
A41: Ganshoren | B41: =B16 -> 1636 | C41: =C16/$B16*100 -> 34.229829 | D41: =D16/$B16*100 -> 4.4621027 | E41: =E16/$B16*100 -> 8.190709 | F41: =F16/$B16*100 -> 33.924205 | G41: =G16/$B16*100 -> 7.5183374 | H41: =H16/$B16*100 -> 11.613692 | I41: =I16/$B16*100 -> 68.154034 | J41: =J16/$B16*100 -> 11.98044 | K41: =K16/$B16*100 -> 19.804401
A42: Ixelles | B42: =B17 -> 6198 | C42: =C17/$B17*100 -> 32.268474 | D42: =D17/$B17*100 -> 11.213295 | E42: =E17/$B17*100 -> 9.6321394 | F42: =F17/$B17*100 -> 26.185866 | G42: =G17/$B17*100 -> 13.036463 | H42: =H17/$B17*100 -> 7.6798967 | I42: =I17/$B17*100 -> 58.45434 | J42: =J17/$B17*100 -> 24.249758 | K42: =K17/$B17*100 -> 17.312036
A43: Jette | B43: =B18 -> 3789 | C43: =C18/$B18*100 -> 34.072315 | D43: =D18/$B18*100 -> 4.9353391 | E43: =E18/$B18*100 -> 9.9234627 | F43: =F18/$B18*100 -> 31.934547 | G43: =G18/$B18*100 -> 6.2549485 | H43: =H18/$B18*100 -> 12.90578 | I43: =I18/$B18*100 -> 66.006862 | J43: =J18/$B18*100 -> 11.190288 | K43: =K18/$B18*100 -> 22.829243
A44: Koekelberg | B44: =B19 -> 1784 | C44: =C19/$B19*100 -> 31.502242 | D44: =D19/$B19*100 -> 5.661435 | E44: =E19/$B19*100 -> 14.40583 | F44: =F19/$B19*100 -> 27.970852 | G44: =G19/$B19*100 -> 6.838565 | H44: =H19/$B19*100 -> 13.67713 | I44: =I19/$B19*100 -> 59.473094 | J44: =J19/$B19*100 -> 12.5 | K44: =K19/$B19*100 -> 28.08296
A45: Molenbeek-St-Jean | B45: =B20 -> 8898 | C45: =C20/$B20*100 -> 33.220949 | D45: =D20/$B20*100 -> 6.0238256 | E45: =E20/$B20*100 -> 13.722185 | F45: =F20/$B20*100 -> 28.691841 | G45: =G20/$B20*100 -> 6.5407957 | H45: =H20/$B20*100 -> 11.811643 | I45: =I20/$B20*100 -> 61.912789 | J45: =J20/$B20*100 -> 12.564621 | K45: =K20/$B20*100 -> 25.533828
... A53: Région bruxelloise | B53: =B28 -> 91628 | C53: =C28/$B28*100 -> 32.57083 | D53: =D28/$B28*100 -> 7.7552713 | E53: =E28/$B28*100 -> 11.271664 | F53: =F28/$B28*100 -> 28.31558 | G53: =G28/$B28*100 -> 9.0583664 | H53: =H28/$B28*100 -> 11.028288 | I53: =I28/$B28*100 -> 60.88641 | J53: =J28/$B28*100 -> 16.813638 | K53: =K28/$B28*100 -> 22.299952
A55: Source : ACTIRIS, calculs view.brussels

Sheet F.3.1
A1: F. Caractéristiques des communes de la Région bruxelloise | AB1: Retour au menu
A3: F.3. Taux de chômage
A5: Tableau F.3.1 : Taux de chômage par commune et genre en Région bruxelloise (moyenne annuelle 1998-2024)
A7: Hommes | B7: 1998 | C7: 1999 | D7: 2000 | E7: 2001 | F7: 2002 | G7: 2003 | H7: 2004 | I7: 2005 | J7: 2006 | K7: 2007 | L7: 2008 | M7: 2009 | N7: 2010 | O7: 2011 | P7: 2012 | Q7: 2013 | R7: 2014 | S7: 2015 | T7: 2016 | U7: 2017 | V7: 2018 | W7: 2019 | X7: 2020 | Y7: 2021 | Z7: 2022 | AA7: 2023* | AB7: 2024*
A8: Anderlecht | B8: n.d. | C8: n.d. | D8: n.d. | E8: 17 | F8: 17.7 | G8: 19.275392 | H8: 19.856161 | I8: 20.238236 | J8: 20.818344 | K8: 20.311209 | L8: 19.29724 | M8: 20.900446 | N8: 22.17 | O8: 21.87 | P8: 21.62 | Q8: 22.5 | R8: 21.78 | S8: 20.08 | T8: 18.77 | U8: 18.21 | V8: 17.32 | W8: 16.41 | X8: 16.24 | Y8: 16.1 | Z8: 15.68 | AA8: 15.39 | AB8: 16.08
A9: Auderghem | B9: n.d. | C9: n.d. | D9: n.d. | E9: 7.4 | F9: 8.1 | G9: 9.5000747 | H9: 10.0449 | I9: 9.8956372 | J9: 10.030133 | K9: 9.4905082 | L9: 9.593617 | M9: 10.675508 | N9: 11.05 | O9: 10.91 | P9: 11.04 | Q9: 11.7 | R9: 11.37 | S9: 10.67 | T9: 9.91 | U9: 9.16 | V9: 8.8 | W9: 8.18 | X9: 8.85 | Y9: 9.04 | Z9: 8.34 | AA9: 8.16 | AB9: 8.87
A10: Berchem-Ste-Agathe | B10: n.d. | C10: n.d. | D10: n.d. | E10: 9.7 | F10: 10.2 | G10: 11.73369 | H10: 12.998192 | I10: 13.555995 | J10: 13.501956 | K10: 13.399142 | L10: 12.735673 | M10: 13.840592 | N10: 14.66 | O10: 14.77 | P10: 14.54 | Q10: 15.82 | R10: 14.79 | S10: 14.22 | T10: 13.85 | U10: 13.52 | V10: 13.38 | W10: 12.53 | X10: 12.94 | Y10: 13.32 | Z10: 12.38 | AA10: 12 | AB10: 12.16
A11: Bruxelles | B11: n.d. | C11: n.d. | D11: n.d. | E11: 18.7 | F11: 19.7 | G11: 20.733888 | H11: 21.092202 | I11: 21.59594 | J11: 21.780804 | K11: 20.911281 | L11: 19.616045 | M11: 20.661784 | N11: 21.89 | O11: 21.7 | P11: 21.47 | Q11: 22.29 | R11: 21.72 | S11: 20.26 | T11: 19.03 | U11: 17.84 | V11: 17.49 | W11: 16.53 | X11: 16.8 | Y11: 16.27 | Z11: 14.98 | AA11: 14.6 | AB11: 14.95
A12: Etterbeek | B12: n.d. | C12: n.d. | D12: n.d. | E12: 14.9 | F12: 15.5 | G12: 16.106505 | H12: 16.650736 | I12: 16.65632 | J12: 17.179255 | K12: 16.272069 | L12: 14.980098 | M12: 16.474355 | N12: 17.72 | O12: 18.03 | P12: 17.65 | Q12: 17.9 | R12: 17.37 | S12: 15.94 | T12: 14.68 | U12: 12.53 | V12: 12.36 | W12: 11.44 | X12: 11.57 | Y12: 11.52 | Z12: 11.04 | AA12: 10.99 | AB12: 11.78
A13: Evere | B13: n.d. | C13: n.d. | D13: n.d. | E13: 9.8 | F13: 11.3 | G13: 12.042075 | H13: 13.348274 | I13: 13.598441 | J13: 14.215258 | K13: 13.594778 | L13: 13.073519 | M13: 15.585173 | N13: 16.68 | O13: 16.8 | P13: 16.8 | Q13: 17.53 | R13: 17.05 | S13: 16.02 | T13: 14.84 | U13: 14.09 | V13: 13.9 | W13: 12.96 | X13: 12.76 | Y13: 12.74 | Z13: 11.97 | AA13: 11.77 | AB13: 12.04
A14: Forest | B14: n.d. | C14: n.d. | D14: n.d. | E14: 15.1 | F14: 16 | G14: 17.19047 | H14: 17.575796 | I14: 17.953264 | J14: 18.548357 | K14: 17.866009 | L14: 16.946619 | M14: 18.133837 | N14: 19.5 | O14: 19.91 | P14: 20.32 | Q14: 21.3 | R14: 20.33 | S14: 18.56 | T14: 17.07 | U14: 16.87 | V14: 16.76 | W14: 16.11 | X14: 16.04 | Y14: 15.63 | Z14: 14.83 | AA14: 15.1 | AB14: 15.71
A15: Ganshoren | B15: n.d. | C15: n.d. | D15: n.d. | E15: 10.4 | F15: 10.4 | G15: 11.443981 | H15: 13.261752 | I15: 13.619397 | J15: 14.130549 | K15: 13.899365 | L15: 13.36216 | M15: 14.346207 | N15: 15.43 | O15: 15.56 | P15: 16.03 | Q15: 17.14 | R15: 16.29 | S15: 14.47 | T15: 13.26 | U15: 13.5 | V15: 12.82 | W15: 12.21 | X15: 12.88 | Y15: 12.66 | Z15: 11.58 | AA15: 11.05 | AB15: 11.39
A16: Ixelles | B16: n.d. | C16: n.d. | D16: n.d. | E16: 14.5 | F16: 15.2 | G16: 16.388473 | H16: 17.823437 | I16: 17.791768 | J16: 19.140579 | K16: 17.916473 | L16: 17.043642 | M16: 18.549864 | N16: 19.52 | O16: 19.56 | P16: 19.71 | Q16: 20.84 | R16: 20.2 | S16: 18.59 | T16: 16.93 | U16: 15.14 | V16: 14.77 | W16: 14.03 | X16: 14.3 | Y16: 13.95 | Z16: 12.85 | AA16: 12.24 | AB16: 12.56
A17: Jette | B17: n.d. | C17: n.d. | D17: n.d. | E17: 11.1 | F17: 12.3 | G17: 13.253915 | H17: 14.785504 | I17: 15.189964 | J17: 15.296803 | K17: 14.484159 | L17: 13.911953 | M17: 15.498506 | N17: 16.26 | O17: 16.2 | P17: 15.93 | Q17: 16.92 | R17: 16.33 | S17: 15.11 | T17: 13.84 | U17: 13.64 | V17: 13.42 | W17: 12.83 | X17: 13.28 | Y17: 12.85 | Z17: 12.23 | AA17: 12.02 | AB17: 12.55
A18: Koekelberg | B18: n.d. | C18: n.d. | D18: n.d. | E18: 17.3 | F18: 18.7 | G18: 19.820427 | H18: 20.354554 | I18: 20.730618 | J18: 20.914551 | K18: 19.640749 | L18: 18.612961 | M18: 19.985783 | N18: 20.88 | O18: 19.87 | P18: 19.52 | Q18: 20.36 | R18: 19.49 | S18: 18.36 | T18: 17.33 | U18: 16.26 | V18: 15.84 | W18: 14.92 | X18: 15.4 | Y18: 15.24 | Z18: 13.67 | AA18: 13.45 | AB18: 13.91
A19: Molenbeek-St-Jean | B19: n.d. | C19: n.d. | D19: n.d. | E19: 22.9 | F19: 24 | G19: 25.24476 | H19: 25.378069 | I19: 25.753846 | J19: 26.137919 | K19: 24.92264 | L19: 23.846038 | M19: 25.563598 | N19: 26.65 | O19: 26.41 | P19: 25.96 | Q19: 26.48 | R19: 25.8 | S19: 24.32 | T19: 22.58 | U19: 21.96 | V19: 21.9 | W19: 20.78 | X19: 20.75 | Y19: 20.53 | Z19: 19.24 | AA19: 18.52 | AB19: 18.8
... A27: Région bruxelloise | B27: n.d. | C27: n.d. | D27: n.d. | E27: 15.7 | F27: 16.5 | G27: 17.769387 | H27: 18.520851 | I27: 18.787369 | J27: 19.20376 | K27: 18.256964 | L27: 17.347619 | M27: 18.674428 | N27: 19.72 | O27: 19.65 | P27: 19.55 | Q27: 20.41 | R27: 19.8 | S27: 18.38 | T27: 17.11 | U27: 16.03 | V27: 15.62 | W27: 14.82 | X27: 14.93 | Y27: 14.68 | Z27: 13.78 | AA27: 13.42 | AB27: 13.84
A28: n.d. = non disponible
A29: * Sur base de l'estimation de la population active occupée (BNB 2023), de la répartition de la population active occupée par commune (Steunpunt-WSE 2022) et par région (EFT 2023).
A30: Sources : BNB, SPF Économie - DGSIE (EFT), ACTIRIS, Steunpunt-WSE, calculs view.brussels
A32: Femmes | B32: 1998 | C32: 1999 | D32: 2000 | E32: 2001 | F32: 2002 | G32: 2003 | H32: 2004 | I32: 2005 | J32: 2006 | K32: 2007 | L32: 2008 | M32: 2009 | N32: 2010 | O32: 2011 | P32: 2012 | Q32: 2013 | R32: 2014 | S32: 2015 | T32: 2016 | U32: 2017 | V32: 2018 | W32: 2019 | X32: 2020 | Y32: 2021 | Z32: 2022 | AA32: 2023* | AB32: 2024*
A33: Anderlecht | B33: n.d. | C33: n.d. | D33: n.d. | E33: 22.9 | F33: 22.2 | G33: 24.143798 | H33: 25.032208 | I33: 25.250773 | J33: 26.344415 | K33: 25.186676 | L33: 24.248021 | M33: 24.078018 | N33: 24.99 | O33: 24.28 | P33: 24.14 | Q33: 24.38 | R33: 23.82 | S33: 22.55 | T33: 21.4 | U33: 21.62 | V33: 20.41 | W33: 19.78 | X33: 19.37 | Y33: 19.3 | Z33: 18.45 | AA33: 19.04 | AB33: 19.78
A34: Auderghem | B34: n.d. | C34: n.d. | D34: n.d. | E34: 9.8 | F34: 10 | G34: 10.986686 | H34: 11.930961 | I34: 11.808337 | J34: 12.546763 | K34: 11.795495 | L34: 11.727968 | M34: 12.149034 | N34: 12.92 | O34: 12.39 | P34: 12.4 | Q34: 12.25 | R34: 12.25 | S34: 11.95 | T34: 11.22 | U34: 10.78 | V34: 10.04 | W34: 9.47 | X34: 9.52 | Y34: 9.62 | Z34: 9.25 | AA34: 9.33 | AB34: 9.93
A35: Berchem-Ste-Agathe | B35: n.d. | C35: n.d. | D35: n.d. | E35: 13.7 | F35: 13.5 | G35: 15.397232 | H35: 16.515341 | I35: 16.804356 | J35: 17.700798 | K35: 16.666032 | L35: 16.35818 | M35: 16.945333 | N35: 18.59 | O35: 18.01 | P35: 18.74 | Q35: 19.4 | R35: 18.7 | S35: 17.57 | T35: 17.06 | U35: 17.78 | V35: 17.25 | W35: 16.61 | X35: 16.82 | Y35: 16.72 | Z35: 15.04 | AA35: 14.71 | AB35: 14.94
A36: Bruxelles | B36: n.d. | C36: n.d. | D36: n.d. | E36: 21.8 | F36: 22 | G36: 23.561766 | H36: 23.673045 | I36: 24.061916 | J36: 24.747731 | K36: 23.340584 | L36: 22.423254 | M36: 22.498974 | N36: 23.49 | O36: 22.86 | P36: 23.28 | Q36: 23.38 | R36: 22.79 | S36: 21.41 | T36: 20.25 | U36: 19.38 | V36: 18.49 | W36: 18.12 | X36: 18.05 | Y36: 17.8 | Z36: 16.22 | AA36: 16.69 | AB36: 17.26
A37: Etterbeek | B37: n.d. | C37: n.d. | D37: n.d. | E37: 17.2 | F37: 17.3 | G37: 17.559037 | H37: 18.450673 | I37: 18.902265 | J37: 19.500505 | K37: 17.925076 | L37: 17.269386 | M37: 17.150348 | N37: 18.08 | O37: 17.9 | P37: 17.49 | Q37: 17.48 | R37: 17.11 | S37: 15.91 | T37: 14.51 | U37: 12.3 | V37: 11.87 | W37: 11.59 | X37: 11.58 | Y37: 11.32 | Z37: 10.34 | AA37: 11.09 | AB37: 11.5
A38: Evere | B38: n.d. | C38: n.d. | D38: n.d. | E38: 16.4 | F38: 15.7 | G38: 16.335577 | H38: 17.896677 | I38: 18.353024 | J38: 19.953745 | K38: 19.158138 | L38: 18.743884 | M38: 19.791135 | N38: 20.69 | O38: 20.21 | P38: 20.58 | Q38: 20.9 | R38: 20.75 | S38: 20.03 | T38: 18.27 | U38: 17.82 | V38: 17.7 | W38: 17.66 | X38: 17.09 | Y38: 16.73 | Z38: 15.37 | AA38: 15.69 | AB38: 16.38
A39: Forest | B39: n.d. | C39: n.d. | D39: n.d. | E39: 19.3 | F39: 19.4 | G39: 21.103376 | H39: 21.539867 | I39: 22.182507 | J39: 22.335866 | K39: 21.292914 | L39: 20.73515 | M39: 20.609437 | N39: 21.98 | O39: 22.13 | P39: 22.28 | Q39: 22.1 | R39: 21.61 | S39: 20.09 | T39: 18.63 | U39: 18.81 | V39: 17.96 | W39: 17.63 | X39: 17.61 | Y39: 17.17 | Z39: 16.65 | AA39: 16.87 | AB39: 17.5
A40: Ganshoren | B40: n.d. | C40: n.d. | D40: n.d. | E40: 14.4 | F40: 13.8 | G40: 15.241901 | H40: 16.714438 | I40: 17.218064 | J40: 18.617391 | K40: 17.521951 | L40: 17.007674 | M40: 17.498262 | N40: 19 | O40: 18.94 | P40: 19.24 | Q40: 19.62 | R40: 19.18 | S40: 18.04 | T40: 16.65 | U40: 17.1 | V40: 16.44 | W40: 16.48 | X40: 16.96 | Y40: 16.6 | Z40: 14.37 | AA40: 14.3 | AB40: 14.97
A41: Ixelles | B41: n.d. | C41: n.d. | D41: n.d. | E41: 15.6 | F41: 15 | G41: 16.749146 | H41: 17.684943 | I41: 17.919218 | J41: 18.795244 | K41: 17.479474 | L41: 16.919836 | M41: 17.408059 | N41: 17.98 | O41: 17.69 | P41: 17.38 | Q41: 17.6 | R41: 16.84 | S41: 15.76 | T41: 14.76 | U41: 13.27 | V41: 12.57 | W41: 12.31 | X41: 12.64 | Y41: 12.36 | Z41: 11.37 | AA41: 11.63 | AB41: 11.91
A42: Jette | B42: n.d. | C42: n.d. | D42: n.d. | E42: 15.7 | F42: 15.3 | G42: 15.998684 | H42: 18.02183 | I42: 18.928748 | J42: 20.617621 | K42: 19.227889 | L42: 18.612791 | M42: 18.691994 | N42: 19.73 | O42: 19.51 | P42: 19.26 | Q42: 19.58 | R42: 18.96 | S42: 17.91 | T42: 17.2 | U42: 17.63 | V42: 16.77 | W42: 16.66 | X42: 16.62 | Y42: 16.64 | Z42: 15.2 | AA42: 15.55 | AB42: 15.56
A43: Koekelberg | B43: n.d. | C43: n.d. | D43: n.d. | E43: 21.4 | F43: 22 | G43: 23.778568 | H43: 24.751334 | I43: 25.983989 | J43: 26.856823 | K43: 25.365173 | L43: 24.515356 | M43: 24.064345 | N43: 24.78 | O43: 23.81 | P43: 23.46 | Q43: 23.74 | R43: 23.44 | S43: 21.71 | T43: 20.19 | U43: 20.48 | V43: 18.62 | W43: 17.88 | X43: 17.58 | Y43: 17.03 | Z43: 16.68 | AA43: 17.29 | AB43: 18
A44: Molenbeek-St-Jean | B44: n.d. | C44: n.d. | D44: n.d. | E44: 28.3 | F44: 28.5 | G44: 30.899652 | H44: 31.784779 | I44: 32.652335 | J44: 32.88851 | K44: 31.229076 | L44: 30.607858 | M44: 30.406132 | N44: 30.93 | O44: 30.39 | P44: 29.95 | Q44: 29.96 | R44: 29.56 | S44: 27.88 | T44: 26.34 | U44: 26.63 | V44: 25.15 | W44: 24.49 | X44: 23.88 | Y44: 23.91 | Z44: 22.22 | AA44: 22.78 | AB44: 22.86
... A52: Région bruxelloise | B52: n.d. | C52: n.d. | D52: n.d. | E52: 19.1 | F52: 18.9 | G52: 20.310628 | H52: 21.197307 | I52: 21.586441 | J52: 22.407401 | K52: 21.112342 | L52: 20.329252 | M52: 20.354156 | N52: 21.23 | O52: 20.77 | P52: 20.74 | Q52: 20.87 | R52: 20.45 | S52: 19.34 | T52: 18.12 | U52: 17.37 | V52: 16.52 | W52: 16.21 | X52: 16.08 | Y52: 15.92 | Z52: 14.76 | AA52: 15.07 | AB52: 15.5
A53: n.d. = non disponible
A54: * Sur base de l'estimation de la population active occupée (BNB 2023), de la répartition de la population active occupée par commune (Steunpunt-WSE 2022) et par région (EFT 2023).
A55: Sources : BNB, SPF Économie - DGSIE (EFT), ACTIRIS, Steunpunt-WSE, calculs view.brussels
A57: Total | B57: 1998 | C57: 1999 | D57: 2000 | E57: 2001 | F57: 2002 | G57: 2003 | H57: 2004 | I57: 2005 | J57: 2006 | K57: 2007 | L57: 2008 | M57: 2009 | N57: 2010 | O57: 2011 | P57: 2012 | Q57: 2013 | R57: 2014 | S57: 2015 | T57: 2016 | U57: 2017 | V57: 2018 | W57: 2019 | X57: 2020 | Y57: 2021 | Z57: 2022 | AA57: 2023* | AB57: 2024*
A58: Anderlecht | B58: 21 | C58: 20 | D58: 19.1 | E58: 19.6 | F58: 19.7 | G58: 21.413927 | H58: 22.114136 | I58: 22.41892 | J58: 23.231587 | K58: 22.43293 | L58: 21.429968 | M58: 22.279977 | N58: 23.39 | O58: 22.92 | P58: 22.71 | Q58: 23.32 | R58: 22.67 | S58: 21.15 | T58: 19.91 | U58: 19.65 | V58: 18.65 | W58: 17.83 | X58: 17.54 | Y58: 17.44 | Z58: 16.87 | AA58: 16.93 | AB58: 17.64
A59: Auderghem | B59: 10.7 | C59: 9.3 | D59: 8.7 | E59: 8.5 | F59: 9 | G59: 10.207363 | H59: 10.946292 | I59: 10.812143 | J59: 11.236606 | K59: 10.602038 | L59: 10.59952 | M59: 11.389397 | N59: 11.94 | O59: 11.63 | P59: 11.7 | Q59: 11.97 | R59: 11.8 | S59: 11.3 | T59: 10.56 | U59: 9.95 | V59: 9.42 | W59: 8.82 | X59: 9.18 | Y59: 9.33 | Z59: 8.8 | AA59: 8.73 | AB59: 9.39
A60: Berchem-Ste-Agathe | B60: 12.6 | C60: 11.9 | D60: 11.6 | E60: 11.5 | F60: 11.8 | G60: 13.496523 | H60: 14.672329 | I60: 15.113748 | J60: 15.526996 | K60: 14.970516 | L60: 14.430635 | M60: 15.313956 | N60: 16.5 | O60: 16.32 | P60: 16.54 | Q60: 17.56 | R60: 16.67 | S60: 15.8 | T60: 15.37 | U60: 15.51 | V60: 15.23 | W60: 14.45 | X60: 14.74 | Y60: 14.91 | Z60: 13.65 | AA60: 13.25 | AB60: 13.45
A61: Bruxelles | B61: 22.3 | C61: 21 | D61: 19.8 | E61: 20 | F61: 20.7 | G61: 21.943126 | H61: 22.194057 | I61: 22.642977 | J61: 23.037965 | K61: 21.935536 | L61: 20.800845 | M61: 21.438887 | N61: 22.56 | O61: 22.19 | P61: 22.24 | Q61: 22.76 | R61: 22.18 | S61: 20.75 | T61: 19.55 | U61: 18.5 | V61: 17.92 | W61: 17.21 | X61: 17.33 | Y61: 16.92 | Z61: 15.52 | AA61: 15.49 | AB61: 15.93
A62: Etterbeek | B62: 18.3 | C62: 17 | D62: 15.9 | E62: 16 | F62: 16.4 | G62: 16.801742 | H62: 17.510574 | I62: 17.730915 | J62: 18.287826 | K62: 17.059397 | L62: 16.049611 | M62: 16.801589 | N62: 17.89 | O62: 17.97 | P62: 17.58 | Q62: 17.69 | R62: 17.24 | S62: 15.93 | T62: 14.6 | U62: 12.42 | V62: 12.11 | W62: 11.52 | X62: 11.57 | Y62: 11.42 | Z62: 10.69 | AA62: 11.04 | AB62: 11.64
A63: Evere | B63: 13.8 | C63: 13.1 | D63: 12.7 | E63: 12.9 | F63: 13.4 | G63: 14.10862 | H63: 15.538024 | I63: 15.898286 | J63: 17.013184 | K63: 16.295945 | L63: 15.761624 | M63: 17.621729 | N63: 18.6 | O63: 18.44 | P63: 18.62 | Q63: 19.18 | R63: 18.85 | S63: 17.95 | T63: 16.49 | U63: 15.85 | V63: 15.73 | W63: 15.19 | X63: 14.77 | Y63: 14.6 | Z63: 13.58 | AA63: 13.58 | AB63: 14.04
A64: Forest | B64: 19.2 | C64: 18.5 | D64: 17.1 | E64: 17 | F64: 17.6 | G64: 19.003161 | H64: 19.425729 | I64: 19.932942 | J64: 20.31955 | K64: 19.466513 | L64: 18.687305 | M64: 19.296414 | N64: 20.66 | O64: 20.96 | P64: 21.24 | Q64: 21.68 | R64: 20.94 | S64: 19.28 | T64: 17.81 | U64: 17.77 | V64: 17.33 | W64: 16.82 | X64: 16.78 | Y64: 16.35 | Z64: 15.7 | AA64: 15.92 | AB64: 16.54
A65: Ganshoren | B65: 13.2 | C65: 12.8 | D65: 12.5 | E65: 12.3 | F65: 12.1 | G65: 13.313447 | H65: 14.969931 | I65: 15.39466 | J65: 16.345829 | K65: 15.694891 | L65: 15.129124 | M65: 15.91398 | N65: 17.18 | O65: 17.23 | P65: 17.59 | Q65: 18.37 | R65: 17.72 | S65: 16.21 | T65: 14.9 | U65: 15.2 | V65: 14.55 | W65: 14.22 | X65: 14.78 | Y65: 14.5 | Z65: 12.9 | AA65: 12.55 | AB65: 13.05
A66: Ixelles | B66: 17.5 | C66: 15.7 | D66: 14.6 | E66: 15 | F66: 15.1 | G66: 16.554607 | H66: 17.759505 | I66: 17.850325 | J66: 18.982115 | K66: 17.716548 | L66: 16.981712 | M66: 18.023047 | N66: 18.82 | O66: 18.69 | P66: 18.62 | Q66: 19.29 | R66: 18.6 | S66: 17.25 | T66: 15.89 | U66: 14.25 | V66: 13.7 | W66: 13.2 | X66: 13.51 | Y66: 13.19 | Z66: 12.12 | AA66: 11.95 | AB66: 12.24
A67: Jette | B67: 14.6 | C67: 13.5 | D67: 13 | E67: 13.2 | F67: 13.8 | G67: 14.561039 | H67: 16.329435 | I67: 16.985541 | J67: 17.855176 | K67: 16.765268 | L67: 16.12313 | M67: 17.030257 | N67: 17.91 | O67: 17.78 | P67: 17.52 | Q67: 18.22 | R67: 17.6 | S67: 16.45 | T67: 15.45 | U67: 15.5 | V67: 15.01 | W67: 14.62 | X67: 14.82 | Y67: 14.59 | Z67: 13.62 | AA67: 13.63 | AB67: 13.92
A68: Koekelberg | B68: 20.5 | C68: 20.1 | D68: 18.9 | E68: 19.1 | F68: 20.3 | G68: 21.6073 | H68: 22.309973 | I68: 23.036902 | J68: 23.535802 | K68: 22.163848 | L68: 21.213345 | M68: 21.804009 | N68: 22.6 | O68: 21.62 | P68: 21.26 | Q68: 21.86 | R68: 21.23 | S68: 19.82 | T68: 18.58 | U68: 18.06 | V68: 17.05 | W68: 16.19 | X68: 16.32 | Y68: 16 | Z68: 14.96 | AA68: 15.06 | AB68: 15.63
A69: Molenbeek-St-Jean | B69: 26.6 | C69: 25.4 | D69: 24.4 | E69: 25.1 | F69: 25.9 | G69: 27.623277 | H69: 28.085446 | I69: 28.661772 | J69: 28.992708 | K69: 27.577745 | L69: 26.678082 | M69: 27.603926 | N69: 28.44 | O69: 28.09 | P69: 27.65 | Q69: 27.97 | R69: 27.4 | S69: 25.81 | T69: 24.15 | U69: 23.87 | V69: 23.27 | W69: 22.32 | X69: 22.05 | Y69: 21.95 | Z69: 20.52 | AA69: 20.32 | AB69: 20.51
... A77: Région bruxelloise | B77: 18.9 | C77: 17.8 | D77: 16.9 | E77: 17.2 | F77: 17.6 | G77: 18.92286 | H77: 19.736025 | I77: 20.055732 | J77: 20.655595 | K77: 19.552039 | L77: 18.682476 | M77: 19.440076 | N77: 20.4 | O77: 20.16 | P77: 20.09 | Q77: 20.62 | R77: 20.1 | S77: 18.82 | T77: 17.57 | U77: 16.64 | V77: 16.04 | W77: 15.46 | X77: 15.46 | Y77: 15.25 | Z77: 14.24 | AA77: 14.17 | AB77: 14.6
A78: n.d. = non disponible
A79: * Sur base de l'estimation de la population active occupée (BNB 2023), de la répartition de la population active occupée par commune (Steunpunt-WSE 2022) et par région (EFT 2023).
A80: Sources : BNB, SPF Économie - DGSIE (EFT), ACTIRIS, Steunpunt-WSE, calculs view.brussels

Sheet F.3.2
A1: F. Caractéristiques des communes de la Région bruxelloise | Y1: Retour au menu
A3: F.3. Taux de chômage
A5: Tableau F.3.2 : Taux de chômage des jeunes (< 25 ans) par commune et genre en Région bruxelloise (moyenne annuelle 2001-2024)
A7: Hommes | B7: 2001 | C7: 2002 | D7: 2003 | E7: 2004 | F7: 2005 | G7: 2006 | H7: 2007 | I7: 2008 | J7: 2009 | K7: 2010 | L7: 2011 | M7: 2012 | N7: 2013 | O7: 2014 | P7: 2015 | Q7: 2016 | R7: 2017 | S7: 2018 | T7: 2019 | U7: 2020 | V7: 2021 | W7: 2022 | X7: 2023* | Y7: 2024*
A8: Anderlecht | B8: 27.591803 | C8: 29.546714 | D8: 29.085703 | E8: 29.706982 | F8: 32.844757 | G8: 32.573558 | H8: 30.3335 | I8: 27.699272 | J8: 30.750714 | K8: 32.27 | L8: 30.82 | M8: 31.5 | N8: 33.66 | O8: 32.83 | P8: 27.85 | Q8: 26.84 | R8: 25.37 | S8: 22.61 | T8: 21.17 | U8: 21.91 | V8: 22.03 | W8: 22.2 | X8: 22.1 | Y8: 25.51
A9: Auderghem | B9: 17.355757 | C9: 19.709467 | D9: 21.14484 | E9: 22.630065 | F9: 24.20762 | G9: 23.565227 | H9: 21.500787 | I9: 22.469699 | J9: 26.097427 | K9: 25.73 | L9: 24.36 | M9: 26.04 | N9: 26.88 | O9: 24.43 | P9: 25.35 | Q9: 24.2 | R9: 24.98 | S9: 22.95 | T9: 19.08 | U9: 21.69 | V9: 22.15 | W9: 19.59 | X9: 21.17 | Y9: 23.21
A10: Berchem-Ste-Agathe | B10: 19.9948 | C10: 23.158917 | D10: 23.249797 | E10: 24.431901 | F10: 25.364203 | G10: 24.397219 | H10: 23.208158 | I10: 20.656646 | J10: 24.868417 | K10: 27.61 | L10: 27.53 | M10: 25.63 | N10: 29.29 | O10: 27.47 | P10: 27.48 | Q10: 25.17 | R10: 21.82 | S10: 22.22 | T10: 21.37 | U10: 23.13 | V10: 23.05 | W10: 20.88 | X10: 20.32 | Y10: 20.4
A11: Bruxelles | B11: 30.157157 | C11: 32.212304 | D11: 35.123287 | E11: 35.505894 | F11: 35.324198 | G11: 35.239298 | H11: 31.335885 | I11: 29.684429 | J11: 32.356499 | K11: 33.85 | L11: 31.6 | M11: 31.77 | N11: 34.19 | O11: 31.03 | P11: 28.45 | Q11: 26.91 | R11: 25.37 | S11: 24.41 | T11: 22.47 | U11: 25.41 | V11: 23.46 | W11: 20.97 | X11: 21.83 | Y11: 22.86
A12: Etterbeek | B12: 25.889053 | C12: 27.911707 | D12: 31.043527 | E12: 30.522698 | F12: 29.873962 | G12: 28.739406 | H12: 26.879578 | I12: 24.312365 | J12: 29.527672 | K12: 31.14 | L12: 28.22 | M12: 27.74 | N12: 29.93 | O12: 28.01 | P12: 26.72 | Q12: 22.82 | R12: 21.27 | S12: 23.33 | T12: 19.5 | U12: 19.7 | V12: 20.56 | W12: 21.42 | X12: 22.45 | Y12: 23.03
A13: Evere | B13: 20.403351 | C13: 25.397448 | D13: 21.271812 | E13: 23.227071 | F13: 28.146047 | G13: 26.490573 | H13: 23.773067 | I13: 23.192375 | J13: 29.508498 | K13: 32.64 | L13: 30.83 | M13: 31.63 | N13: 33.27 | O13: 32.21 | P13: 29.26 | Q13: 26.04 | R13: 24.42 | S13: 24.13 | T13: 21.65 | U13: 23.46 | V13: 24.74 | W13: 21.98 | X13: 22.25 | Y13: 23.76
A14: Forest | B14: 25.848302 | C14: 28.735765 | D14: 33.812697 | E14: 32.866339 | F14: 31.56954 | G14: 32.598282 | H14: 30.586299 | I14: 26.788755 | J14: 30.301934 | K14: 33.03 | L14: 35.16 | M14: 36.46 | N14: 37.18 | O14: 34.28 | P14: 30.56 | Q14: 26.9 | R14: 24.61 | S14: 23.84 | T14: 22.68 | U14: 25.52 | V14: 24.91 | W14: 22.77 | X14: 24.99 | Y14: 25.39
A15: Ganshoren | B15: 19.250732 | C15: 22.328217 | D15: 23.796863 | E15: 25.703829 | F15: 24.5381 | G15: 23.598263 | H15: 22.182117 | I15: 21.930028 | J15: 25.246785 | K15: 26.67 | L15: 26.88 | M15: 27.96 | N15: 28.38 | O15: 27.39 | P15: 24.7 | Q15: 20.87 | R15: 21.21 | S15: 19.77 | T15: 18.6 | U15: 20.14 | V15: 18.81 | W15: 16.49 | X15: 16.69 | Y15: 17.69
A16: Ixelles | B16: 27.319989 | C16: 29.626942 | D16: 34.546245 | E16: 35.404855 | F16: 31.092804 | G16: 33.526673 | H16: 29.123512 | I16: 26.035608 | J16: 29.629217 | K16: 30.57 | L16: 29.54 | M16: 30.15 | N16: 32.93 | O16: 30 | P16: 25.8 | Q16: 24.76 | R16: 24.44 | S16: 22.81 | T16: 18.71 | U16: 22.77 | V16: 23.36 | W16: 20.53 | X16: 19.8 | Y16: 19.81
A17: Jette | B17: 22.491184 | C17: 26.462997 | D17: 25.075719 | E17: 26.366881 | F17: 28.379159 | G17: 28.583572 | H17: 26.677875 | I17: 24.619955 | J17: 30.406353 | K17: 30.79 | L17: 28.95 | M17: 28.02 | N17: 30.89 | O17: 28.75 | P17: 25.57 | Q17: 23.16 | R17: 21.96 | S17: 21.32 | T17: 21.35 | U17: 22.96 | V17: 22.09 | W17: 20.56 | X17: 21.29 | Y17: 22.17
A18: Koekelberg | B18: 30.751173 | C18: 34.472846 | D18: 31.120656 | E18: 34.070414 | F18: 34.962559 | G18: 38.17716 | H18: 32.351705 | I18: 27.158261 | J18: 28.500535 | K18: 32.73 | L18: 26.74 | M18: 26.65 | N18: 29.2 | O18: 29.96 | P18: 25.98 | Q18: 24.36 | R18: 23.41 | S18: 19.7 | T18: 18.89 | U18: 21.7 | V18: 21.78 | W18: 17.82 | X18: 18.74 | Y18: 20.32
A19: Molenbeek-St-Jean | B19: 32.735823 | C19: 35.101358 | D19: 36.35133 | E19: 35.499496 | F19: 35.98123 | G19: 35.748284 | H19: 36.21784 | I19: 33.956522 | J19: 37.898362 | K19: 38.29 | L19: 35.45 | M19: 36.54 | N19: 38.91 | O19: 37.55 | P19: 35.85 | Q19: 31.86 | R19: 29.93 | S19: 29.41 | T19: 25.59 | U19: 29.44 | V19: 30.75 | W19: 27.79 | X19: 28.42 | Y19: 31.11
... A27: Région bruxelloise | B27: 27.840874 | C27: 30.217756 | D27: 31.645055 | E27: 32.259131 | F27: 32.41809 | G27: 32.654948 | H27: 30.106664 | I27: 27.835591 | J27: 31.117158 | K27: 32.71 | L27: 30.96 | M27: 31.39 | N27: 33.58 | O27: 31.83 | P27: 28.8 | Q27: 26.45 | R27: 25.26 | S27: 23.97 | T27: 21.81 | U27: 24.13 | V27: 23.89 | W27: 21.97 | X27: 22.45 | Y27: 23.76
A28: * Sur base de l'estimation de la population active occupée (BNB 2023), de la répartition de la population active occupée par commune (Steunpunt-WSE 2022) et par région (EFT 2023).
A29: Sources : BNB, SPF Économie - DGSIE (EFT), ACTIRIS, Steunpunt-WSE, calculs view.brussels
A31: Femmes | B31: 2001 | C31: 2002 | D31: 2003 | E31: 2004 | F31: 2005 | G31: 2006 | H31: 2007 | I31: 2008 | J31: 2009 | K31: 2010 | L31: 2011 | M31: 2012 | N31: 2013 | O31: 2014 | P31: 2015 | Q31: 2016 | R31: 2017 | S31: 2018 | T31: 2019 | U31: 2020 | V31: 2021 | W31: 2022 | X31: 2023* | Y31: 2024*
A32: Anderlecht | B32: 34.057572 | C32: 35.596961 | D32: 33.985716 | E32: 34.776142 | F32: 36.557802 | G32: 37.455662 | H32: 35.928998 | I32: 34.514561 | J32: 35.707126 | K32: 37.02 | L32: 33.11 | M32: 33.65 | N32: 36.12 | O32: 34.94 | P32: 33.1 | Q32: 32.78 | R32: 29.91 | S32: 26.6 | T32: 25.3 | U32: 27.56 | V32: 26.23 | W32: 24.05 | X32: 25.24 | Y32: 27.35
A33: Auderghem | B33: 20.765143 | C33: 24.321905 | D33: 25.499672 | E33: 27.218707 | F33: 23.871721 | G33: 25.487934 | H33: 22.655733 | I33: 21.087655 | J33: 21.880808 | K33: 25.28 | L33: 20.22 | M33: 22.87 | N33: 24.24 | O33: 24.05 | P33: 21.64 | Q33: 19.91 | R33: 21.6 | S33: 18.2 | T33: 16.17 | U33: 17.66 | V33: 18.39 | W33: 19.67 | X33: 20.1 | Y33: 22.72
A34: Berchem-Ste-Agathe | B34: 24.300026 | C34: 25.385304 | D34: 29.89863 | E34: 29.912808 | F34: 27.46667 | G34: 28.74251 | H34: 25.220201 | I34: 26.181976 | J34: 27.670533 | K34: 31.67 | L34: 30.11 | M34: 30.65 | N34: 32 | O34: 27.55 | P34: 25.22 | Q34: 24.74 | R34: 24.22 | S34: 21.14 | T34: 20.49 | U34: 24.78 | V34: 22.54 | W34: 19.84 | X34: 20.61 | Y34: 23.8
A35: Bruxelles | B35: 34.130169 | C35: 37.372257 | D35: 37.276267 | E35: 36.572651 | F35: 37.212806 | G35: 39.325049 | H35: 36.29425 | I35: 34.321568 | J35: 34.317323 | K35: 34.44 | L35: 31.93 | M35: 34.68 | N35: 34.48 | O35: 33.32 | P35: 30.63 | Q35: 28.57 | R35: 26.77 | S35: 24.61 | T35: 22.84 | U35: 25.47 | V35: 24.65 | W35: 20.78 | X35: 22.66 | Y35: 25.34
A36: Etterbeek | B36: 26.514969 | C36: 29.247741 | D36: 30.89713 | E36: 30.853801 | F36: 28.37045 | G36: 28.790276 | H36: 25.992448 | I36: 25.272032 | J36: 26.163936 | K36: 28.7 | L36: 26.33 | M36: 26.64 | N36: 25.47 | O36: 24.72 | P36: 22.95 | Q36: 20.79 | R36: 19.46 | S36: 17.97 | T36: 16.28 | U36: 19.19 | V36: 18.98 | W36: 17.53 | X36: 19.99 | Y36: 20.69
A37: Evere | B37: 27.246026 | C37: 27.62881 | D37: 30.147126 | E37: 30.123136 | F37: 28.168845 | G37: 29.776806 | H37: 29.118289 | I37: 28.113508 | J37: 30.979007 | K37: 32.55 | L37: 30.82 | M37: 30.99 | N37: 33.24 | O37: 32.15 | P37: 30.07 | Q37: 26.37 | R37: 24.35 | S37: 27.89 | T37: 26.84 | U37: 27.75 | V37: 26.65 | W37: 23.29 | X37: 24.32 | Y37: 25.32
A38: Forest | B38: 32.095483 | C38: 34.076834 | D38: 36.989948 | E38: 36.901196 | F38: 36.302087 | G38: 35.182787 | H38: 35.171345 | I38: 33.817852 | J38: 34.820646 | K38: 37.29 | L38: 37.21 | M38: 35.47 | N38: 36.59 | O38: 34.09 | P38: 32.03 | Q38: 30.33 | R38: 29.87 | S38: 25.85 | T38: 26.33 | U38: 27.88 | V38: 26.28 | W38: 25.26 | X38: 26.8 | Y38: 26.96
A39: Ganshoren | B39: 25.856171 | C39: 25.946066 | D39: 28.133123 | E39: 30.640696 | F39: 27.54934 | G39: 28.536022 | H39: 27.344659 | I39: 26.537455 | J39: 28.973159 | K39: 27.12 | L39: 25.58 | M39: 28.19 | N39: 28.57 | O39: 28.24 | P39: 28.45 | Q39: 27.6 | R39: 22.53 | S39: 20.06 | T39: 19.54 | U39: 24.9 | V39: 24.61 | W39: 19.18 | X39: 20.84 | Y39: 26.36
A40: Ixelles | B40: 25.70977 | C40: 27.24708 | D40: 32.406457 | E40: 32.784366 | F40: 30.68062 | G40: 30.296328 | H40: 28.025061 | I40: 26.324484 | J40: 28.543187 | K40: 29.32 | L40: 27.63 | M40: 26.78 | N40: 27.72 | O40: 25.44 | P40: 23.78 | Q40: 23.98 | R40: 22.87 | S40: 19.89 | T40: 17.52 | U40: 20.67 | V40: 20.15 | W40: 17.16 | X40: 18.37 | Y40: 19.75
A41: Jette | B41: 26.74356 | C41: 29.025661 | D41: 30.038943 | E41: 32.340836 | F41: 30.656569 | G41: 34.435366 | H41: 31.424574 | I41: 28.139843 | J41: 28.9526 | K41: 29.7 | L41: 26.97 | M41: 27.58 | N41: 30.18 | O41: 29.97 | P41: 27.25 | Q41: 25.18 | R41: 24.75 | S41: 23.7 | T41: 21.51 | U41: 24.89 | V41: 22.82 | W41: 19.2 | X41: 23.27 | Y41: 27.26
A42: Koekelberg | B42: 32.495993 | C42: 33.378712 | D42: 36.793154 | E42: 40.698504 | F42: 42.150298 | G42: 43.133483 | H42: 36.123593 | I42: 36.041364 | J42: 35.988289 | K42: 37.58 | L42: 34.33 | M42: 32.15 | N42: 36.95 | O42: 32.38 | P42: 29.77 | Q42: 28.24 | R42: 27.01 | S42: 24.44 | T42: 22.17 | U42: 24.91 | V42: 25.2 | W42: 22.52 | X42: 26.21 | Y42: 28.59
A43: Molenbeek-St-Jean | B43: 42.31914 | C43: 44.897246 | D43: 40.635999 | E43: 40.701285 | F43: 45.507852 | G43: 47.970363 | H43: 45.678744 | I43: 44.667389 | J43: 44.583178 | K43: 43.93 | L43: 40.06 | M43: 39.99 | N43: 42.11 | O43: 41.52 | P43: 39.98 | Q43: 36.96 | R43: 34.27 | S43: 32.13 | T43: 30.18 | U43: 33.19 | V43: 33.49 | W43: 29.99 | X43: 32.56 | Y43: 34.55
... A51: Région bruxelloise | B51: 32.267296 | C51: 34.033353 | D51: 34.603355 | E51: 35.04554 | F51: 35.105037 | G51: 36.584873 | H51: 34.296757 | I51: 32.382216 | J51: 33.37052 | K51: 34.41 | L51: 31.92 | M51: 32.32 | N51: 33.51 | O51: 32.13 | P51: 30.14 | Q51: 28.62 | R51: 27.19 | S51: 24.86 | T51: 23.34 | U51: 26.01 | V51: 25.07 | W51: 22.24 | X51: 23.83 | Y51: 25.94
A52: * Sur base de l'estimation de la population active occupée (BNB 2023), de la répartition de la population active occupée par commune (Steunpunt-WSE 2022) et par région (EFT 2023).
A53: Sources : BNB, SPF Économie - DGSIE (EFT), ACTIRIS, Steunpunt-WSE, calculs view.brussels
A55: Total | B55: 2001 | C55: 2002 | D55: 2003 | E55: 2004 | F55: 2005 | G55: 2006 | H55: 2007 | I55: 2008 | J55: 2009 | K55: 2010 | L55: 2011 | M55: 2012 | N55: 2013 | O55: 2014 | P55: 2015 | Q55: 2016 | R55: 2017 | S55: 2018 | T55: 2019 | U55: 2020 | V55: 2021 | W55: 2022 | X55: 2023* | Y55: 2024*
A56: Anderlecht | B56: 30.632139 | C56: 32.386014 | D56: 31.414869 | E56: 32.102345 | F56: 34.60264 | G56: 34.933417 | H56: 33.068237 | I56: 30.955605 | J56: 33.090745 | K56: 34.48 | L56: 31.89 | M56: 32.49 | N56: 34.78 | O56: 33.78 | P56: 30.17 | Q56: 29.43 | R56: 27.29 | S56: 24.28 | T56: 22.87 | U56: 24.21 | V56: 23.74 | W56: 22.97 | X56: 23.38 | Y56: 26.26
A57: Auderghem | B57: 19.000512 | C57: 21.95422 | D57: 23.253722 | E57: 24.891662 | F57: 24.043198 | G57: 24.47954 | H57: 22.073552 | I57: 21.807627 | J57: 24.113754 | K57: 25.52 | L57: 22.42 | M57: 24.55 | N57: 25.63 | O57: 24.25 | P57: 23.52 | Q57: 22.04 | R57: 23.34 | S57: 20.63 | T57: 17.73 | U57: 19.88 | V57: 20.41 | W57: 19.63 | X57: 20.69 | Y57: 22.99
A58: Berchem-Ste-Agathe | B58: 22.169568 | C58: 24.269146 | D58: 26.608795 | E58: 27.190673 | F58: 26.377598 | G58: 26.527684 | H58: 24.196782 | I58: 23.267899 | J58: 26.205694 | K58: 29.58 | L58: 28.8 | M58: 28.12 | N58: 30.64 | O58: 27.51 | P58: 26.38 | Q58: 24.97 | R58: 22.85 | S58: 21.75 | T58: 20.99 | U58: 23.82 | V58: 22.84 | W58: 20.43 | X58: 20.44 | Y58: 21.85
A59: Bruxelles | B59: 31.975311 | C59: 34.600045 | D59: 36.120621 | E59: 36.003021 | F59: 36.214988 | G59: 37.142922 | H59: 33.636 | I59: 31.810136 | J59: 33.259375 | K59: 34.12 | L59: 31.75 | M59: 33.11 | N59: 34.33 | O59: 32.08 | P59: 29.43 | Q59: 27.66 | R59: 25.98 | S59: 24.5 | T59: 22.63 | U59: 25.44 | V59: 23.96 | W59: 20.89 | X59: 22.17 | Y59: 23.89
A60: Etterbeek | B60: 26.205894 | C60: 28.591427 | D60: 30.967348 | E60: 30.694455 | F60: 29.076902 | G60: 28.76601 | H60: 26.437827 | I60: 24.765195 | J60: 27.822482 | K60: 29.92 | L60: 27.27 | M60: 27.19 | N60: 27.65 | O60: 26.32 | P60: 24.78 | Q60: 21.78 | R60: 20.4 | S60: 20.68 | T60: 17.91 | U60: 19.44 | V60: 19.78 | W60: 19.49 | X60: 21.25 | Y60: 21.89
A61: Evere | B61: 23.661661 | C61: 26.426895 | D61: 25.61491 | E61: 26.72913 | F61: 28.157486 | G61: 28.14103 | H61: 26.42796 | I61: 25.564487 | J61: 30.232877 | K61: 32.6 | L61: 30.83 | M61: 31.33 | N61: 33.26 | O61: 32.18 | P61: 29.66 | Q61: 26.2 | R61: 24.39 | S61: 25.85 | T61: 23.97 | U61: 25.31 | V61: 25.58 | W61: 22.55 | X61: 23.13 | Y61: 24.42
A62: Forest | B62: 28.952108 | C62: 31.375892 | D62: 35.436222 | E62: 34.910477 | F62: 33.846866 | G62: 33.83517 | H62: 32.77564 | I62: 30.126088 | J62: 32.539533 | K62: 35.09 | L62: 36.18 | M62: 35.98 | N62: 36.91 | O62: 34.19 | P62: 31.24 | Q62: 28.49 | R62: 26.96 | S62: 24.75 | T62: 24.36 | U62: 26.57 | V62: 25.48 | W62: 23.87 | X62: 25.76 | Y62: 26.06
A63: Ganshoren | B63: 22.594766 | C63: 24.125724 | D63: 26.142413 | E63: 28.304254 | F63: 26.094351 | G63: 26.128685 | H63: 24.814133 | I63: 24.183525 | J63: 27.164539 | K63: 26.89 | L63: 26.24 | M63: 28.08 | N63: 28.47 | O63: 27.81 | P63: 26.47 | Q63: 23.98 | R63: 21.82 | S63: 19.9 | T63: 19.02 | U63: 22.24 | V63: 21.28 | W63: 17.55 | X63: 18.31 | Y63: 21.07
A64: Ixelles | B64: 26.512036 | C64: 28.439558 | D64: 33.474335 | E64: 34.102671 | F64: 30.883551 | G64: 31.904266 | H64: 28.577692 | I64: 26.154705 | J64: 29.097825 | K64: 29.95 | L64: 28.58 | M64: 28.45 | N64: 30.22 | O64: 27.64 | P64: 24.78 | Q64: 24.36 | R64: 23.66 | S64: 21.34 | T64: 18.12 | U64: 21.78 | V64: 21.85 | W64: 18.87 | X64: 19.1 | Y64: 19.78
A65: Jette | B65: 24.540735 | C65: 27.684742 | D65: 27.542871 | E65: 29.315467 | F65: 29.526972 | G65: 31.53037 | H65: 29.063364 | I65: 26.310392 | J65: 29.684411 | K65: 30.25 | L65: 27.95 | M65: 27.8 | N65: 30.53 | O65: 29.35 | P65: 26.38 | Q65: 24.12 | R65: 23.2 | S65: 22.35 | T65: 21.42 | U65: 23.79 | V65: 22.41 | W65: 19.97 | X65: 22.14 | Y65: 24.36
A66: Koekelberg | B66: 31.641356 | C66: 33.926143 | D66: 33.809116 | E66: 37.166465 | F66: 38.540225 | G66: 40.673549 | H66: 34.248022 | I66: 31.641193 | J66: 32.237525 | K66: 35.1 | L66: 30.45 | M66: 29.27 | N66: 32.72 | O66: 31.06 | P66: 27.68 | Q66: 26.04 | R66: 24.92 | S66: 21.74 | T66: 20.26 | U66: 22.97 | V66: 23.05 | W66: 19.56 | X66: 21.49 | Y66: 23.37
A67: Molenbeek-St-Jean | B67: 37.31744 | C67: 39.808865 | D67: 38.329398 | E67: 37.903851 | F67: 40.536224 | G67: 41.509735 | H67: 40.606788 | I67: 38.840433 | J67: 40.936131 | K67: 40.84 | L67: 37.57 | M67: 38.13 | N67: 40.39 | O67: 39.35 | P67: 37.67 | Q67: 34.09 | R67: 31.8 | S67: 30.57 | T67: 27.53 | U67: 31 | V67: 31.88 | W67: 28.73 | X67: 30.16 | Y67: 32.55
... A75: Région bruxelloise | B75: 29.974587 | C75: 32.050289 | D75: 33.076358 | E75: 33.610616 | F75: 33.72521 | G75: 34.559231 | H75: 32.136874 | I75: 29.989124 | J75: 32.204378 | K75: 33.52 | L75: 31.42 | M75: 31.83 | N75: 33.54 | O75: 31.97 | P75: 29.42 | Q75: 27.45 | R75: 26.12 | S75: 24.36 | T75: 22.49 | U75: 24.94 | V75: 24.4 | W75: 22.08 | X75: 23.04 | Y75: 24.69
A76: * Sur base de l'estimation de la population active occupée (BNB 2023), de la répartition de la population active occupée par commune (Steunpunt-WSE 2022) et par région (EFT 2023).
A77: Sources : BNB, SPF Économie - DGSIE (EFT), ACTIRIS, Steunpunt-WSE, calculs view.brussels

Sheet F.4.1
A1: F. Caractéristiques des communes de la Région bruxelloise | Q1: Retour au menu
A3: F.4. Emploi salarié
A5: Tableau F.4.1 : Evolution du nombre d'emplois salariés par commune bruxelloise et par région (1992-2023)
A7: Total | B7: 1992 | C7: 1993 | D7: 1994 | E7: 1995 | F7: 1996 | G7: 1997 | H7: 1998 | I7: 1999 | J7: 2000 | K7: 2001 | L7: 2002 | M7: 2003 | N7: 2004 | O7: 2005 | P7: 2006 | Q7: 2007
A9: Anderlecht | B9: 34082 | C9: 36681 | D9: 37674 | E9: 39843 | F9: 40208 | G9: 39956 | H9: 41098 | I9: 40747 | J9: 40355 | K9: 41572 | L9: 41440 | M9: 43381 | N9: 45452 | O9: 46050 | P9: 50209 | Q9: 51429
A10: Auderghem | B10: 11694 | C10: 11846 | D10: 11519 | E10: 11847 | F10: 11023 | G10: 10418 | H10: 10856 | I10: 11544 | J10: 11849 | K10: 12674 | L10: 12353 | M10: 11834 | N10: 15279 | O10: 15214 | P10: 14719 | Q10: 15756
A11: Berchem-Ste-Agathe | B11: 4746 | C11: 4299 | D11: 4456 | E11: 4517 | F11: 4542 | G11: 5341 | H11: 5675 | I11: 5796 | J11: 5837 | K11: 6315 | L11: 4958 | M11: 5450 | N11: 6036 | O11: 6090 | P11: 5698 | Q11: 6116
A12: Bruxelles | B12: 237078 | C12: 237812 | D12: 227777 | E12: 233038 | F12: 231761 | G12: 235855 | H12: 238560 | I12: 237362 | J12: 238014 | K12: 239117 | L12: 246399 | M12: 250257 | N12: 224641 | O12: 220692 | P12: 218513 | Q12: 225988
A13: Etterbeek | B13: 18669 | C13: 19174 | D13: 19421 | E13: 18546 | F13: 18066 | G13: 19851 | H13: 18875 | I13: 18502 | J13: 20990 | K13: 21728 | L13: 22659 | M13: 26335 | N13: 23265 | O13: 22432 | P13: 25621 | Q13: 23253
A14: Evere | B14: 20868 | C14: 22037 | D14: 22315 | E14: 22745 | F14: 22423 | G14: 22152 | H14: 22795 | I14: 24465 | J14: 25614 | K14: 25956 | L14: 25424 | M14: 25734 | N14: 21760 | O14: 21224 | P14: 21941 | Q14: 22064
A15: Forest | B15: 22108 | C15: 20424 | D15: 18921 | E15: 19124 | F15: 18934 | G15: 18644 | H15: 20349 | I15: 20690 | J15: 21194 | K15: 21598 | L15: 20167 | M15: 19503 | N15: 19345 | O15: 19184 | P15: 18754 | Q15: 15671
A16: Ganshoren | B16: 3131 | C16: 3157 | D16: 3399 | E16: 3527 | F16: 3497 | G16: 3456 | H16: 3637 | I16: 3451 | J16: 3854 | K16: 3776 | L16: 3743 | M16: 3851 | N16: 3607 | O16: 3785 | P16: 3973 | Q16: 4057
A17: Ixelles | B17: 42431 | C17: 40745 | D17: 40133 | E17: 37777 | F17: 36934 | G17: 35053 | H17: 34969 | I17: 36313 | J17: 38568 | K17: 40184 | L17: 39359 | M17: 42331 | N17: 46357 | O17: 46935 | P17: 46766 | Q17: 46941
A18: Jette | B18: 9133 | C18: 9222 | D18: 9027 | E18: 9304 | F18: 9352 | G18: 9594 | H18: 9678 | I18: 9937 | J18: 9993 | K18: 10418 | L18: 11167 | M18: 11059 | N18: 10587 | O18: 10760 | P18: 11651 | Q18: 11975
A19: Koekelberg | B19: 3498 | C19: 3578 | D19: 3263 | E19: 2968 | F19: 2867 | G19: 3084 | H19: 2615 | I19: 2801 | J19: 2881 | K19: 2903 | L19: 2741 | M19: 2943 | N19: 3220 | O19: 3261 | P19: 3349 | Q19: 3303
... A27: Woluwe-St-Pierre | B27: 10834 | C27: 10561 | D27: 10466 | E27: 9893 | F27: 9802 | G27: 9875 | H27: 10044 | I27: 10581 | J27: 11014 | K27: 11335 | L27: 11473 | M27: 11314 | N27: 10805 | O27: 11051 | P27: 11224 | Q27: 11048
A28: Commune non déterminée* | B28: _ | C28: _ | D28: _ | E28: _ | F28: _ | G28: _ | H28: _ | I28: _ | J28: _ | K28: _ | L28: _ | M28: _ | N28: _ | O28: _ | P28: _ | Q28: _
A29: Région bruxelloise | B29: 570797 | C29: 567772 | D29: 555549 | E29: 560247 | F29: 557028 | G29: 562917 | H29: 567279 | I29: 567279 | J29: 589299 | K29: 599193 | L29: 602571 | M29: 617464 | N29: 615578 | O29: 609939 | P29: 609324 | Q29: 620913
A30: Région flamande | B30: 1759858 | C30: 1763409 | D30: 1763204 | E30: 1799300 | F30: 1809033 | G30: 1842267 | H30: 1885184 | I30: 1914885 | J30: 1938824 | K30: 1989123 | L30: 1988101 | M30: 1989638 | N30: 2013754 | O30: 2039448 | P30: 2086316 | Q30: 2139878
A31: Région wallonne | B31: 827933 | C31: 826185 | D31: 822470 | E31: 828221 | F31: 829148 | G31: 842114 | H31: 855325 | I31: 865877 | J31: 883659 | K31: 898967 | L31: 902496 | M31: 915173 | N31: 927781 | O31: 939521 | P31: 961610 | Q31: 978969
A32: Belgique | B32: 3158588 | C32: 3157366 | D32: 3141223 | E32: 3187768 | F32: 3195209 | G32: 3247298 | H32: 3307788 | I32: 3356256 | J32: 3411782 | K32: 3487283 | L32: 3493168 | M32: 3522275 | N32: 3557113 | O32: 3588908 | P32: 3657250 | Q32: 3739760
A33: % Région bruxelloise/Belgique | B33: 18.071271 | C33: 17.982458 | D33: 17.685755 | E33: 17.574899 | F33: 17.433226 | G33: 17.334935 | H33: 17.149799 | I33: 17.146904 | J33: 17.272469 | K33: 17.18223 | L33: 17.249986 | M33: 17.530261 | N33: 17.305551 | O33: 16.995114 | P33: 16.660715 | Q33: 16.603017
A34: * Concerne les postes de travail salarié dans une entreprise étrangère sans unité locale d'établissement en Belgique. Ceux-ci sont comptabilisés au sein de la région bruxelloise mais ne sont pas attribués à une commune spécifique.
A35: Note : Jusqu'en 2002, les données sont établies au 30 juin. A partir de 2003, elles sont établies au 31 décembre.
A36: Source : ONSS, calculs view.brussels
A38: Total | B38: 2008 | C38: 2009 | D38: 2010 | E38: 2011 | F38: 2012 | G38: 2013 | H38: 2014 | I38: 2015 | J38: 2016 | K38: 2017 | L38: 2018 | M38: 2019 | N38: 2020 | O38: 2021 | P38: 2022 | Q38: 2023 | R38: % communes/ Région (2023) | S38: Var. 2022-2023
S39: v.a. | T39: %
A40: Anderlecht | B40: 48803 | C40: 49402 | D40: 50935 | E40: 50528 | F40: 49560 | G40: 48552 | H40: 51378 | I40: 51032 | J40: 50889 | K40: 50402 | L40: 52580 | M40: 54203 | N40: 54215 | O40: 54606 | P40: 55734 | Q40: 54269 | R40: =Q40/Q$60*100 -> 8.2896465 | S40: =Q40-P40 -> -1465 | T40: =((Q40/P40)-1)*100 -> -2.6285571
A41: Auderghem | B41: 16523 | C41: 16337 | D41: 16715 | E41: 16420 | F41: 17002 | G41: 17342 | H41: 17498 | I41: 13822 | J41: 13406 | K41: 13455 | L41: 14713 | M41: 14863 | N41: 14743 | O41: 14821 | P41: 14866 | Q41: 14458 | R41: =Q41/Q$60*100 -> 2.2084746 | S41: =Q41-P41 -> -408 | T41: =((Q41/P41)-1)*100 -> -2.7445177
A42: Berchem-Ste-Agathe | B42: 5945 | C42: 6221 | D42: 6132 | E42: 6639 | F42: 6632 | G42: 6771 | H42: 8248 | I42: 9164 | J42: 9006 | K42: 9126 | L42: 9636 | M42: 9859 | N42: 9576 | O42: 10204 | P42: 9635 | Q42: 9685 | R42: =Q42/Q$60*100 -> 1.4793939 | S42: =Q42-P42 -> 50 | T42: =((Q42/P42)-1)*100 -> 0.51894136
A43: Bruxelles | B43: 225370 | C43: 229175 | D43: 229463 | E43: 232431 | F43: 234348 | G43: 235206 | H43: 216311 | I43: 218317 | J43: 217569 | K43: 224999 | L43: 226764 | M43: 229690 | N43: 225819 | O43: 229656 | P43: 237390 | Q43: 242629 | R43: =Q43/Q$60*100 -> 37.061834 | S43: =Q43-P43 -> 5239 | T43: =((Q43/P43)-1)*100 -> 2.2069169
A44: Etterbeek | B44: 23163 | C44: 23052 | D44: 22790 | E44: 22979 | F44: 25399 | G44: 23991 | H44: 23652 | I44: 23945 | J44: 24493 | K44: 23470 | L44: 23243 | M44: 21363 | N44: 21397 | O44: 20391 | P44: 20593 | Q44: 20715 | R44: =Q44/Q$60*100 -> 3.1642379 | S44: =Q44-P44 -> 122 | T44: =((Q44/P44)-1)*100 -> 0.59243432
A45: Evere | B45: 23054 | C45: 22272 | D45: 21970 | E45: 21633 | F45: 21008 | G45: 21146 | H45: 20585 | I45: 21633 | J45: 21774 | K45: 21693 | L45: 21099 | M45: 21796 | N45: 23031 | O45: 23245 | P45: 22449 | Q45: 22579 | R45: =Q45/Q$60*100 -> 3.4489659 | S45: =Q45-P45 -> 130 | T45: =((Q45/P45)-1)*100 -> 0.57909038
A46: Forest | B46: 16208 | C46: 15735 | D46: 16018 | E46: 16546 | F46: 16245 | G46: 15798 | H46: 15640 | I46: 15728 | J46: 16028 | K46: 16690 | L46: 16460 | M46: 16948 | N46: 16261 | O46: 16335 | P46: 16625 | Q46: 16943 | R46: =Q46/Q$60*100 -> 2.588061 | S46: =Q46-P46 -> 318 | T46: =((Q46/P46)-1)*100 -> 1.912782
A47: Ganshoren | B47: 3749 | C47: 3917 | D47: 4009 | E47: 3988 | F47: 4213 | G47: 3978 | H47: 3828 | I47: 3704 | J47: 3636 | K47: 3700 | L47: 3756 | M47: 3719 | N47: 3634 | O47: 3725 | P47: 3819 | Q47: 3995 | R47: =Q47/Q$60*100 -> 0.61024043 | S47: =Q47-P47 -> 176 | T47: =((Q47/P47)-1)*100 -> 4.6085363
A48: Ixelles | B48: 45564 | C48: 42042 | D48: 41538 | E48: 41216 | F48: 37275 | G48: 35121 | H48: 37813 | I48: 40654 | J48: 40888 | K48: 42142 | L48: 42532 | M48: 44284 | N48: 42486 | O48: 43529 | P48: 44499 | Q48: 41366 | R48: =Q48/Q$60*100 -> 6.3186998 | S48: =Q48-P48 -> -3133 | T48: =((Q48/P48)-1)*100 -> -7.0406077
A49: Jette | B49: 12370 | C49: 12620 | D49: 12810 | E49: 13131 | F49: 12986 | G49: 12960 | H49: 13162 | I49: 13004 | J49: 12913 | K49: 13145 | L49: 13544 | M49: 13795 | N49: 13771 | O49: 14095 | P49: 14792 | Q49: 14832 | R49: =Q49/Q$60*100 -> 2.2656035 | S49: =Q49-P49 -> 40 | T49: =((Q49/P49)-1)*100 -> 0.27041644
A50: Koekelberg | B50: 3147 | C50: 3190 | D50: 4493 | E50: 4638 | F50: 3230 | G50: 3051 | H50: 3327 | I50: 3208 | J50: 2830 | K50: 2942 | L50: 3065 | M50: 3293 | N50: 3036 | O50: 3065 | P50: 2645 | Q50: 2643 | R50: =Q50/Q$60*100 -> 0.40372102 | S50: =Q50-P50 -> -2 | T50: =((Q50/P50)-1)*100 -> -0.075614367
A51: Molenbeek-St-Jean | B51: 25504 | C51: 25521 | D51: 25407 | E51: 25080 | F51: 24892 | G51: 25497 | H51: 26236 | I51: 26620 | J51: 26310 | K51: 26269 | L51: 26359 | M51: 27267 | N51: 25527 | O51: 25062 | P51: 25193 | Q51: 25578 | R51: =Q51/Q$60*100 -> 3.9070663 | S51: =Q51-P51 -> 385 | T51: =((Q51/P51)-1)*100 -> 1.5282023
... A58: Woluwe-St-Pierre | B58: 11482 | C58: 10987 | D58: 11280 | E58: 11220 | F58: 11150 | G58: 12231 | H58: 12030 | I58: 11832 | J58: 12653 | K58: 12108 | L58: 12424 | M58: 12151 | N58: 11984 | O58: 13105 | P58: 12734 | Q58: 12185 | R58: =Q58/Q$60*100 -> 1.8612715 | S58: =Q58-P58 -> -549 | T58: =((Q58/P58)-1)*100 -> -4.3112926
A59: Commune non déterminée* | B59: _ | C59: _ | D59: _ | E59: _ | F59: _ | G59: _ | H59: 1742 | I59: 1442 | J59: 1515 | K59: 1689 | L59: 1683 | M59: 1710 | N59: 1739 | O59: 1952 | P59: 2101 | Q59: 2058 | R59: =Q59/Q$60*100 -> 0.31436165 | S59: =Q59-P59 -> -43 | T59: =((Q59/P59)-1)*100 -> -2.0466445
A60: Région bruxelloise | B60: 621483 | C60: 620875 | D60: 628728 | E60: 632739 | F60: 626503 | G60: 621821 | H60: 619676 | I60: 620429 | J60: 620808 | K60: 625914 | L60: 630619 | M60: =SUM(M40:M59) -> 639315 | N60: =SUM(N40:N59) -> 633253 | O60: =SUM(O40:O59) -> 643198 | P60: 650883 | Q60: 654660 | R60: =Q60/Q$60*100 -> 100 | S60: =Q60-P60 -> 3777 | T60: =((Q60/P60)-1)*100 -> 0.58028862
A61: Région flamande | B61: 2160072 | C61: 2146956 | D61: 2170097 | E61: 2183163 | F61: 2186590 | G61: 2181218 | H61: 2202641 | I61: 2222548 | J61: 2254310 | K61: 2296340 | L61: 2342097 | M61: 2382023 | N61: 2352571 | O61: 2407534 | P61: 2458334 | Q61: 2473337 | S61: =Q61-P61 -> 15003 | T61: =((Q61/P61)-1)*100 -> 0.61029136
A62: Région wallonne | B62: 993699 | C62: 993185 | D62: 1017610 | E62: 1019767 | F62: 1013476 | G62: 1010173 | H62: 1013134 | I62: 1020617 | J62: 1035312 | K62: 1050689 | L62: 1064796 | M62: 1078275 | N62: 1074777 | O62: 1101440 | P62: 1113022 | Q62: 1117879 | S62: =Q62-P62 -> 4857 | T62: =((Q62/P62)-1)*100 -> 0.43637951
A63: Belgique | B63: 3775254 | C63: 3761016 | D63: 3816435 | E63: 3835669 | F63: 3826569 | G63: 3813212 | H63: 3835451 | I63: 3863594 | J63: 3910430 | K63: 3972943 | L63: 4037512 | M63: =SUM(M60:M62) -> 4099613 | N63: =SUM(N60:N62) -> 4060601 | O63: =SUM(O60:O62) -> 4152172 | P63: 4222239 | Q63: 4245876 | S63: =Q63-P63 -> 23637 | T63: =((Q63/P63)-1)*100 -> 0.55982146
A64: % Région bruxelloise/Belgique | B64: 16.462018 | C64: 16.508172 | D64: 16.474223 | E64: 16.496184 | F64: 16.372447 | G64: 16.307014 | H64: 16.156535 | I64: 16.058338 | J64: 15.875697 | K64: =K60/K63*100 -> 15.754417 | L64: =L60/L63*100 -> 15.619 | M64: =M60/M63*100 -> 15.594521 | N64: =N60/N63*100 -> 15.595056 | O64: =O60/O63*100 -> 15.49064 | P64: =P60/P63*100 -> 15.415589 | Q64: =Q60/Q63*100 -> 15.418726
A65: * Concerne les postes de travail salarié dans une entreprise étrangère sans unité locale d'établissement en Belgique. Ceux-ci sont comptabilisés au sein de la région bruxelloise mais ne sont pas attribués à une commune spécifique.
A66: Note : Jusqu'en 2002, les données sont établies au 30 juin. A partir de 2003, elles sont établies au 31 décembre.
A67: Note : Pour l'année 2014, les données communales de l'ONSS diffèrent légèrement des données régionales. Les différences proviennent du fait que le fichier pour les régions compte également les postes de travail occupés par des travailleurs auprès d'employeurs étrangers sans établissement identifié en Belgique.
A68: Source : ONSS, calculs view.brussels

Sheet F.4.2
A1: F. Caractéristiques des communes de la Région bruxelloise | W1: Retour au menu
A3: F.4. Emploi salarié
A5: Tableau F.4.2 : Emploi salarié par commune bruxelloise et par région selon le secteur d'activité (31 décembre 2023)
A8: (nombre) | B8: Agriculture, sylviculture et pêche | C8: Industries extractives | D8: Industrie manufacturière | E8: Production et distribution d'électricité, de gaz, de vapeur et d'air conditionné | F8: Production et distribution d'eau; assainissement, gestion des déchets et dépollution | G8: Construction | H8: Commerce de gros et de détail; réparation de vehicules automobiles et de motocycles | I8: Transports et entreposage | J8: Hébergement et restauration | K8: Information et communication | L8: Activités financières et d'assurance | M8: Activités immobilières | N8: Activités spécialisées, scientifiques et techniques | O8: Activités de services administratifs et de soutien | P8: Administration publique et defense; securité sociale obligatoire | Q8: Enseignement | R8: Santé humaine et action sociale | S8: Arts, spectacles et activités récréatives | T8: Autres activités de services | U8: Activités des ménages en tant qu'employeurs; activités indifférenciées des ménages en tant que producteurs de biens et services pour usage propre | V8: Activités des organismes extra-territoriaux | W8: Total
A11: Anderlecht | B11: 15 | D11: 3273 | E11: 94 | F11: 108 | G11: 2315 | H11: 9272 | I11: 4022 | J11: 1036 | K11: 1551 | L11: 805 | M11: 425 | N11: 1230 | O11: 6072 | P11: 4920 | Q11: 7579 | R11: 10022 | S11: 450 | T11: 1062 | U11: 7 | V11: 11 | W11: 54269
A12: Auderghem | C12: 59 | D12: 231 | F12: 12 | G12: 197 | H12: 1344 | I12: 1538 | J12: 254 | K12: 507 | L12: 699 | M12: 227 | N12: 1139 | O12: 2408 | P12: 810 | Q12: 1427 | R12: 2769 | S12: 445 | T12: 374 | U12: 13 | V12: 5 | W12: 14458
A13: Berchem-Ste-Agathe | D13: 320 | G13: 153 | H13: 1428 | I13: 223 | J13: 119 | K13: 238 | L13: 194 | M13: 56 | N13: 405 | O13: 2851 | P13: 589 | Q13: 1315 | R13: 1683 | S13: 51 | T13: 59 | U13: 1 | W13: 9685
A14: Bruxelles | B14: 8 | D14: 4424 | E14: 3856 | F14: 1489 | G14: 3133 | H14: 16027 | I14: 12576 | J14: 13430 | K14: 8209 | L14: 29989 | M14: 1474 | N14: 21296 | O14: 19081 | P14: 49586 | Q14: 20467 | R14: 17113 | S14: 5102 | T14: 13334 | U14: 84 | V14: 1951 | W14: 242629
A15: Etterbeek | B15: 2 | D15: 202 | E15: 6 | G15: 142 | H15: 1338 | I15: 235 | J15: 839 | K15: 556 | L15: 3678 | M15: 246 | N15: 1369 | O15: 2567 | P15: 3014 | Q15: 2598 | R15: 2073 | S15: 474 | T15: 1211 | U15: 19 | V15: 146 | W15: 20715
A16: Evere | D16: 326 | F16: 17 | G16: 531 | H16: 1797 | I16: 330 | J16: 387 | K16: 2229 | L16: 340 | M16: 168 | N16: 2067 | O16: 4600 | P16: 6484 | Q16: 1196 | R16: 1565 | S16: 135 | T16: 319 | U16: 3 | V16: 85 | W16: 22579
A17: Forest | D17: 3780 | E17: 1 | F17: 240 | G17: 847 | H17: 1174 | I17: 934 | J17: 319 | K17: 347 | L17: 246 | M17: 147 | N17: 451 | O17: 2775 | P17: 1424 | Q17: 1735 | R17: 1996 | S17: 290 | T17: 228 | U17: 8 | V17: 1 | W17: 16943
A18: Ganshoren | D18: 158 | G18: 145 | H18: 244 | I18: 64 | J18: 97 | K18: 32 | L18: 33 | M18: 163 | N18: 67 | O18: 662 | P18: 363 | Q18: 1156 | R18: 666 | S18: 58 | T18: 87 | W18: 3995
A19: Ixelles | B19: 1 | D19: 671 | E19: 22 | F19: 19 | G19: 351 | H19: 4229 | I19: 922 | J19: 3162 | K19: 2969 | L19: 1599 | M19: 646 | N19: 3829 | O19: 3825 | P19: 3950 | Q19: 7475 | R19: 4255 | S19: 677 | T19: 2452 | U19: 85 | V19: 227 | W19: 41366
A20: Jette | D20: 114 | E20: 0 | G20: 283 | H20: 1453 | I20: 303 | J20: 222 | K20: 34 | L20: 85 | M20: 61 | N20: 218 | O20: 2602 | P20: 889 | Q20: 2433 | R20: 5761 | S20: 228 | T20: 142 | U20: 4 | W20: 14832
A21: Koekelberg | D21: 283 | G21: 30 | H21: 154 | I21: 132 | J21: 42 | K21: 62 | L21: 18 | M21: 44 | N21: 100 | O21: 272 | P21: 465 | Q21: 671 | R21: 260 | S21: 32 | T21: 77 | U21: 1 | W21: 2643
A22: Molenbeek-St-Jean | D22: 317 | F22: 16 | G22: 320 | H22: 1713 | I22: 2249 | J22: 445 | K22: 306 | L22: 1959 | M22: 345 | N22: 1660 | O22: 1896 | P22: 6228 | Q22: 3905 | R22: 3006 | S22: 419 | T22: 774 | U22: 18 | V22: 2 | W22: 25578
A23: St-Gilles | B23: 0 | D23: 253 | E23: 6 | F23: 86 | G23: 346 | H23: 1199 | I23: 7141 | J23: 1879 | K23: 2997 | L23: 869 | M23: 369 | N23: 2219 | O23: 2709 | P23: 8407 | Q23: 2167 | R23: 2297 | S23: 825 | T23: 1188 | U23: 16 | V23: 23 | W23: 34996
A24: St-Josse-ten-Noode | D24: 459 | E24: 498 | F24: 58 | G24: 183 | H24: 614 | I24: 90 | J24: 1076 | K24: 5782 | L24: 10067 | M24: 89 | N24: 1338 | O24: 4586 | P24: 8504 | Q24: 1892 | R24: 1924 | S24: 271 | T24: 1394 | W24: 38825
A25: Schaerbeek | B25: 67 | D25: 243 | E25: 6 | F25: 832 | G25: 1390 | H25: 2391 | I25: 2272 | J25: 798 | K25: 5762 | L25: 391 | M25: 306 | N25: 776 | O25: 2325 | P25: 11034 | Q25: 4404 | R25: 4544 | S25: 401 | T25: 1998 | U25: 17 | V25: 26 | W25: 39983
A26: Uccle | B26: 5 | D26: 1130 | F26: 82 | G26: 757 | H26: 2309 | I26: 182 | J26: 1042 | K26: 406 | L26: 323 | M26: 512 | N26: 1530 | O26: 3090 | P26: 1704 | Q26: 4656 | R26: 5421 | S26: 341 | T26: 566 | U26: 117 | V26: 68 | W26: 24241
A27: Watermael-Boitsfort | B27: 9 | D27: 69 | G27: 657 | H27: 1053 | I27: 4 | J27: 235 | K27: 481 | L27: 827 | M27: 267 | N27: 1431 | O27: 268 | P27: 490 | Q27: 975 | R27: 1287 | S27: 116 | T27: 201 | U27: 9 | V27: 25 | W27: 8404
A28: Woluwe-St-Lambert | B28: 5 | D28: 158 | F28: 4 | G28: 858 | H28: 2405 | I28: 132 | J28: 716 | K28: 1176 | L28: 292 | M28: 458 | N28: 976 | O28: 2466 | P28: 1141 | Q28: 4634 | R28: 8007 | S28: 273 | T28: 522 | U28: 14 | V28: 39 | W28: 24276
A29: Woluwe-St-Pierre | B29: 1 | D29: 89 | F29: 504 | G29: 67 | H29: 1019 | I29: 169 | J29: 443 | K29: 358 | L29: 423 | M29: 161 | N29: 1326 | O29: 2971 | P29: 557 | Q29: 2108 | R29: 1203 | S29: 136 | T29: 485 | U29: 61 | V29: 104 | W29: 12185
A30: Commune non déterminée* | B30: 2 | C30: 3 | D30: 232 | E30: 6 | G30: 18 | H30: 441 | I30: 24 | J30: 2 | K30: 263 | L30: 93 | M30: 1 | N30: 447 | O30: 151 | Q30: 41 | R30: 11 | S30: 13 | T30: 263 | U30: 33 | V30: 14 | W30: 2058
A31: Région bruxelloise | B31: 115 | C31: 62 | D31: 16732 | E31: 4495 | F31: 3467 | G31: 12723 | H31: 51604 | I31: 33542 | J31: 26543 | K31: 34265 | L31: 52930 | M31: 6165 | N31: 43874 | O31: 68177 | P31: 110559 | Q31: 72834 | R31: 75863 | S31: 10737 | T31: 26736 | U31: 510 | V31: 2727 | W31: 654660
A32: Région flamande | B32: 14270 | C32: 468 | D32: 343600 | E32: 9428 | F32: 19301 | G32: 138105 | H32: 328448 | I32: 155107 | J32: 85063 | K32: 72329 | L32: 47448 | M32: 10929 | N32: 126652 | O32: 279397 | P32: 151535 | Q32: 248739 | R32: 376760 | S32: 31157 | T32: 30294 | U32: 4214 | V32: 93 | W32: 2473337
A33: Région wallonne | B33: 4336 | C33: 1684 | D33: 125353 | E33: 6232 | F33: 11198 | G33: 63974 | H33: 134720 | I33: 53591 | J33: 36941 | K33: 18967 | L33: 18277 | M33: 6236 | N33: 34641 | O33: 100189 | P33: 125871 | Q33: 141012 | R33: 197021 | S33: 16268 | T33: 20520 | U33: 400 | V33: 448 | W33: 1117879
A34: Belgique | B34: =SUM(B31:B33) -> 18721 | C34: =SUM(C31:C33) -> 2214 | D34: =SUM(D31:D33) -> 485685 | E34: =SUM(E31:E33) -> 20155 | F34: =SUM(F31:F33) -> 33966 | G34: =SUM(G31:G33) -> 214802 | H34: =SUM(H31:H33) -> 514772 | I34: =SUM(I31:I33) -> 242240 | ... W34: =SUM(W31:W33) -> 4245876
A35: % Région bruxelloise/Belgique | B35: =B31/B34*100 -> 0.61428343 | C35: =C31/C34*100 -> 2.8003613 | D35: =D31/D34*100 -> 3.4450312 | E35: =E31/E34*100 -> 22.302158 | F35: =F31/F34*100 -> 10.207266 | G35: =G31/G34*100 -> 5.9231292 | H35: =H31/H34*100 -> 10.024632 | I35: =I31/I34*100 -> 13.846598 | ... W35: =W31/W34*100 -> 15.418726
A36: * Concerne les postes de travail salarié dans une entreprise étrangère sans unité locale d'établissement en Belgique. Ceux-ci sont comptabilisés au sein de la région bruxelloise mais ne sont pas attribués à une commune spécifique.
A38: Source : ONSS, calculs view.brussels
A41: (%) | B41: Agriculture, sylviculture et pêche | C41: Industries extractives | D41: Industrie manufacturière | E41: Production et distribution d'électricité, de gaz, de vapeur et d'air conditionné | F41: Production et distribution d'eau; assainissement, gestion des déchets et dépollution | G41: Construction | H41: Commerce de gros et de détail; réparation de vehicules automobiles et de motocycles | I41: Transports et entreposage | J41: Hébergement et restauration | K41: Information et communication | L41: Activités financières et d'assurance | M41: Activités immobilières | N41: Activités spécialisées, scientifiques et techniques | O41: Activités de services administratifs et de soutien | P41: Administration publique et defense; securité sociale obligatoire | Q41: Enseignement | R41: Santé humaine et action sociale | S41: Arts, spectacles et activités récréatives | T41: Autres activités de services | U41: Activités des ménages en tant qu'employeurs; activités indifférenciées des ménages en tant que producteurs de biens et services pour usage propre | V41: Activités des organismes extra-territoriaux | W41: Total
A44: Anderlecht | B44: =B11/$W11*100 -> 0.027640089 | C44: =C11/$W11*100 -> 0 | D44: =D11/$W11*100 -> 6.0310675 | E44: =E11/$W11*100 -> 0.17321123 | F44: =F11/$W11*100 -> 0.19900864 | G44: =G11/$W11*100 -> 4.2657871 | H44: =H11/$W11*100 -> 17.08526 | I44: =I11/$W11*100 -> 7.4112292 | ... W44: =W11/$W11*100 -> 100
A45: Auderghem | B45: =B12/$W12*100 -> 0 | C45: =C12/$W12*100 -> 0.40807857 | D45: =D12/$W12*100 -> 1.5977314 | E45: =E12/$W12*100 -> 0 | F45: =F12/$W12*100 -> 0.082999032 | G45: =G12/$W12*100 -> 1.3625674 | H45: =H12/$W12*100 -> 9.2958915 | I45: =I12/$W12*100 -> 10.637709 | ... W45: =W12/$W12*100 -> 100
A46: Berchem-Ste-Agathe | B46: =B13/$W13*100 -> 0 | C46: =C13/$W13*100 -> 0 | D46: =D13/$W13*100 -> 3.3040785 | E46: =E13/$W13*100 -> 0 | F46: =F13/$W13*100 -> 0 | G46: =G13/$W13*100 -> 1.5797625 | H46: =H13/$W13*100 -> 14.74445 | I46: =I13/$W13*100 -> 2.3025297 | ... W46: =W13/$W13*100 -> 100
A47: Bruxelles | B47: =B14/$W14*100 -> 0.0032972151 | C47: =C14/$W14*100 -> 0 | D47: =D14/$W14*100 -> 1.8233599 | E47: =E14/$W14*100 -> 1.5892577 | F47: =F14/$W14*100 -> 0.61369416 | G47: =G14/$W14*100 -> 1.2912719 | H47: =H14/$W14*100 -> 6.6055583 | I47: =I14/$W14*100 -> 5.1832221 | ... W47: =W14/$W14*100 -> 100
A48: Etterbeek | B48: =B15/$W15*100 -> 0.0096548395 | C48: =C15/$W15*100 -> 0 | D48: =D15/$W15*100 -> 0.97513879 | E48: =E15/$W15*100 -> 0.028964518 | F48: =F15/$W15*100 -> 0 | G48: =G15/$W15*100 -> 0.6854936 | H48: =H15/$W15*100 -> 6.4590876 | I48: =I15/$W15*100 -> 1.1344436 | ... W48: =W15/$W15*100 -> 100
A49: Evere | B49: =B16/$W16*100 -> 0 | C49: =C16/$W16*100 -> 0 | D49: =D16/$W16*100 -> 1.4438195 | E49: =E16/$W16*100 -> 0 | F49: =F16/$W16*100 -> 0.0752912 | G49: =G16/$W16*100 -> 2.3517428 | H49: =H16/$W16*100 -> 7.9587227 | I49: =I16/$W16*100 -> 1.4615351 | ... W49: =W16/$W16*100 -> 100
A50: Forest | B50: =B17/$W17*100 -> 0 | C50: =C17/$W17*100 -> 0 | D50: =D17/$W17*100 -> 22.310099 | E50: =E17/$W17*100 -> 0.0059021425 | F50: =F17/$W17*100 -> 1.4165142 | G50: =G17/$W17*100 -> 4.9991147 | H50: =H17/$W17*100 -> 6.9291153 | I50: =I17/$W17*100 -> 5.5126011 | ... W50: =W17/$W17*100 -> 100
A51: Ganshoren | B51: =B18/$W18*100 -> 0 | C51: =C18/$W18*100 -> 0 | D51: =D18/$W18*100 -> 3.9549437 | E51: =E18/$W18*100 -> 0 | F51: =F18/$W18*100 -> 0 | G51: =G18/$W18*100 -> 3.6295369 | H51: =H18/$W18*100 -> 6.1076345 | I51: =I18/$W18*100 -> 1.6020025 | ... W51: =W18/$W18*100 -> 100
A52: Ixelles | B52: =B19/$W19*100 -> 0.0024174443 | C52: =C19/$W19*100 -> 0 | D52: =D19/$W19*100 -> 1.6221051 | E52: =E19/$W19*100 -> 0.053183774 | F52: =F19/$W19*100 -> 0.045931441 | G52: =G19/$W19*100 -> 0.84852294 | H52: =H19/$W19*100 -> 10.223372 | I52: =I19/$W19*100 -> 2.2288836 | ... W52: =W19/$W19*100 -> 100
A53: Jette | B53: =B20/$W20*100 -> 0 | C53: =C20/$W20*100 -> 0 | D53: =D20/$W20*100 -> 0.76860841 | E53: =E20/$W20*100 -> 0 | F53: =F20/$W20*100 -> 0 | G53: =G20/$W20*100 -> 1.9080367 | H53: =H20/$W20*100 -> 9.7963862 | I53: =I20/$W20*100 -> 2.0428803 | ... W53: =W20/$W20*100 -> 100
A54: Koekelberg | B54: =B21/$W21*100 -> 0 | C54: =C21/$W21*100 -> 0 | D54: =D21/$W21*100 -> 10.707529 | E54: =E21/$W21*100 -> 0 | F54: =F21/$W21*100 -> 0 | G54: =G21/$W21*100 -> 1.1350738 | H54: =H21/$W21*100 -> 5.8267121 | I54: =I21/$W21*100 -> 4.9943246 | ... W54: =W21/$W21*100 -> 100
A55: Molenbeek-St-Jean | B55: =B22/$W22*100 -> 0 | C55: =C22/$W22*100 -> 0 | D55: =D22/$W22*100 -> 1.2393463 | E55: =E22/$W22*100 -> 0 | F55: =F22/$W22*100 -> 0.062553757 | G55: =G22/$W22*100 -> 1.2510751 | H55: =H22/$W22*100 -> 6.6971616 | I55: =I22/$W22*100 -> 8.7927125 | ... W55: =W22/$W22*100 -> 100
... A67: Belgique | B67: =B34/$W34*100 -> 0.44092197 | C67: =C34/$W34*100 -> 0.052144716 | D67: =D34/$W34*100 -> 11.438982 | E67: =E34/$W34*100 -> 0.47469592 | F67: =F34/$W34*100 -> 0.79997626 | G67: =G34/$W34*100 -> 5.0590738 | H67: =H34/$W34*100 -> 12.124047 | I67: =I34/$W34*100 -> 5.7053009 | ... W67: =W34/$W34*100 -> 100
A68: * Concerne les postes de travail salarié dans une entreprise étrangère sans unité locale d'établissement en Belgique. Ceux-ci sont comptabilisés au sein de la région bruxelloise mais ne sont pas attribués à une commune spécifique.
A70: Source : ONSS, calculs view.brussels

Sheet F.4.3
A1: F. Caractéristiques des communes de la Région bruxelloise | K1: Retour au menu
A3: F.4. Emploi salarié
A5: Tableau F.4.3 : Emploi salarié par commune bruxelloise et région selon le genre, le statut, le type d'activité et la taille d’établissement (31 décembre 2023)
A7: (nombre) | B7: Genre | D7: Statut | F7: Privé / public | H7: Taille d’établissement | K7: Total
B8: Hommes | C8: Femmes | D8: Manuel | E8: Intellectuel | F8: Privé | G8: Public | H8: 1 à 49 | I8: 50 à 199 | J8: > 200
A9: Anderlecht | B9: 27135 | C9: 27134 | D9: 12637 | E9: 41632 | F9: 36589 | G9: 17680 | H9: 17074 | I9: 10883 | J9: 26312 | K9: =SUM(B9:C9) -> 54269
A10: Auderghem | B10: 6534 | C10: 7924 | D10: 4248 | E10: 10210 | F10: 10172 | G10: 4286 | H10: 5253 | I10: 4748 | J10: 4457 | K10: =SUM(B10:C10) -> 14458
A11: Berchem-Ste-Agathe | B11: 4243 | C11: 5442 | D11: 2322 | E11: 7363 | F11: 7529 | G11: 2156 | H11: 3268 | I11: 2700 | J11: 3717 | K11: =SUM(B11:C11) -> 9685
A12: Bruxelles | B12: 123904 | C12: 118725 | D12: 36224 | E12: 206405 | F12: 142774 | G12: 99855 | H12: 69457 | I12: 46930 | J12: 126242 | K12: =SUM(B12:C12) -> 242629
A13: Etterbeek | B13: 8899 | C13: 11816 | D13: 4187 | E13: 16528 | F13: 14597 | G13: 6118 | H13: 8191 | I13: 4800 | J13: 7724 | K13: =SUM(B13:C13) -> 20715
A14: Evere | B14: 13001 | C14: 9578 | D14: 6104 | E14: 16475 | F14: 14507 | G14: 8072 | H14: 5391 | I14: 4692 | J14: 12496 | K14: =SUM(B14:C14) -> 22579
A15: Forest | B15: 10259 | C15: 6684 | D15: 7459 | E15: 9484 | F15: 11895 | G15: 5048 | H15: 6653 | I15: 3626 | J15: 6664 | K15: =SUM(B15:C15) -> 16943
A16: Ganshoren | B16: 1539 | C16: 2456 | D16: 1257 | E16: 2738 | F16: 2254 | G16: 1741 | H16: 1896 | I16: 1840 | J16: 259 | K16: =SUM(B16:C16) -> 3995
A17: Ixelles | B17: 18751 | C17: 22615 | D17: 7598 | E17: 33768 | F17: 27564 | G17: 13802 | H17: 19194 | I17: 8775 | J17: 13397 | K17: =SUM(B17:C17) -> 41366
A18: Jette | B18: 5239 | C18: 9593 | D18: 3951 | E18: 10881 | F18: 11294 | G18: 3538 | H18: 4768 | I18: 3575 | J18: 6489 | K18: =SUM(B18:C18) -> 14832
A19: Koekelberg | B19: 1085 | C19: 1558 | D19: 814 | E19: 1829 | F19: 1373 | G19: 1270 | H19: 1524 | I19: 836 | J19: 283 | K19: =SUM(B19:C19) -> 2643
A20: Molenbeek-St-Jean | B20: 11783 | C20: 13795 | D20: 5791 | E20: 19787 | F20: 14523 | G20: 11055 | H20: 9464 | I20: 5042 | J20: 11072 | K20: =SUM(B20:C20) -> 25578
... A28: Commune non déterminée* | B28: 1277 | C28: 781 | D28: 362 | E28: 1696 | F28: 2057 | G28: 1 | H28: 1817 | I28: 241 | J28: 0 | K28: =SUM(B28:C28) -> 2058
A29: Région bruxelloise | B29: 315794 | C29: 338866 | D29: 124894 | E29: 529766 | F29: 405355 | G29: 249305 | H29: 210380 | I29: 135021 | J29: 309259 | K29: =SUM(K9:K28) -> 654660
A30: Région flamande | B30: 1259848 | C30: 1213489 | D30: 901130 | E30: 1572207 | F30: 1952109 | G30: 521228 | H30: 1021887 | I30: 708539 | J30: 742911 | K30: =SUM(B30:C30) -> 2473337
A31: Région wallonne | B31: 550008 | C31: 567871 | D31: 373626 | E31: 744253 | F31: 758518 | G31: 359361 | H31: 509758 | I31: 319497 | J31: 288624 | K31: =SUM(B31:C31) -> 1117879
A32: Belgique | B32: =SUM(B29:B31) -> 2125650 | C32: =SUM(C29:C31) -> 2120226 | D32: =SUM(D29:D31) -> 1399650 | E32: =K32-D32 -> 2846226 | F32: =SUM(F29:F31) -> 3115982 | G32: =SUM(G29:G31) -> 1129894 | H32: =SUM(H29:H31) -> 1742025 | I32: =SUM(I29:I31) -> 1163057 | J32: =SUM(J29:J31) -> 1340794 | K32: =SUM(K29:K31) -> 4245876
A33: % Région bruxelloise/Belgique | B33: =B29/B32*100 -> 14.85635 | C33: =C29/C32*100 -> 15.982541 | D33: =D29/D32*100 -> 8.9232308 | E33: =E29/E32*100 -> 18.612928 | F33: =F29/F32*100 -> 13.008901 | G33: =G29/G32*100 -> 22.064459 | H33: =H29/H32*100 -> 12.07675 | I33: =I29/I32*100 -> 11.609147 | J33: =J29/J32*100 -> 23.065363
A34: * Concerne les postes de travail salarié dans une entreprise étrangère sans unité locale d'établissement en Belgique. Ceux-ci sont comptabilisés au sein de la région bruxelloise mais ne sont pas attribués à une commune spécifique.
A35: Source : ONSS, calculs view.brussels
A37: (%) | B37: Genre | D37: Statut | F37: Privé / public | H37: Taille d’établissement
B38: Hommes | C38: Femmes | D38: Manuel | E38: Intellectuel | F38: Privé | G38: Public | H38: 1 à 49 | I38: 50 à 199 | J38: > 200
A39: Anderlecht | B39: =B9/$K9*100 -> 50.000921 | C39: =C9/$K9*100 -> 49.999079 | D39: =D9/$K9*100 -> 23.285854 | E39: =E9/$K9*100 -> 76.714146 | F39: =F9/$K9*100 -> 67.421548 | G39: =G9/$K9*100 -> 32.578452 | H39: =H9/$K9*100 -> 31.461792 | I39: =I9/$K9*100 -> 20.053806 | J39: =J9/$K9*100 -> 48.484402
A40: Auderghem | B40: =B10/$K10*100 -> 45.192973 | C40: =C10/$K10*100 -> 54.807027 | D40: =D10/$K10*100 -> 29.381657 | E40: =E10/$K10*100 -> 70.618343 | F40: =F10/$K10*100 -> 70.355513 | G40: =G10/$K10*100 -> 29.644487 | H40: =H10/$K10*100 -> 36.332826 | I40: =I10/$K10*100 -> 32.83995 | J40: =J10/$K10*100 -> 30.827224
A41: Berchem-Ste-Agathe | B41: =B11/$K11*100 -> 43.810015 | C41: =C11/$K11*100 -> 56.189985 | D41: =D11/$K11*100 -> 23.975219 | E41: =E11/$K11*100 -> 76.024781 | F41: =F11/$K11*100 -> 77.738771 | G41: =G11/$K11*100 -> 22.261229 | H41: =H11/$K11*100 -> 33.742901 | I41: =I11/$K11*100 -> 27.878162 | J41: =J11/$K11*100 -> 38.378936
A42: Bruxelles | B42: =B12/$K12*100 -> 51.067267 | C42: =C12/$K12*100 -> 48.932733 | D42: =D12/$K12*100 -> 14.92979 | E42: =E12/$K12*100 -> 85.07021 | F42: =F12/$K12*100 -> 58.844573 | G42: =G12/$K12*100 -> 41.155427 | H42: =H12/$K12*100 -> 28.626834 | I42: =I12/$K12*100 -> 19.342288 | J42: =J12/$K12*100 -> 52.030878
A43: Etterbeek | B43: =B13/$K13*100 -> 42.959208 | C43: =C13/$K13*100 -> 57.040792 | D43: =D13/$K13*100 -> 20.212406 | E43: =E13/$K13*100 -> 79.787594 | F43: =F13/$K13*100 -> 70.465846 | G43: =G13/$K13*100 -> 29.534154 | H43: =H13/$K13*100 -> 39.541395 | I43: =I13/$K13*100 -> 23.171615 | J43: =J13/$K13*100 -> 37.28699
A44: Evere | B44: =B14/$K14*100 -> 57.580052 | C44: =C14/$K14*100 -> 42.419948 | D44: =D14/$K14*100 -> 27.03397 | E44: =E14/$K14*100 -> 72.96603 | F44: =F14/$K14*100 -> 64.249967 | G44: =G14/$K14*100 -> 35.750033 | H44: =H14/$K14*100 -> 23.876168 | I44: =I14/$K14*100 -> 20.780371 | J44: =J14/$K14*100 -> 55.343461
A45: Forest | B45: =B15/$K15*100 -> 60.55008 | C45: =C15/$K15*100 -> 39.44992 | D45: =D15/$K15*100 -> 44.024081 | E45: =E15/$K15*100 -> 55.975919 | F45: =F15/$K15*100 -> 70.205985 | G45: =G15/$K15*100 -> 29.794015 | H45: =H15/$K15*100 -> 39.266954 | I45: =I15/$K15*100 -> 21.401169 | J45: =J15/$K15*100 -> 39.331877
A46: Ganshoren | B46: =B16/$K16*100 -> 38.523154 | C46: =C16/$K16*100 -> 61.476846 | D46: =D16/$K16*100 -> 31.46433 | E46: =E16/$K16*100 -> 68.53567 | F46: =F16/$K16*100 -> 56.420526 | G46: =G16/$K16*100 -> 43.579474 | H46: =H16/$K16*100 -> 47.459324 | I46: =I16/$K16*100 -> 46.057572 | J46: =J16/$K16*100 -> 6.4831039
A47: Ixelles | B47: =B17/$K17*100 -> 45.329498 | C47: =C17/$K17*100 -> 54.670502 | D47: =D17/$K17*100 -> 18.367742 | E47: =E17/$K17*100 -> 81.632258 | F47: =F17/$K17*100 -> 66.634434 | G47: =G17/$K17*100 -> 33.365566 | H47: =H17/$K17*100 -> 46.400425 | I47: =I17/$K17*100 -> 21.213074 | J47: =J17/$K17*100 -> 32.386501
A48: Jette | B48: =B18/$K18*100 -> 35.322276 | C48: =C18/$K18*100 -> 64.677724 | D48: =D18/$K18*100 -> 26.63835 | E48: =E18/$K18*100 -> 73.36165 | F48: =F18/$K18*100 -> 76.14617 | G48: =G18/$K18*100 -> 23.85383 | H48: =H18/$K18*100 -> 32.14671 | I48: =I18/$K18*100 -> 24.10329 | J48: =J18/$K18*100 -> 43.75
A49: Koekelberg | B49: =B19/$K19*100 -> 41.051835 | C49: =C19/$K19*100 -> 58.948165 | D49: =D19/$K19*100 -> 30.798335 | E49: =E19/$K19*100 -> 69.201665 | F49: =F19/$K19*100 -> 51.948543 | G49: =G19/$K19*100 -> 48.051457 | H49: =H19/$K19*100 -> 57.661748 | I49: =I19/$K19*100 -> 31.630723 | J49: =J19/$K19*100 -> 10.707529
A50: Molenbeek-St-Jean | B50: =B20/$K20*100 -> 46.066933 | C50: =C20/$K20*100 -> 53.933067 | D50: =D20/$K20*100 -> 22.64055 | E50: =E20/$K20*100 -> 77.35945 | F50: =F20/$K20*100 -> 56.779263 | G50: =G20/$K20*100 -> 43.220737 | H50: =H20/$K20*100 -> 37.000547 | I50: =I20/$K20*100 -> 19.712253 | J50: =J20/$K20*100 -> 43.2872
... A62: Belgique | B62: =B32/$K32*100 -> 50.063874 | C62: =C32/$K32*100 -> 49.936126 | D62: =D32/$K32*100 -> 32.964929 | E62: =E32/$K32*100 -> 67.035071 | F62: =F32/$K32*100 -> 73.388436 | G62: =G32/$K32*100 -> 26.611564 | H62: =H32/$K32*100 -> 41.028636 | I62: =I32/$K32*100 -> 27.392628 | J62: =J32/$K32*100 -> 31.578737
A63: * Concerne les postes de travail salarié dans une entreprise étrangère sans unité locale d'établissement en Belgique. Ceux-ci sont comptabilisés au sein de la région bruxelloise mais ne sont pas attribués à une commune spécifique.
A64: Source : ONSS, calculs view.brussels

Sheet F.5.1
A1: F. Caractéristiques des communes de la Région bruxelloise | Q1: Retour au menu
A3: F.5. Etablissements
A5: Tableau F.5.1 : Evolution du nombre d'établissements par commune bruxelloise et par région (1992-2023)
A7: Total | B7: 1992 | C7: 1993 | D7: 1994 | E7: 1995 | F7: 1996 | G7: 1997 | H7: 1998 | I7: 1999 | J7: 2000 | K7: 2001 | L7: 2002 | M7: 2003 | N7: 2004 | O7: 2005 | P7: 2006 | Q7: 2007
A9: Anderlecht | B9: 2506 | C9: 2528 | D9: 2485 | E9: 2492 | F9: 2504 | G9: 2484 | H9: 2503 | I9: 2517 | J9: 2553 | K9: 2589 | L9: 2560 | M9: 2518 | N9: 2627 | O9: 2573 | P9: 2530 | Q9: 2589
A10: Auderghem | B10: 849 | C10: 862 | D10: 857 | E10: 841 | F10: 833 | G10: 802 | H10: 812 | I10: 826 | J10: 850 | K10: 868 | L10: 842 | M10: 819 | N10: 816 | O10: 804 | P10: 825 | Q10: 858
A11: Berchem-Ste-Agathe | B11: 441 | C11: 437 | D11: 439 | E11: 443 | F11: 430 | G11: 429 | H11: 450 | I11: 443 | J11: 466 | K11: 469 | L11: 450 | M11: 435 | N11: 460 | O11: 441 | P11: 453 | Q11: 454
A12: Bruxelles | B12: 9390 | C12: 9189 | D12: 9070 | E12: 9055 | F12: 9022 | G12: 8977 | H12: 9098 | I12: 9166 | J12: 9209 | K12: 9332 | L12: 9330 | M12: 9282 | N12: 9436 | O12: 9127 | P12: 9294 | Q12: 9714
A13: Etterbeek | B13: 1468 | C13: 1482 | D13: 1462 | E13: 1432 | F13: 1445 | G13: 1402 | H13: 1440 | I13: 1410 | J13: 1412 | K13: 1392 | L13: 1395 | M13: 1405 | N13: 1413 | O13: 1416 | P13: 1467 | Q13: 1459
A14: Evere | B14: 712 | C14: 720 | D14: 737 | E14: 721 | F14: 725 | G14: 683 | H14: 696 | I14: 713 | J14: 717 | K14: 744 | L14: 723 | M14: 734 | N14: 708 | O14: 704 | P14: 728 | Q14: 732
A15: gorest | B15: 1201 | C15: 1189 | D15: 1166 | E15: 1175 | F15: 1199 | G15: 1166 | H15: 1179 | I15: 1180 | J15: 1190 | K15: 1203 | L15: 1215 | M15: 1168 | N15: 1129 | O15: 1096 | P15: 1137 | Q15: 1124
A16: Ganshoren | B16: 388 | C16: 398 | D16: 411 | E16: 407 | F16: 403 | G16: 395 | H16: 391 | I16: 392 | J16: 396 | K16: 385 | L16: 383 | M16: 390 | N16: 382 | O16: 381 | P16: 375 | Q16: 374
A17: Ixelles | B17: 3388 | C17: 3292 | D17: 3203 | E17: 3147 | F17: 3125 | G17: 3134 | H17: 3210 | I17: 3167 | J17: 3284 | K17: 3215 | L17: 3185 | M17: 3211 | N17: 3281 | O17: 3461 | P17: 3627 | Q17: 3576
A18: Jette | B18: 847 | C18: 858 | D18: 832 | E18: 811 | F18: 817 | G18: 825 | H18: 845 | I18: 842 | J18: 854 | K18: 857 | L18: 847 | M18: 818 | N18: 836 | O18: 798 | P18: 823 | Q18: 844
A19: Koekelberg | B19: 406 | C19: 423 | D19: 403 | E19: 377 | F19: 366 | G19: 346 | H19: 342 | I19: 354 | J19: 352 | K19: 351 | L19: 331 | M19: 326 | N19: 330 | O19: 317 | P19: 347 | Q19: 336
... A27: Woluwe-St-Pierre | B27: 1174 | C27: 1169 | D27: 1163 | E27: 1159 | F27: 1176 | G27: 1161 | H27: 1165 | I27: 1205 | J27: 1205 | K27: 1188 | L27: 1145 | M27: 1122 | N27: 1119 | O27: 1097 | P27: 1100 | Q27: 1099
A28: Commune non déterminée* | B28: _ | C28: _ | D28: _ | E28: _ | F28: _ | G28: _ | H28: _ | I28: _ | J28: _ | K28: _ | L28: _ | M28: _ | N28: _ | O28: _ | P28: _ | Q28: _
A29: Région bruxelloise | B29: 33745 | C29: 33374 | D29: 33085 | E29: 32805 | F29: 32847 | G29: 32659 | H29: 32995 | I29: 32995 | J29: 33372 | K29: 33681 | L29: 33349 | M29: 32978 | N29: 33464 | O29: 32934 | P29: 33512 | Q29: 34151
A30: Région flamande | B30: 136401 | C30: 138074 | D30: 140564 | E30: 143554 | F30: 145120 | G30: 145969 | H30: 147227 | I30: 148998 | J30: 150786 | K30: 150559 | L30: 151017 | M30: 150858 | N30: 151653 | O30: 152078 | P30: 154956 | Q30: 156461
A31: Région wallonne | B31: 69033 | C31: 69322 | D31: 70113 | E31: 70291 | F31: 70505 | G31: 70000 | H31: 70246 | I31: 71466 | J31: 72658 | K31: 73117 | L31: 73007 | M31: 71016 | N31: 72978 | O31: 73463 | P31: 75166 | Q31: 77466
A32: Belgique | B32: 239179 | C32: 240770 | D32: 243762 | E32: 246650 | F32: 248472 | G32: 248628 | H32: 250468 | I32: 253504 | J32: 256816 | K32: 257357 | L32: 257373 | M32: 254852 | N32: 258095 | O32: 258475 | P32: 263634 | Q32: 266903
A33: % Région bruxelloise/Belgique | B33: 14.10868 | C33: 13.861361 | D33: 13.572665 | E33: 13.300223 | F33: 13.219598 | G33: 13.135689 | H33: 13.17334 | I33: 13.033325 | J33: 12.994517 | K33: 13.087268 | L33: 12.957459 | M33: 12.940059 | N33: 12.965768 | O33: 12.741658 | P33: 12.741658 | Q33: 12.795285
A34: * Sont comprises les entreprises étrangères sans implantation en Belgique comptabilisées en Région bruxelloise mais auxquelles n'est pas attribuées une commune spécifique.
A35: Note : Jusqu'en 2002, les données sont établies au 30 juin. A partir de 2003, elles sont établies au 31 décembre.
A36: Source : ONSS, calculs view.brussels
A38: Total | B38: 2008 | C38: 2009 | D38: 2010 | E38: 2011 | F38: 2012 | G38: 2013 | H38: 2014 | I38: 2015 | J38: 2016 | K38: 2017 | L38: 2018 | M38: 2019 | N38: 2020 | O38: 2021 | P38: 2022 | Q38: 2023 | R38: % communes/ Région (2023) | S38: Var. 2022-2023
S39: v.a. | T39: %
A40: Anderlecht | B40: 2551 | C40: 2583 | D40: 2608 | E40: 2609 | F40: 2615 | G40: 2468 | H40: 2661 | I40: 2638 | J40: 2745 | K40: 2782 | L40: 2814 | M40: 2856 | N40: 2836 | O40: 2891 | P40: 2936 | Q40: 2944 | R40: =Q40/Q$60*100 -> 7.663673 | S40: =Q40-P40 -> 8 | T40: =((Q40/P40)-1)*100 -> 0.27247956
A41: Auderghem | B41: 868 | C41: 884 | D41: 891 | E41: 886 | F41: 902 | G41: 930 | H41: 906 | I41: 917 | J41: 908 | K41: 936 | L41: 958 | M41: 956 | N41: 927 | O41: 952 | P41: 921 | Q41: 888 | R41: =Q41/Q$60*100 -> 2.311597 | S41: =Q41-P41 -> -33 | T41: =((Q41/P41)-1)*100 -> -3.5830619
A42: Berchem-Ste-Agathe | B42: 468 | C42: 497 | D42: 480 | E42: 468 | F42: 490 | G42: 505 | H42: 500 | I42: 508 | J42: 513 | K42: 517 | L42: 546 | M42: 573 | N42: 581 | O42: 604 | P42: 579 | Q42: 587 | R42: =Q42/Q$60*100 -> 1.5280489 | S42: =Q42-P42 -> 8 | T42: =((Q42/P42)-1)*100 -> 1.3816926
A43: Bruxelles | B43: 9869 | C43: 10471 | D43: 10605 | E43: 10870 | F43: 11081 | G43: 11649 | H43: 10154 | I43: 10253 | J43: 10408 | K43: 10557 | L43: 10729 | M43: 10848 | N43: 10723 | O43: 10975 | P43: 10985 | Q43: 11104 | R43: =Q43/Q$60*100 -> 28.905376 | S43: =Q43-P43 -> 119 | T43: =((Q43/P43)-1)*100 -> 1.0832954
A44: Etterbeek | B44: 1434 | C44: 1358 | D44: 1355 | E44: 1375 | F44: 1419 | G44: 1418 | H44: 1525 | I44: 1501 | J44: 1540 | K44: 1596 | L44: 1612 | M44: 1623 | N44: 1602 | O44: 1609 | P44: 1619 | Q44: 1576 | R44: =Q44/Q$60*100 -> 4.1025641 | S44: =Q44-P44 -> -43 | T44: =((Q44/P44)-1)*100 -> -2.6559605
A45: Evere | B45: 730 | C45: 755 | D45: 738 | E45: 750 | F45: 741 | G45: 776 | H45: 749 | I45: 768 | J45: 805 | K45: 805 | L45: 840 | M45: 835 | N45: 857 | O45: 900 | P45: 906 | Q45: 902 | R45: =Q45/Q$60*100 -> 2.3480411 | S45: =Q45-P45 -> -4 | T45: =((Q45/P45)-1)*100 -> -0.4415011
A46: gorest | B46: 1122 | C46: 1117 | D46: 1101 | E46: 1124 | F46: 1100 | G46: 1036 | H46: 1071 | I46: 1064 | J46: 1117 | K46: 1129 | L46: 1142 | M46: 1176 | N46: 1161 | O46: 1210 | P46: 1206 | Q46: 1219 | R46: =Q46/Q$60*100 -> 3.1732396 | S46: =Q46-P46 -> 13 | T46: =((Q46/P46)-1)*100 -> 1.0779436
A47: Ganshoren | B47: 374 | C47: 384 | D47: 395 | E47: 387 | F47: 379 | G47: 369 | H47: 372 | I47: 376 | J47: 394 | K47: 405 | L47: 392 | M47: 402 | N47: 389 | O47: 401 | P47: 394 | Q47: 373 | R47: =Q47/Q$60*100 -> 0.97097488 | S47: =Q47-P47 -> -21 | T47: =((Q47/P47)-1)*100 -> -5.3299492
A48: Ixelles | B48: 3450 | C48: 3128 | D48: 3079 | E48: 3032 | F48: 3010 | G48: 2917 | H48: 3411 | I48: 3475 | J48: 3660 | K48: 3722 | L48: 3810 | M48: 3835 | N48: 3835 | O48: 3924 | P48: 3927 | Q48: 3933 | R48: =Q48/Q$60*100 -> 10.238188 | S48: =Q48-P48 -> 6 | T48: =((Q48/P48)-1)*100 -> 0.15278839
A49: Jette | B49: 827 | C49: 840 | D49: 861 | E49: 857 | F49: 825 | G49: 819 | H49: 816 | I49: 821 | J49: 856 | K49: 873 | L49: 874 | M49: 879 | N49: 865 | O49: 897 | P49: 869 | Q49: 887 | R49: =Q49/Q$60*100 -> 2.3089939 | S49: =Q49-P49 -> 18 | T49: =((Q49/P49)-1)*100 -> 2.0713464
A50: Koekelberg | B50: 332 | C50: 320 | D50: 323 | E50: 325 | F50: 311 | G50: 286 | H50: 299 | I50: 289 | J50: 305 | K50: 305 | L50: 318 | M50: 327 | N50: 306 | O50: 310 | P50: 322 | Q50: 338 | R50: =Q50/Q$60*100 -> 0.87986464 | S50: =Q50-P50 -> 16 | T50: =((Q50/P50)-1)*100 -> 4.9689441
A51: Molenbeek-St-Jean | B51: 1486 | C51: 1515 | D51: 1544 | E51: 1581 | F51: 1552 | G51: 1544 | H51: 1564 | I51: 1547 | J51: 1583 | K51: 1628 | L51: 1610 | M51: 1650 | N51: 1661 | O51: 1724 | P51: 1728 | Q51: 1741 | R51: =Q51/Q$60*100 -> 4.5320838 | S51: =Q51-P51 -> 13 | T51: =((Q51/P51)-1)*100 -> 0.75231481
... A58: Woluwe-St-Pierre | B58: 1127 | C58: 1122 | D58: 1115 | E58: 1114 | F58: 1089 | G58: 1048 | H58: 1020 | I58: 1032 | J58: 1075 | K58: 1082 | L58: 1099 | M58: 1104 | N58: 1115 | O58: 1115 | P58: 1109 | Q58: 1121 | R58: =Q58/Q$60*100 -> 2.9181309 | S58: =Q58-P58 -> 12 | T58: =((Q58/P58)-1)*100 -> 1.0820559
A59: Commune non déterminée* | B59: _ | C59: _ | D59: _ | E59: _ | F59: _ | G59: _ | H59: 856 | I59: 689 | J59: 732 | K59: 716 | L59: 765 | M59: 776 | N59: 799 | O59: 877 | P59: 921 | Q59: 912 | R59: =Q59/Q$60*100 -> 2.3740726 | S59: =Q59-P59 -> -9 | T59: =((Q59/P59)-1)*100 -> -0.9771987
A60: Région bruxelloise | B60: 34123 | C60: 34428 | D60: 34462 | E60: 34825 | F60: 34820 | G60: 34881 | H60: 35348 | I60: 35275 | J60: 36394 | K60: =SUM(K40:K59) -> 36906 | L60: =SUM(L40:L59) -> 37462 | M60: =SUM(M40:M59) -> 37907 | N60: =SUM(N40:N59) -> 37584 | O60: =SUM(O40:O59) -> 38493 | P60: =SUM(P40:P59) -> 38412 | Q60: 38415 | R60: =Q60/Q$60*100 -> 100 | S60: =Q60-P60 -> 3 | T60: =((Q60/P60)-1)*100 -> 0.0078100594
A61: Région flamande | B61: 157342 | C61: 159404 | D61: 159356 | E61: 158498 | F61: 158016 | G61: 158418 | H61: 161642 | I61: 162041 | J61: 165861 | K61: 168054 | L61: 170048 | M61: 172162 | N61: 172507 | O61: 176599 | P61: 176328 | Q61: 175233 | S61: =Q61-P61 -> -1095 | T61: =((Q61/P61)-1)*100 -> -0.62100177
A62: Région wallonne | B62: 78257 | C62: 79566 | D62: 80618 | E62: 81076 | F62: 80722 | G62: 80839 | H62: 83245 | I62: 83745 | J62: 86585 | K62: 87836 | L62: 88180 | M62: 88515 | N62: 88259 | O62: 90601 | P62: 90614 | Q62: 89683 | S62: =Q62-P62 -> -931 | T62: =((Q62/P62)-1)*100 -> -1.0274351
A63: Belgique | B63: 269736 | C63: 273398 | D63: 274436 | E63: 274399 | F63: 273558 | G63: 274138 | H63: 279379 | I63: 281061 | J63: 288840 | K63: =SUM(K60:K62) -> 292796 | L63: =SUM(L60:L62) -> 295690 | M63: =SUM(M60:M62) -> 298584 | N63: =SUM(N60:N62) -> 298350 | O63: =SUM(O60:O62) -> 305693 | P63: =SUM(P60:P62) -> 305354 | Q63: 303331 | S63: =Q63-P63 -> -2023 | T63: =((Q63/P63)-1)*100 -> -0.66250974
A64: % Région bruxelloise/Belgique | B64: 12.739203 | C64: 12.592631 | D64: 12.691373 | E64: 12.691373 | F64: 12.728562 | G64: 12.723884 | H64: 12.345953 | I64: 12.550656 | J64: 12.600055 | K64: =K60/K63*100 -> 12.60468 | L64: =L60/L63*100 -> 12.66935 | M64: =M60/M63*100 -> 12.69559 | N64: =N60/N63*100 -> 12.597285 | O64: =O60/O63*100 -> 12.592045 | P64: =P60/P63*100 -> 12.579498 | Q64: =Q60/Q63*100 -> 12.664383
A65: * Sont comprises les entreprises étrangères sans implantation en Belgique comptabilisées en Région bruxelloise mais auxquelles n'est pas attribuées une commune spécifique.
A66: Note : Jusqu'en 2002, les données sont établies au 30 juin. A partir de 2003, elles sont établies au 31 décembre.
A67: Source : ONSS, calculs view.brussels

Sheet F.5.2
A1: F. Caractéristiques des communes de la Région bruxelloise | I1: Retour au menu
A3: F.5. Etablissements
A5: Tableau F.5.2 : Etablissements par commune bruxelloise et par région selon la taille d'établissement et le type d'activité (31 décembre 2023)
A7: (nombre) | B7: Total | C7: Taille d'établissement | F7: Type d'activité | H7: Postes de travail/ établissement
C8: 1 à 49 | D8: 50 à 199 | E8: 200 et + | F8: Privé | G8: Public
A9: Anderlecht | B9: 2944 | C9: 2779 | D9: 117 | E9: 48 | F9: 2702 | G9: 242 | H9: ='F.4.3'!K9/'F.5.2'!B9 -> 18.433764
A10: Auderghem | B10: 888 | C10: 835 | D10: 48 | E10: 5 | F10: 794 | G10: 94 | H10: ='F.4.3'!K10/'F.5.2'!B10 -> 16.281532
A11: Berchem-Ste-Agathe | B11: 587 | C11: 553 | D11: 28 | E11: 6 | F11: 524 | G11: 63 | H11: ='F.4.3'!K11/'F.5.2'!B11 -> 16.499148
A12: Bruxelles | B12: 11104 | C12: 10427 | D12: 495 | E12: 182 | F12: 9989 | G12: 1115 | H12: ='F.4.3'!K12/'F.5.2'!B12 -> 21.850594
A13: Etterbeek | B13: 1576 | C13: 1513 | D13: 52 | E13: 11 | F13: 1456 | G13: 120 | H13: ='F.4.3'!K13/'F.5.2'!B13 -> 13.144036
A14: Evere | B14: 902 | C14: 839 | D14: 52 | E14: 11 | F14: 804 | G14: 98 | H14: ='F.4.3'!K14/'F.5.2'!B14 -> 25.032151
A15: Forest | B15: 1219 | C15: 1168 | D15: 40 | E15: 11 | F15: 1095 | G15: 124 | H15: ='F.4.3'!K15/'F.5.2'!B15 -> 13.899098
A16: Ganshoren | B16: 373 | C16: 354 | D16: 18 | E16: 1 | F16: 327 | G16: 46 | H16: ='F.4.3'!K16/'F.5.2'!B16 -> 10.710456
A17: Ixelles | B17: 3933 | C17: 3816 | D17: 96 | E17: 21 | F17: 3783 | G17: 150 | H17: ='F.4.3'!K17/'F.5.2'!B17 -> 10.517671
A18: Jette | B18: 887 | C18: 839 | D18: 41 | E18: 7 | F18: 793 | G18: 94 | H18: ='F.4.3'!K18/'F.5.2'!B18 -> 16.721533
A19: Koekelberg | B19: 338 | C19: 328 | D19: 9 | E19: 1 | F19: 306 | G19: 32 | H19: ='F.4.3'!K19/'F.5.2'!B19 -> 7.8195266
A20: Molenbeek-St-Jean | B20: 1741 | C20: 1663 | D20: 57 | E20: 21 | F20: 1542 | G20: 199 | H20: ='F.4.3'!K20/'F.5.2'!B20 -> 14.691557
... A28: Commune non déterminée* | B28: 912 | C28: 910 | D28: 2 | E28: 0 | F28: 911 | G28: 1 | H28: ='F.4.3'!K28/'F.5.2'!B28 -> 2.2565789
A29: Région bruxelloise | B29: 38415 | C29: =SUM(C9:C28) -> 36505 | D29: =SUM(D9:D28) -> 1440 | E29: =SUM(E9:E28) -> 470 | F29: =SUM(F9:F28) -> 35070 | G29: =SUM(G9:G28) -> 3345 | H29: ='F.4.3'!K29/'F.5.2'!B29 -> 17.041781
A30: Région flamande | B30: 175233 | C30: 166055 | D30: 7716 | E30: 1462 | F30: 161184 | G30: 14049
A31: Région wallonne | B31: 89683 | C31: 85637 | D31: 3435 | E31: 611 | F31: 79962 | G31: 9721
A32: Belgique | B32: =SUM(B29:B31) -> 303331 | C32: =SUM(C29:C31) -> 288197 | D32: =SUM(D29:D31) -> 12591 | E32: =SUM(E29:E31) -> 2543 | F32: =SUM(F29:F31) -> 276216 | G32: =SUM(G29:G31) -> 27115
A33: % Région bruxelloise/Belgique | B33: =B29/B32*100 -> 12.664383 | C33: =C29/C32*100 -> 12.666683 | D33: =D29/D32*100 -> 11.436741 | E33: =E29/E32*100 -> 18.482108 | F33: =F29/F32*100 -> 12.696585 | G33: =G29/G32*100 -> 12.336345
A34: * Sont comprises les entreprises étrangères sans implantation en Belgique comptabilisées en Région bruxelloise mais auxquelles n'est pas attribuées une commune spécifique.
A35: Source : ONSS, calculs view.brussels
A37: (%) | B37: Total | C37: Taille d'établissement | F37: Type d'activité
C38: 1 à 49 | D38: 50 à 199 | E38: 200 et + | F38: Privé | G38: Public
A39: Anderlecht | B39: =B9/B$29*100 -> 7.663673 | C39: =C9/$B9*100 -> 94.39538 | D39: =D9/$B9*100 -> 3.9741848 | E39: =E9/$B9*100 -> 1.6304348 | F39: =F9/$B9*100 -> 91.779891 | G39: =G9/$B9*100 -> 8.2201087
A40: Auderghem | B40: =B10/B$29*100 -> 2.311597 | C40: =C10/$B10*100 -> 94.031532 | D40: =D10/$B10*100 -> 5.4054054 | E40: =E10/$B10*100 -> 0.56306306 | F40: =F10/$B10*100 -> 89.414414 | G40: =G10/$B10*100 -> 10.585586
A41: Berchem-Ste-Agathe | B41: =B11/B$29*100 -> 1.5280489 | C41: =C11/$B11*100 -> 94.207836 | D41: =D11/$B11*100 -> 4.770017 | E41: =E11/$B11*100 -> 1.0221465 | F41: =F11/$B11*100 -> 89.267462 | G41: =G11/$B11*100 -> 10.732538
A42: Bruxelles | B42: =B12/B$29*100 -> 28.905376 | C42: =C12/$B12*100 -> 93.903098 | D42: =D12/$B12*100 -> 4.457853 | E42: =E12/$B12*100 -> 1.639049 | F42: =F12/$B12*100 -> 89.958573 | G42: =G12/$B12*100 -> 10.041427
A43: Etterbeek | B43: =B13/B$29*100 -> 4.1025641 | C43: =C13/$B13*100 -> 96.002538 | D43: =D13/$B13*100 -> 3.2994924 | E43: =E13/$B13*100 -> 0.69796954 | F43: =F13/$B13*100 -> 92.385787 | G43: =G13/$B13*100 -> 7.6142132
A44: Evere | B44: =B14/B$29*100 -> 2.3480411 | C44: =C14/$B14*100 -> 93.015521 | D44: =D14/$B14*100 -> 5.7649667 | E44: =E14/$B14*100 -> 1.2195122 | F44: =F14/$B14*100 -> 89.135255 | G44: =G14/$B14*100 -> 10.864745
A45: Forest | B45: =B15/B$29*100 -> 3.1732396 | C45: =C15/$B15*100 -> 95.816243 | D45: =D15/$B15*100 -> 3.2813782 | E45: =E15/$B15*100 -> 0.902379 | F45: =F15/$B15*100 -> 89.827728 | G45: =G15/$B15*100 -> 10.172272
A46: Ganshoren | B46: =B16/B$29*100 -> 0.97097488 | C46: =C16/$B16*100 -> 94.906166 | D46: =D16/$B16*100 -> 4.8257373 | E46: =E16/$B16*100 -> 0.26809651 | F46: =F16/$B16*100 -> 87.66756 | G46: =G16/$B16*100 -> 12.33244
A47: Ixelles | B47: =B17/B$29*100 -> 10.238188 | C47: =C17/$B17*100 -> 97.025172 | D47: =D17/$B17*100 -> 2.4408848 | E47: =E17/$B17*100 -> 0.53394355 | F47: =F17/$B17*100 -> 96.186117 | G47: =G17/$B17*100 -> 3.8138825
A48: Jette | B48: =B18/B$29*100 -> 2.3089939 | C48: =C18/$B18*100 -> 94.588501 | D48: =D18/$B18*100 -> 4.6223224 | E48: =E18/$B18*100 -> 0.789177 | F48: =F18/$B18*100 -> 89.40248 | G48: =G18/$B18*100 -> 10.59752
A49: Koekelberg | B49: =B19/B$29*100 -> 0.87986464 | C49: =C19/$B19*100 -> 97.04142 | D49: =D19/$B19*100 -> 2.6627219 | E49: =E19/$B19*100 -> 0.29585799 | F49: =F19/$B19*100 -> 90.532544 | G49: =G19/$B19*100 -> 9.4674556
A50: Molenbeek-St-Jean | B50: =B20/B$29*100 -> 4.5320838 | C50: =C20/$B20*100 -> 95.519816 | D50: =D20/$B20*100 -> 3.2739805 | E50: =E20/$B20*100 -> 1.2062033 | F50: =F20/$B20*100 -> 88.569787 | G50: =G20/$B20*100 -> 11.430213
... A59: Région bruxelloise | B59: =B29/B$29*100 -> 100 | C59: =C29/$B29*100 -> 95.027984 | D59: =D29/$B29*100 -> 3.7485357 | E59: =E29/$B29*100 -> 1.2234804 | F59: =F29/$B29*100 -> 91.292464 | G59: =G29/$B29*100 -> 8.7075361
A60: Région flamande | C60: =C30/$B30*100 -> 94.762402 | D60: =D30/$B30*100 -> 4.4032802 | E60: =E30/$B30*100 -> 0.83431774 | F60: =F30/$B30*100 -> 91.982674 | G60: =G30/$B30*100 -> 8.0173255
A61: Région wallonne | C61: =C31/$B31*100 -> 95.488554 | D61: =D31/$B31*100 -> 3.8301573 | E61: =E31/$B31*100 -> 0.68128854 | F61: =F31/$B31*100 -> 89.160711 | G61: =G31/$B31*100 -> 10.839289
A62: Belgique | C62: =C32/$B32*100 -> 95.010731 | D62: =D32/$B32*100 -> 4.1509111 | E62: =E32/$B32*100 -> 0.8383581 | F62: =F32/$B32*100 -> 91.06092 | G62: =G32/$B32*100 -> 8.9390798
A63: * Sont comprises les entreprises étrangères sans implantation en Belgique comptabilisées en Région bruxelloise mais auxquelles n'est pas attribuées une commune spécifique.
A64: Source : ONSS, calculs view.brussels

Sheet F.5.3
A1: F. Caractéristiques des communes de la Région bruxelloise | W1: Retour au menu
A3: F.5. Etablissements
A5: Tableau F.5.3 : Etablissements par commune bruxelloise et par région selon le secteur d'activité (31 décembre 2023)
A8: (nombre) | B8: Agriculture, sylviculture et pêche | C8: Industries extractives | D8: Industrie manufacturière | E8: Production et distribution d'électricité, de gaz, de vapeur et d'air conditionné | F8: Production et distribution d'eau; assainissement, gestion des déchets et dépollution | G8: Construction | H8: Commerce de gros et de detail; réparation de vehicules automobiles et de motocycles | I8: Transports et entreposage | J8: Hébergement et restauration | K8: Information et communication | L8: Activités financières et d'assurance | M8: Activités immobilières | N8: Activités spécialisées, scientifiques et techniques | O8: Activités de services administratifs et de soutien | P8: Administration publique et defense; securie sociale obligatoire | Q8: Enseignement | R8: Santé humaine et action sociale | S8: Arts, spectacles et activités récréatives | T8: Autres activités de services | U8: Activités des ménages en tant qu'employeurs; activités indifférenciées des ménages en tant que producteurs de biens et services pour usage propre | V8: Activités des organismes extra-territoriaux | W8: Total général
A11: Anderlecht | B11: 5 | D11: 148 | E11: 2 | F11: 4 | G11: 246 | H11: 842 | I11: 223 | J11: 240 | K11: 77 | L11: 40 | M11: 98 | N11: 155 | O11: 155 | P11: 36 | Q11: 198 | R11: 238 | S11: 79 | T11: 153 | U11: 4 | V11: 1 | W11: 2944
A12: Auderghem | C12: 1 | D12: 21 | F12: 2 | G12: 44 | H12: 141 | I12: 13 | J12: 66 | K12: 47 | L12: 43 | M12: 61 | N12: 116 | O12: 49 | P12: 18 | Q12: 62 | R12: 69 | S12: 52 | T12: 69 | U12: 11 | V12: 3 | W12: 888
A13: Berchem-Ste-Agathe | D13: 26 | G13: 55 | H13: 128 | I13: 44 | J13: 33 | K13: 26 | L13: 23 | M13: 18 | N13: 54 | O13: 37 | P13: 14 | Q13: 39 | R13: 58 | S13: 12 | T13: 19 | U13: 1 | W13: 587
A14: Bruxelles | B14: 4 | D14: 232 | E14: 18 | F14: 25 | G14: 319 | H14: 2023 | I14: 389 | J14: 1382 | K14: 498 | L14: 396 | M14: 391 | N14: 1144 | O14: 556 | P14: 453 | Q14: 558 | R14: 590 | S14: 399 | T14: 1485 | U14: 49 | V14: 193 | W14: 11104
A15: Etterbeek | B15: 2 | D15: 34 | E15: 1 | G15: 54 | H15: 257 | I15: 54 | J15: 151 | K15: 84 | L15: 43 | M15: 85 | N15: 184 | O15: 71 | P15: 22 | Q15: 102 | R15: 139 | S15: 45 | T15: 210 | U15: 15 | V15: 23 | W15: 1576
A16: Evere | D16: 24 | F16: 3 | G16: 84 | H16: 144 | I16: 57 | J16: 65 | K16: 70 | L16: 25 | M16: 38 | N16: 55 | O16: 80 | P16: 25 | Q16: 48 | R16: 74 | S16: 27 | T16: 63 | U16: 3 | V16: 17 | W16: 902
A17: Forest | D17: 50 | E17: 1 | F17: 10 | G17: 98 | H17: 190 | I17: 70 | J17: 84 | K17: 62 | L17: 16 | M17: 49 | N17: 116 | O17: 81 | P17: 26 | Q17: 91 | R17: 119 | S17: 82 | T17: 66 | U17: 7 | V17: 1 | W17: 1219
A18: Ganshoren | D18: 13 | G18: 36 | H18: 49 | I18: 24 | J18: 22 | K18: 14 | L18: 6 | M18: 30 | N18: 25 | O18: 29 | P18: 5 | Q18: 36 | R18: 50 | S18: 9 | T18: 25 | W18: 373
A19: Ixelles | B19: 2 | D19: 81 | E19: 4 | F19: 4 | G19: 93 | H19: 727 | I19: 84 | J19: 542 | K19: 226 | L19: 127 | M19: 282 | N19: 532 | O19: 191 | P19: 25 | Q19: 138 | R19: 213 | S19: 150 | T19: 407 | U19: 77 | V19: 28 | W19: 3933
A20: Jette | D20: 27 | E20: 1 | G20: 78 | H20: 187 | I20: 53 | J20: 72 | K20: 19 | L20: 18 | M20: 37 | N20: 52 | O20: 73 | P20: 17 | Q20: 76 | R20: 89 | S20: 32 | T20: 52 | U20: 4 | W20: 887
A21: Koekelberg | D21: 12 | G21: 26 | H21: 61 | I21: 25 | J21: 25 | K21: 19 | L21: 7 | M21: 17 | N21: 33 | O21: 23 | P21: 6 | Q21: 27 | R21: 29 | S21: 9 | T21: 18 | U21: 1 | W21: 338
A22: Molenbeek-St-Jean | D22: 54 | F22: 3 | G22: 98 | H22: 407 | I22: 165 | J22: 121 | K22: 36 | L22: 28 | M22: 53 | N22: 97 | O22: 90 | P22: 54 | Q22: 144 | R22: 209 | S22: 81 | T22: 91 | U22: 9 | V22: 1 | W22: 1741
A23: St-Gilles | B23: 1 | D23: 43 | E23: 1 | F23: 2 | G23: 60 | H23: 286 | I23: 66 | J23: 299 | K23: 65 | L23: 33 | M23: 52 | N23: 141 | O23: 78 | P23: 51 | Q23: 98 | R23: 139 | S23: 101 | T23: 157 | U23: 14 | V23: 3 | W23: 1690
A24: St-Josse-ten-Noode | D24: 13 | E24: 3 | F24: 1 | G24: 37 | H24: 110 | I24: 21 | J24: 90 | K24: 27 | L24: 51 | M24: 17 | N24: 65 | O24: 59 | P24: 37 | Q24: 56 | R24: 75 | S24: 45 | T24: 126 | W24: 833
A25: Schaerbeek | B25: 2 | D25: 65 | E25: 1 | F25: 7 | G25: 191 | H25: 539 | I25: 182 | J25: 259 | K25: 97 | L25: 45 | M25: 89 | N25: 173 | O25: 171 | P25: 69 | Q25: 201 | R25: 273 | S25: 115 | T25: 228 | U25: 12 | V25: 9 | W25: 2728
A26: Uccle | B26: 4 | D26: 50 | F26: 5 | G26: 109 | H26: 512 | I26: 44 | J26: 200 | K26: 105 | L26: 65 | M26: 250 | N26: 314 | O26: 116 | P26: 22 | Q26: 173 | R26: 245 | S26: 87 | T26: 144 | U26: 90 | V26: 11 | W26: 2546
A27: Watermael-Boitsfort | B27: 3 | D27: 12 | G27: 35 | H27: 103 | I27: 3 | J27: 57 | K27: 47 | L27: 39 | M27: 54 | N27: 173 | O27: 27 | P27: 9 | Q27: 32 | R27: 59 | S27: 19 | T27: 46 | U27: 9 | V27: 3 | W27: 730
A28: Woluwe-St-Lambert | B28: 3 | D28: 27 | F28: 2 | G28: 47 | H28: 297 | I28: 20 | J28: 128 | K28: 60 | L28: 37 | M28: 107 | N28: 109 | O28: 70 | P28: 21 | Q28: 115 | R28: 137 | S28: 42 | T28: 121 | U28: 14 | V28: 6 | W28: 1363
A29: Woluwe-St-Pierre | B29: 1 | D29: 23 | F29: 2 | G29: 35 | H29: 173 | I29: 9 | J29: 75 | K29: 44 | L29: 51 | M29: 102 | N29: 146 | O29: 54 | P29: 11 | Q29: 86 | R29: 107 | S29: 28 | T29: 105 | U29: 48 | V29: 21 | W29: 1121
A30: Commune non déterminée* | B30: 2 | C30: 2 | D30: 22 | E30: 6 | G30: 10 | H30: 258 | I30: 15 | J30: 1 | K30: 113 | L30: 48 | M30: 1 | N30: 217 | O30: 30 | Q30: 20 | R30: 8 | S30: 9 | T30: 121 | U30: 22 | V30: 7 | W30: 912
A31: Région bruxelloise | B31: 29 | C31: 3 | D31: 977 | E31: 38 | F31: 70 | G31: 1755 | H31: 7434 | I31: 1561 | J31: 3912 | K31: 1736 | L31: 1141 | M31: 1831 | N31: 3901 | O31: 2040 | P31: 921 | Q31: 2300 | R31: 2920 | S31: 1423 | T31: 3706 | U31: 390 | V31: 327 | W31: 38415
A32: Région flamande | B32: 3667 | C32: 33 | D32: 11045 | E32: 134 | F32: 905 | G32: 18858 | H32: 40660 | I32: 7466 | J32: 16341 | K32: 4711 | L32: 6049 | M32: 3562 | N32: 13549 | O32: 10063 | P32: 3345 | Q32: 8565 | R32: 11737 | S32: 4308 | T32: 6561 | U32: 3662 | V32: 12 | W32: 175233
A33: Région wallonne | B33: 1676 | C33: 81 | D33: 5131 | E33: 101 | F33: 625 | G33: 10118 | H33: 20455 | I33: 2532 | J33: 8051 | K33: 1736 | L33: 2409 | M33: 1735 | N33: 6642 | O33: 4726 | P33: 2647 | Q33: 5844 | R33: 6869 | S33: 2613 | T33: 5414 | U33: 269 | V33: 9 | W33: 89683
A34: Belgique | B34: =SUM(B31:B33) -> 5372 | C34: =SUM(C31:C33) -> 117 | D34: =SUM(D31:D33) -> 17153 | E34: =SUM(E31:E33) -> 273 | F34: =SUM(F31:F33) -> 1600 | G34: =SUM(G31:G33) -> 30731 | H34: =SUM(H31:H33) -> 68549 | I34: =SUM(I31:I33) -> 11559 | ... V34: =SUM(V31:V33) -> 348 | W34: =SUM(B34:V34) -> 303331
A35: % Région bruxelloise/Belgique | B35: =B31/B34*100 -> 0.53983619 | C35: =C31/C34*100 -> 2.5641026 | D35: =D31/D34*100 -> 5.6957967 | E35: =E31/E34*100 -> 13.919414 | F35: =F31/F34*100 -> 4.375 | G35: =G31/G34*100 -> 5.7108457 | H35: =H31/H34*100 -> 10.844797 | I35: =I31/I34*100 -> 13.504628 | ... W35: =W31/W34*100 -> 12.664383
A36: * Concerne les postes de travail salarié dans une entreprise étrangère sans unité locale d'établissement en Belgique. Ceux-ci sont comptabilisés au sein de la région bruxelloise mais ne sont pas attribués à une commune spécifique.
A38: Source : ONSS, calculs view.brussels
A41: (%) | B41: Agriculture, sylviculture et pêche | C41: Industries extractives | D41: Industrie manufacturière | E41: Production et distribution d'électricité, de gaz, de vapeur et d'air conditionné | F41: Production et distribution d'eau; assainissement, gestion des déchets et dépollution | G41: Construction | H41: Commerce de gros et de detail; réparation de vehicules automobiles et de motocycles | I41: Transports et entreposage | J41: Hébergement et restauration | K41: Information et communication | L41: Activités financières et d'assurance | M41: Activités immobilières | N41: Activités spécialisées, scientifiques et techniques | O41: Activités de services administratifs et de soutien | P41: Administration publique et defense; securie sociale obligatoire | Q41: Enseignement | R41: Santé humaine et action sociale | S41: Arts, spectacles et activités récréatives | T41: Autres activités de services | U41: Activités des ménages en tant qu'employeurs; activités indifférenciées des ménages en tant que producteurs de biens et services pour usage propre | V41: Activités des organismes extra-territoriaux | W41: Total général
A44: Anderlecht | B44: =B11/$W11*100 -> 0.16983696 | C44: =C11/$W11*100 -> 0 | D44: =D11/$W11*100 -> 5.0271739 | E44: =E11/$W11*100 -> 0.067934783 | F44: =F11/$W11*100 -> 0.13586957 | G44: =G11/$W11*100 -> 8.3559783 | H44: =H11/$W11*100 -> 28.600543 | I44: =I11/$W11*100 -> 7.5747283 | ... W44: =W11/$W11*100 -> 100
A45: Auderghem | B45: =B12/$W12*100 -> 0 | C45: =C12/$W12*100 -> 0.11261261 | D45: =D12/$W12*100 -> 2.3648649 | E45: =E12/$W12*100 -> 0 | F45: =F12/$W12*100 -> 0.22522523 | G45: =G12/$W12*100 -> 4.954955 | H45: =H12/$W12*100 -> 15.878378 | I45: =I12/$W12*100 -> 1.463964 | ... W45: =W12/$W12*100 -> 100
A46: Berchem-Ste-Agathe | B46: =B13/$W13*100 -> 0 | C46: =C13/$W13*100 -> 0 | D46: =D13/$W13*100 -> 4.4293015 | E46: =E13/$W13*100 -> 0 | F46: =F13/$W13*100 -> 0 | G46: =G13/$W13*100 -> 9.3696763 | H46: =H13/$W13*100 -> 21.805792 | I46: =I13/$W13*100 -> 7.4957411 | ... W46: =W13/$W13*100 -> 100
A47: Bruxelles | B47: =B14/$W14*100 -> 0.036023055 | C47: =C14/$W14*100 -> 0 | D47: =D14/$W14*100 -> 2.0893372 | E47: =E14/$W14*100 -> 0.16210375 | F47: =F14/$W14*100 -> 0.22514409 | G47: =G14/$W14*100 -> 2.8728386 | H47: =H14/$W14*100 -> 18.21866 | I47: =I14/$W14*100 -> 3.5032421 | ... W47: =W14/$W14*100 -> 100
A48: Etterbeek | B48: =B15/$W15*100 -> 0.12690355 | C48: =C15/$W15*100 -> 0 | D48: =D15/$W15*100 -> 2.1573604 | E48: =E15/$W15*100 -> 0.063451777 | F48: =F15/$W15*100 -> 0 | G48: =G15/$W15*100 -> 3.4263959 | H48: =H15/$W15*100 -> 16.307107 | I48: =I15/$W15*100 -> 3.4263959 | ... W48: =W15/$W15*100 -> 100
A49: Evere | B49: =B16/$W16*100 -> 0 | C49: =C16/$W16*100 -> 0 | D49: =D16/$W16*100 -> 2.6607539 | E49: =E16/$W16*100 -> 0 | F49: =F16/$W16*100 -> 0.33259424 | G49: =G16/$W16*100 -> 9.3126386 | H49: =H16/$W16*100 -> 15.964523 | I49: =I16/$W16*100 -> 6.3192905 | ... W49: =W16/$W16*100 -> 100
A50: Forest | B50: =B17/$W17*100 -> 0 | C50: =C17/$W17*100 -> 0 | D50: =D17/$W17*100 -> 4.1017227 | E50: =E17/$W17*100 -> 0.082034454 | F50: =F17/$W17*100 -> 0.82034454 | G50: =G17/$W17*100 -> 8.0393765 | H50: =H17/$W17*100 -> 15.586546 | I50: =I17/$W17*100 -> 5.7424118 | ... W50: =W17/$W17*100 -> 100
A51: Ganshoren | B51: =B18/$W18*100 -> 0 | C51: =C18/$W18*100 -> 0 | D51: =D18/$W18*100 -> 3.4852547 | E51: =E18/$W18*100 -> 0 | F51: =F18/$W18*100 -> 0 | G51: =G18/$W18*100 -> 9.6514745 | H51: =H18/$W18*100 -> 13.136729 | I51: =I18/$W18*100 -> 6.4343164 | ... W51: =W18/$W18*100 -> 100
A52: Ixelles | B52: =B19/$W19*100 -> 0.050851767 | C52: =C19/$W19*100 -> 0 | D52: =D19/$W19*100 -> 2.0594966 | E52: =E19/$W19*100 -> 0.10170353 | F52: =F19/$W19*100 -> 0.10170353 | G52: =G19/$W19*100 -> 2.3646072 | H52: =H19/$W19*100 -> 18.484617 | I52: =I19/$W19*100 -> 2.1357742 | ... W52: =W19/$W19*100 -> 100
A53: Jette | B53: =B20/$W20*100 -> 0 | C53: =C20/$W20*100 -> 0 | D53: =D20/$W20*100 -> 3.0439684 | E53: =E20/$W20*100 -> 0.11273957 | F53: =F20/$W20*100 -> 0 | G53: =G20/$W20*100 -> 8.7936866 | H53: =H20/$W20*100 -> 21.0823 | I53: =I20/$W20*100 -> 5.9751973 | ... W53: =W20/$W20*100 -> 100
A54: Koekelberg | B54: =B21/$W21*100 -> 0 | C54: =C21/$W21*100 -> 0 | D54: =D21/$W21*100 -> 3.5502959 | E54: =E21/$W21*100 -> 0 | F54: =F21/$W21*100 -> 0 | G54: =G21/$W21*100 -> 7.6923077 | H54: =H21/$W21*100 -> 18.047337 | I54: =I21/$W21*100 -> 7.3964497 | ... W54: =W21/$W21*100 -> 100
A55: Molenbeek-St-Jean | B55: =B22/$W22*100 -> 0 | C55: =C22/$W22*100 -> 0 | D55: =D22/$W22*100 -> 3.1016657 | E55: =E22/$W22*100 -> 0 | F55: =F22/$W22*100 -> 0.17231476 | G55: =G22/$W22*100 -> 5.6289489 | H55: =H22/$W22*100 -> 23.377369 | I55: =I22/$W22*100 -> 9.4773119 | ... W55: =W22/$W22*100 -> 100
... A67: Belgique | B67: =B34/$W34*100 -> 1.7710026 | C67: =C34/$W34*100 -> 0.038571725 | D67: =D34/$W34*100 -> 5.6548787 | E67: =E34/$W34*100 -> 0.090000692 | F67: =F34/$W34*100 -> 0.52747658 | G67: =G34/$W34*100 -> 10.131177 | H67: =H34/$W34*100 -> 22.598745 | I67: =I34/$W34*100 -> 3.8106887 | ... W67: =W34/$W34*100 -> 100
A68: * Concerne les postes de travail salarié dans une entreprise étrangère sans unité locale d'établissement en Belgique. Ceux-ci sont comptabilisés au sein de la région bruxelloise mais ne sont pas attribués à une commune spécifique.
A70: Source : ONSS, calculs view.brussels

Sheet F.6.1
A1: F. Caractéristiques des communes de la Région bruxelloise | R1: Retour au menu
A3: F.6. Emploi indépendant
A5: Tableau F.6.1 : Evolution des indépendants par commune bruxelloise et région (1990-2024)
A7: (nombre) | B7: 1990 | C7: 1991 | D7: 1992 | E7: 1993 | F7: 1994 | G7: 1995 | H7: 1996 | I7: 1997 | J7: 1998 | K7: 1999 | L7: 2000 | M7: 2001 | N7: 2002 | O7: 2003* | P7: 2004 | Q7: 2005 | R7: 2006
A9: Anderlecht | B9: 4980 | C9: 4778 | D9: 4662 | E9: 4554 | F9: 4494 | G9: 4482 | H9: 4587 | I9: 4578 | J9: 4570 | K9: 4519 | L9: 4597 | M9: 4553 | N9: 4596 | O9: 4884 | P9: 5125 | Q9: 5327 | R9: 5536
A10: Auderghem | B10: 2007 | C10: 1996 | D10: 2007 | E10: 2026 | F10: 1967 | G10: 2091 | H10: 2310 | I10: 2284 | J10: 2254 | K10: 2247 | L10: 2176 | M10: 2152 | N10: 2112 | O10: 2226 | P10: 2165 | Q10: 2235 | R10: 2316
A11: Berchem-Ste-Agathe | B11: 1089 | C11: 1137 | D11: 1113 | E11: 1155 | F11: 1146 | G11: 1127 | H11: 1269 | I11: 1174 | J11: 1166 | K11: 1183 | L11: 1206 | M11: 1199 | N11: 1158 | O11: 1224 | P11: 1368 | Q11: 1373 | R11: 1437
A12: Bruxelles | B12: 12129 | C12: 12627 | D12: 13419 | E12: 14952 | F12: 15698 | G12: 9411 | H12: 7320 | I12: 8706 | J12: 9032 | K12: 9198 | L12: 9307 | M12: 9310 | N12: 9276 | O12: 9828 | P12: 10030 | Q12: 10351 | R12: 10730
A13: Etterbeek | B13: 2584 | C13: 2545 | D13: 2657 | E13: 2648 | F13: 2629 | G13: 2753 | H13: 2993 | I13: 2925 | J13: 2874 | K13: 2894 | L13: 2898 | M13: 2890 | N13: 2859 | O13: 2968 | P13: 3030 | Q13: 2960 | R13: 3065
A14: Evere | B14: 1351 | C14: 1351 | D14: 1355 | E14: 1351 | F14: 1348 | G14: 1359 | H14: 1446 | I14: 1509 | J14: 1508 | K14: 1506 | L14: 1473 | M14: 1465 | N14: 1495 | O14: 1575 | P14: 1624 | Q14: 1643 | R14: 1727
A15: Forest | B15: 2970 | C15: 2959 | D15: 2899 | E15: 2825 | F15: 2773 | G15: 3007 | H15: 3261 | I15: 3328 | J15: 3370 | K15: 3351 | L15: 3421 | M15: 3449 | N15: 3523 | O15: 3743 | P15: 3777 | Q15: 3847 | R15: 3949
A16: Ganshoren | B16: 1270 | C16: 1269 | D16: 1272 | E16: 1305 | F16: 1314 | G16: 1204 | H16: 1184 | I16: 1343 | J16: 1283 | K16: 1270 | L16: 1257 | M16: 1218 | N16: 1222 | O16: 1288 | P16: 1222 | Q16: 1245 | R16: 1342
A17: Ixelles | B17: 5966 | C17: 5835 | D17: 5891 | E17: 5942 | F17: 5796 | G17: 6225 | H17: 6718 | I17: 6731 | J17: 6735 | K17: 6810 | L17: 6797 | M17: 6811 | N17: 6826 | O17: 7019 | P17: 7155 | Q17: 7219 | R17: 7267
A18: Jette | B18: 2291 | C18: 2252 | D18: 2230 | E18: 2218 | F18: 2160 | G18: 2282 | H18: 2355 | I18: 2385 | J18: 2352 | K18: 2334 | L18: 2383 | M18: 2368 | N18: 2350 | O18: 2476 | P18: 2477 | Q18: 2509 | R18: 2641
A19: Koekelberg | B19: 879 | C19: 861 | D19: 870 | E19: 862 | F19: 852 | G19: 798 | H19: 886 | I19: 911 | J19: 932 | K19: 905 | L19: 927 | M19: 938 | N19: 913 | O19: 998 | P19: 1218 | Q19: 1178 | R19: 1262
A20: Molenbeek-St-Jean | B20: 3165 | C20: 3131 | D20: 3037 | E20: 3000 | F20: 2996 | G20: 3121 | H20: 3378 | I20: 3218 | J20: 3192 | K20: 3156 | L20: 3237 | M20: 3243 | N20: 3267 | O20: 3528 | P20: 3227 | Q20: 3386 | R20: 3613
... A32: % Région bruxelloise/Belgique | B32: 9.2768469 | C32: 9.0842439 | D32: 9.1605745 | E32: 9.0996169 | F32: 8.9460191 | G32: 8.3204831 | H32: 8.3213256 | I32: 8.2077943 | J32: 8.413331 | K32: 8.4128896 | L32: 8.4508897 | M32: 8.4539123 | N32: 8.4791194 | O32: 8.2901579 | P32: 8.3748505 | Q32: 8.4672398 | R32: 8.5974467
A34: * À partir du 1er janvier 2003, tous les conjoints aidants sont obligés de souscrire au dit mini-statut et sont repris dans les statistiques.
A35: Sources : Inasti, Steunpunt-WSE, calculs view.brussels
A37: (nombre) | B37: 2007 | C37: 2008 | D37: 2009 | E37: 2010 | F37: 2011 | G37: 2012 | H37: 2013 | I37: 2014 | J37: 2015 | K37: 2016 | L37: 2017 | M37: 2018 | N37: 2019 | O37: 2020 | P37: 2021 | Q37: 2022 | R37: 2023 | S37: 2024 | T37: En % (2024) | U37: Var. 2023-2024
U38: v.a. | V38: %
A39: Anderlecht | B39: 6125 | C39: 6625 | D39: 6758 | E39: 7088 | F39: 7591 | G39: 8299 | H39: 8498 | I39: 8886 | J39: 9319 | K39: 9693 | L39: 10159 | M39: 10791 | N39: 11161 | O39: 11477 | P39: 11926 | Q39: 11879 | R39: 11784 | S39: 11934 | T39: =S39/S$58*100 -> 9.4751133 | U39: =S39-R39 -> 150 | V39: =((S39/R39)-1)*100 -> 1.2729124
A40: Auderghem | B40: 2370 | C40: 2473 | D40: 2511 | E40: 2604 | F40: 2623 | G40: 2732 | H40: 2799 | I40: 2865 | J40: 2906 | K40: 2989 | L40: 3123 | M40: 3218 | N40: 3290 | O40: 3439 | P40: 3537 | Q40: 3557 | R40: 3619 | S40: 3773 | T40: =S40/S$58*100 -> 2.9956094 | U40: =S40-R40 -> 154 | V40: =((S40/R40)-1)*100 -> 4.2553191
A41: Berchem-Ste-Agathe | B41: 1498 | C41: 1635 | D41: 1654 | E41: 1715 | F41: 1792 | G41: 1844 | H41: 1937 | I41: 1995 | J41: 2037 | K41: 2086 | L41: 2113 | M41: 2160 | N41: 2285 | O41: 2301 | P41: 2345 | Q41: 2412 | R41: 2496 | S41: 2568 | T41: =S41/S$58*100 -> 2.0388881 | U41: =S41-R41 -> 72 | V41: =((S41/R41)-1)*100 -> 2.8846154
A42: Bruxelles | B42: 11473 | C42: 11899 | D42: 11940 | E42: 12206 | F42: 12638 | G42: 13223 | H42: 13441 | I42: 14028 | J42: 14560 | K42: 14535 | L42: 14639 | M42: 15037 | N42: 15670 | O42: 16451 | P42: 17431 | Q42: 17861 | R42: 18263 | S42: 18719 | T42: =S42/S$58*100 -> 14.862129 | U42: =S42-R42 -> 456 | V42: =((S42/R42)-1)*100 -> 2.4968516
A43: Etterbeek | B43: 3223 | C43: 3327 | D43: 3338 | E43: 3436 | F43: 3530 | G43: 3710 | H43: 3812 | I43: 3932 | J43: 4117 | K43: 4212 | L43: 4280 | M43: 4344 | N43: 4493 | O43: 4631 | P43: 4655 | Q43: 4679 | R43: 4717 | S43: 4793 | T43: =S43/S$58*100 -> 3.8054482 | U43: =S43-R43 -> 76 | V43: =((S43/R43)-1)*100 -> 1.6111936
A44: Evere | B44: 1864 | C44: 1996 | D44: 2022 | E44: 2076 | F44: 2114 | G44: 2219 | H44: 2314 | I44: 2287 | J44: 2363 | K44: 2482 | L44: 2621 | M44: 2735 | N44: 2774 | O44: 2960 | P44: 3100 | Q44: 3159 | R44: 3257 | S44: 3383 | T44: =S44/S$58*100 -> 2.6859652 | U44: =S44-R44 -> 126 | V44: =((S44/R44)-1)*100 -> 3.8685907
A45: Forest | B45: 4184 | C45: 4411 | D45: 4335 | E45: 4537 | F45: 4623 | G45: 4838 | H45: 4978 | I45: 5104 | J45: 5328 | K45: 5507 | L45: 5669 | M45: 5835 | N45: 6032 | O45: 6175 | P45: 6324 | Q45: 6512 | R45: 6517 | S45: 6646 | T45: =S45/S$58*100 -> 5.2766552 | U45: =S45-R45 -> 129 | V45: =((S45/R45)-1)*100 -> 1.9794384
A46: Ganshoren | B46: 1472 | C46: 1409 | D46: 1449 | E46: 1490 | F46: 1546 | G46: 1605 | H46: 1664 | I46: 1826 | J46: 1928 | K46: 2083 | L46: 2158 | M46: 2263 | N46: 2362 | O46: 2445 | P46: 2570 | Q46: 2670 | R46: 2713 | S46: 2686 | T46: =S46/S$58*100 -> 2.1325754 | U46: =S46-R46 -> -27 | V46: =((S46/R46)-1)*100 -> -0.99520826
A47: Ixelles | B47: 7515 | C47: 7663 | D47: 7646 | E47: 7739 | F47: 7911 | G47: 8165 | H47: 8332 | I47: 8693 | J47: 9038 | K47: 9112 | L47: 9285 | M47: 9412 | N47: 9676 | O47: 9948 | P47: 10137 | Q47: 10214 | R47: 10272 | S47: 10475 | T47: =S47/S$58*100 -> 8.3167263 | U47: =S47-R47 -> 203 | V47: =((S47/R47)-1)*100 -> 1.9762461
A48: Jette | B48: 2868 | C48: 2942 | D48: 3041 | E48: 3217 | F48: 3351 | G48: 3570 | H48: 3712 | I48: 3902 | J48: 4075 | K48: 4269 | L48: 4454 | M48: 4677 | N48: 4770 | O48: 5033 | P48: 5216 | Q48: 5355 | R48: 5554 | S48: 5735 | T48: =S48/S$58*100 -> 4.5533581 | U48: =S48-R48 -> 181 | V48: =((S48/R48)-1)*100 -> 3.2589125
A49: Koekelberg | B49: 1329 | C49: 1403 | D49: 1462 | E49: 1504 | F49: 1578 | G49: 1694 | H49: 1763 | I49: 1840 | J49: 1891 | K49: 1957 | L49: 2050 | M49: 2075 | N49: 2168 | O49: 2307 | P49: 2397 | Q49: 2536 | R49: 2552 | S49: 2634 | T49: =S49/S$58*100 -> 2.0912895 | U49: =S49-R49 -> 82 | V49: =((S49/R49)-1)*100 -> 3.2131661
A50: Molenbeek-St-Jean | B50: 4061 | C50: 4485 | D50: 4583 | E50: 4753 | F50: 5099 | G50: 5410 | H50: 5478 | I50: 5645 | J50: 5879 | K50: 6024 | L50: 6224 | M50: 6475 | N50: 6690 | O50: 6747 | P50: 6966 | Q50: 7102 | R50: 7058 | S50: 7335 | T50: =S50/S$58*100 -> 5.8236933 | U50: =S50-R50 -> 277 | V50: =((S50/R50)-1)*100 -> 3.9246245
... A57: Woluwe-St-Pierre | B57: 3322 | C57: 3408 | D57: 3459 | E57: 3526 | F57: 3618 | G57: 3726 | H57: 3825 | I57: 3921 | J57: 4019 | K57: 4075 | L57: 4136 | M57: 4177 | N57: 4300 | O57: 4423 | P57: 4460 | Q57: 4506 | R57: 4500 | S57: 4627 | T57: =S57/S$58*100 -> 3.6736509 | U57: =S57-R57 -> 127 | V57: =((S57/R57)-1)*100 -> 2.8222222
A58: Région bruxelloise | B58: 79832 | C58: 83271 | D58: 84176 | E58: 86630 | F58: 89366 | G58: 93924 | H58: 95872 | I58: 98772 | J58: 102295 | K58: 104487 | L58: 107384 | M58: =SUM(M39:M57) -> 110492 | N58: 114482 | O58: 118143 | P58: 121785 | Q58: 123391 | R58: 123872 | S58: 125951 | T58: =S58/S$58*100 -> 100 | U58: =S58-R58 -> 2079 | V58: =((S58/R58)-1)*100 -> 1.6783454
A59: Région flamande | B59: 561603 | C59: 572813 | D59: 579984 | E59: 590763 | F59: 600722 | G59: 609355 | H59: 616289 | I59: 625098 | J59: 635507 | K59: 649565 | L59: 667232 | M59: 682436 | N59: 703409 | O59: 730228 | P59: 760688 | Q59: 779249 | R59: 796801 | S59: 810508 | U59: =S59-R59 -> 13707 | V59: =((S59/R59)-1)*100 -> 1.7202539
A60: Région wallonne | B60: 255816 | C60: 259799 | D60: 261786 | E60: 265782 | F60: 269984 | G60: 275192 | H60: 278871 | I60: 282649 | J60: 284831 | K60: 293067 | L60: 300745 | M60: 306516 | N60: 313516 | O60: 321969 | P60: 332386 | Q60: 338640 | R60: 343215 | S60: 348710 | U60: =S60-R60 -> 5495 | V60: =((S60/R60)-1)*100 -> 1.6010373
